{"text_format":"1","workbook":"xlsx","n_sheets":6,"sheets":["Players","M AddPlayer","F ResCalc","M PosCalc","M Graph","M Random"],"not_rendered":{"charts":0,"images":0,"macros":1,"external_links":2,"defined_names":12,"comments":0,"pivot_tables":0},"unopened":[{"sheet":"M AddPlayer","index":1,"reason":"part_missing"},{"sheet":"F ResCalc","index":2,"reason":"part_missing"},{"sheet":"M PosCalc","index":3,"reason":"part_missing"},{"sheet":"M Graph","index":4,"reason":"part_missing"},{"sheet":"M Random","index":5,"reason":"part_missing"}],"bounds":{"document_bytes":16777216,"sheet_cells":100000,"rows_first":2000,"rows_last":500,"rows_between":2000,"halvings":0,"cell_chars":16384,"cell_head_chars":4096},"cells_cut":0,"cells_raw":0,"read":"whole","date_system":"1900"}

{"sheet":"Players","index":0,"n_rows":69,"n_cols":460,"rows_kept":69,"cut":false,"hidden":false,"merged":[[55,2,55,3],[56,2,56,3],[0,447,0,450],[0,427,0,430],[0,431,0,434],[0,435,0,438],[0,439,0,442],[0,443,0,446],[0,407,0,410],[0,411,0,414],[0,415,0,418],[0,419,0,422],[0,423,0,426],[0,387,0,390],[0,391,0,394],[0,395,0,398],[0,399,0,402],[0,403,0,406],[0,367,0,370],[0,371,0,374],[0,375,0,378],[0,379,0,382],[0,383,0,386],[0,347,0,350],[0,351,0,354],[0,355,0,358],[0,359,0,362],[0,363,0,366],[0,327,0,330],[0,331,0,334],[0,335,0,338],[0,339,0,342],[0,343,0,346],[0,311,0,314],[0,315,0,318],[0,319,0,322],[0,323,0,326],[0,295,0,298],[0,299,0,302],[0,303,0,306],[0,307,0,310],[0,275,0,278],[0,279,0,282],[0,283,0,286],[0,287,0,290],[0,291,0,294],[0,7,0,10],[0,11,0,14],[0,15,0,18],[0,19,0,22],[0,27,0,30],[0,31,0,34],[0,35,0,38],[0,59,0,62],[0,51,0,54],[0,23,0,26],[0,55,0,58],[0,39,0,42],[0,43,0,46],[0,47,0,50],[0,63,0,66],[0,83,0,86],[0,147,0,150],[0,131,0,134],[0,135,0,138],[0,67,0,70],[0,87,0,90],[0,91,0,94],[0,71,0,74],[0,75,0,78],[0,79,0,82],[0,155,0,158],[0,103,0,106],[0,95,0,98],[0,99,0,102],[0,119,0,122],[0,151,0,154],[0,183,0,186],[0,163,0,166],[0,107,0,110],[0,111,0,114],[0,115,0,118],[0,139,0,142],[0,143,0,146],[0,123,0,126],[0,127,0,130],[0,159,0,162],[0,179,0,182],[0,167,0,170],[0,175,0,178],[0,451,0,454],[0,203,0,206],[0,207,0,210],[0,171,0,174],[0,187,0,190],[0,195,0,198],[0,247,0,250],[0,251,0,254],[0,231,0,234],[0,235,0,238],[0,239,0,242],[0,243,0,246],[0,211,0,214],[0,199,0,202],[0,191,0,194],[0,215,0,218],[0,255,0,258],[0,259,0,262],[0,263,0,266],[0,267,0,270],[0,271,0,274],[0,227,0,230],[0,219,0,222],[0,223,0,226]]}
[null,null,null,null,null,null,null,"Martin Foster",null,null,null,"David Jackson",null,null,null,"Jens Dekeyser",null,null,null,"Louis Maylin",null,null,null,"Ian Maylin",null,null,null,"Ian Woodland",null,null,null,"Fran Carbone",null,null,null,"Jack Clayton",null,null,null,"Karen Woodland",null,null,null,"Andrew Woodland",null,null,null,"Malcolm Clayton",null,null,null,"Liam Pattison",null,null,null,"Chris Staples",null,null,null,"Jenny Burgess",null,null,null,"Andrew Burgess",null,null,null,"Steve Bell",null,null,null,"Judith Bell",null,null,null,"Andy Maylin",null,null,null,"Sue Overend",null,null,null,"John Overend",null,null,null,"Loic Martens",null,null,null,"Wesley Piters",null,null,null,"Carl Van Geysel",null,null,null,"Stijn Stengele",null,null,null,"Lee Henderson",null,null,null,"Ray Charlton",null,null,null,"Richard Scorer",null,null,null,"Joe Glackin",null,null,null,"Philip Hornby",null,null,null,"Karen Connerney",null,null,null,"Andrew Hammond",null,null,null,"Barry Braine",null,null,null,"Jack Braine",null,null,null,"Sophia Braine",null,null,null,"Tony Cathrew",null,null,null,"Glen Fulham",null,null,null,"Hannah Braine",null,null,null,"Dave Herbert",null,null,null,"Rhoda Miles",null,null,null,"Kevin West",null,null,null,"Terry Bennett",null,null,null,"Fiona Bennett",null,null,null,"Alfie Bennett",null,null,null,"Helena Bennett",null,null,null,"Wal West",null,null,null,"Graham Clayton",null,null,null,"Tom Clayton",null,null,null,"Joe Kendal",null,null,null,"Matt Bowld",null,null,null,"Dan Clarke",null,null,null,"Oscar Brown",null,null,null,"Vid Brownlee",null,null,null,"Diana Brownlee",null,null,null,"Chris Maylin",null,null,null,"Lindy Berry",null,null,null,"Steve Berry",null,null,null,"Andrew Foggo",null,null,null,"John Irwin",null,null,null,"Nigel Newman",null,null,null,"Andy Kay",null,null,null,"John Walshe",null,null,null,"Lawrence Barnard",null,null,null,"Andy Mallett",null,null,null,"Andy Breen",null,null,null,"Michael Frain",null,null,null,"Adrian Jones",null,null,null,"Steve James",null,null,null,"Molly James",null,null,null,"Claire Yates",null,null,null,"Dan Newell",null,null,null,"Jack Newell",null,null,null,"Jonathan Harriss",null,null,null,"Neil Thompson",null,null,null,"Rob Pitman",null,null,null,"John Whittle",null,null,null,"Farzad Mohebati",null,null,null,"Andy Turvil",null,null,null,"Richard Cogan",null,null,null,"Vitalii Caisin",null,null,null,"Jack O'Toole",null,null,null,"Jon Jackson",null,null,null,"Gordon Geddes",null,null,null,"Mark Akhurst",null,null,null,"Jon Gregory",null,null,null,"Chaz Brookes",null,null,null,"Stewie Burgess",null,null,null,"Matt Burgess",null,null,null,"Sam Thompson",null,null,null,"Alex Berry",null,null,null,"Sam May",null,null,null,"Scott McEvoy",null,null,null,"Dick Falkner",null,null,null,"Amy Bridge",null,null,null,"Josh Lucas",null,null,null,"Theo Smout",null,null,null,"James Evans",null,null,null,"Sam King",null,null,null,"Sam Merrick",null,null,null,"Elliot Taylor",null,null,null,"Connor Falkner",null,null,null,"Rob Collins",null,null,null,"Hamish Owen",null,null,null,"George Geaves",null,null,null,"Jack Butler",null,null,null,"Beth Hemming",null,null,null,"Moeti Sparks",null,null,null,"Tess Bannister",null,null,null,"Cat Moreira",null,null,null,"Jes Moon",null,null,null,"Tony Martin",null,null,null,"Dan Hughes",null,null,null,"Steve Melton"]
["DATE",null,"MATCH",null,"RESULT",null,null,"Pred.",null,null,"Points","Pred.",null,null,"Points","Pred.",null,null,"Points","Pred.",null,null,"Points","Pred.",null,null,"Points","Pred.",null,null,"Points","Pred.",null,null,"Points","Pred.",null,null,"Points","Pred.",null,null,"Points","Pred.",null,null,"Points","Pred.",null,null,"Points","Pred.",null,null,"Points","Pred.",null,null,"Points","Pred.",null,null,"Points","Pred.",null,null,"Points","Pred.",null,null,"Points","Pred.",null,null,"Points","Pred.",null,null,"Points","Pred.",null,null,"Points","Pred.",null,null,"Points","Pred.",null,null,"Points","Pred.",null,null,"Points","Pred.",null,null,"Points","Pred.",null,null,"Points","Pred.",null,null,"Points","Pred.",null,null,"Points","Pred.",null,null,"Points","Pred.",null,null,"Points","Pred.",null,null,"Points","Pred.",null,null,"Points","Pred.",null,null,"Points","Pred.",null,null,"Points","Pred.",null,null,"Points","Pred.",null,null,"Points","Pred.",null,null,"Points","Pred.",null,null,"Points","Pred.",null,null,"Points","Pred.",null,null,"Points","Pred.",null,null,"Points","Pred.",null,null,"Points","Pred.",null,null,"Points","Pred.",null,null,"Points","Pred.",null,null,"Points","Pred.",null,null,"Points","Pred.",null,null,"Points","Pred.",null,null,"Points","Pred.",null,null,"Points","Pred.",null,null,"Points","Pred.",null,null,"Points","Pred.",null,null,"Points","Pred.",null,null,"Points","Pred.",null,null,"Points","Pred.",null,null,"Points","Pred.",null,null,"Points","Pred.",null,null,"Points","Pred.",null,null,"Points","Pred.",null,null,"Points","Pred.",null,null,"Points","Pred.",null,null,"Points","Pred.",null,null,"Points","Pred.",null,null,"Points","Pred.",null,null,"Points","Pred.",null,null,"Points","Pred.",null,null,"Points","Pred.",null,null,"Points","Pred.",null,null,"Points","Pred.",null,null,"Points","Pred.",null,null,"Points","Pred.",null,null,"Points","Pred.",null,null,"Points","Pred.",null,null,"Points","Pred.",null,null,"Points","Pred.",null,null,"Points","Pred.",null,null,"Points","Pred.",null,null,"Points","Pred.",null,null,"Points","Pred.",null,null,"Points","Pred.",null,null,"Points","Pred.",null,null,"Points","Pred.",null,null,"Points","Pred.",null,null,"Points","Pred.",null,null,"Points","Pred.",null,null,"Points","Pred.",null,null,"Points","Pred.",null,null,"Points","Pred.",null,null,"Points","Pred.",null,null,"Points","Pred.",null,null,"Points","Pred.",null,null,"Points","Pred.",null,null,"Points","Pred.",null,null,"Points","Pred.",null,null,"Points","Pred.",null,null,"Points","Pred.",null,null,"Points","Pred.",null,null,"Points","Pred.",null,null,"Points","Pred.",null,null,"Points","Pred.",null,null,"Points","Pred.",null,null,"Points","Pred.",null,null,"Points","Pred.",null,null,"Points","Pred.",null,null,"Points","Pred.",null,null,"Points","Pred.",null,null,"Points","Pred.",null,null,"Points","Pred.",null,null,"Points","Pred.",null,null,"Points","Pred.",null,null,"Points","Pred.",null,null,"Points","Pred.",null,null,"Points","Pred.",null,null,"Points","Pred.",null,null,"Points",null,"No of Red Tens","Total Points","Highest Score","No. Getting Score"]
["2021-06-11",1,"Turkey","Italy",0,"-",3,1,"-",1,{"$f":"ResultsCalc(Players!$E3,Players!$G3,Players!H3,Players!J3)","v":0},2,"-",2,{"$f":"ResultsCalc(Players!$E3,Players!$G3,Players!L3,Players!N3)","v":0},0,"-",0,{"$f":"ResultsCalc(Players!$E3,Players!$G3,Players!P3,Players!R3)","v":2},0,"-",2,{"$f":"ResultsCalc(Players!$E3,Players!$G3,Players!T3,Players!V3)","v":6},0,"-",3,{"$f":"ResultsCalc(Players!$E3,Players!$G3,Players!X3,Players!Z3)","v":13},1,"-",2,{"$f":"ResultsCalc(Players!$E3,Players!$G3,Players!AB3,Players!AD3)","v":4},0,"-",2,{"$f":"ResultsCalc(Players!$E3,Players!$G3,Players!AF3,Players!AH3)","v":6},1,"-",2,{"$f":"ResultsCalc(Players!$E3,Players!$G3,Players!AJ3,Players!AL3)","v":4},1,"-",2,{"$f":"ResultsCalc(Players!$E3,Players!$G3,Players!AN3,Players!AP3)","v":4},0,"-",1,{"$f":"ResultsCalc(Players!$E3,Players!$G3,Players!AR3,Players!AT3)","v":6},0,"-",1,{"$f":"ResultsCalc(Players!$E3,Players!$G3,Players!AV3,Players!AX3)","v":6},0,"-",2,{"$f":"ResultsCalc(Players!$E3,Players!$G3,Players!AZ3,Players!BB3)","v":6},0,"-",1,{"$f":"ResultsCalc(Players!$E3,Players!$G3,Players!BD3,Players!BF3)","v":6},2,"-",1,{"$f":"ResultsCalc(Players!$E3,Players!$G3,Players!BH3,Players!BJ3)","v":0},0,"-",1,{"$f":"ResultsCalc(Players!$E3,Players!$G3,Players!BL3,Players!BN3)","v":6},1,"-",1,{"$f":"ResultsCalc(Players!$E3,Players!$G3,Players!BP3,Players!BR3)","v":0},1,"-",2,{"$f":"ResultsCalc(Players!$E3,Players!$G3,Players!BT3,Players!BV3)","v":4},1,"-",1,{"$f":"ResultsCalc(Players!$E3,Players!$G3,Players!BX3,Players!BZ3)","v":0},1,"-",1,{"$f":"ResultsCalc(Players!$E3,Players!$G3,Players!CB3,Players!CD3)","v":0},0,"-",0,{"$f":"ResultsCalc(Players!$E3,Players!$G3,Players!CF3,Players!CH3)","v":2},0,"-",2,{"$f":"ResultsCalc(Players!$E3,Players!$G3,Players!CJ3,Players!CL3)","v":6},1,"-",2,{"$f":"ResultsCalc(Players!$E3,Players!$G3,Players!CN3,Players!CP3)","v":4},0,"-",1,{"$f":"ResultsCalc(Players!$E3,Players!$G3,Players!CR3,Players!CT3)","v":6},1,"-",1,{"$f":"ResultsCalc(Players!$E3,Players!$G3,Players!CV3,Players!CX3)","v":0},0,"-",2,{"$f":"ResultsCalc(Players!$E3,Players!$G3,Players!CZ3,Players!DB3)","v":6},1,"-",2,{"$f":"ResultsCalc(Players!$E3,Players!$G3,Players!DD3,Players!DF3)","v":4},0,"-",2,{"$f":"ResultsCalc(Players!$E3,Players!$G3,Players!DH3,Players!DJ3)","v":6},0,"-",1,{"$f":"ResultsCalc(Players!$E3,Players!$G3,Players!DL3,Players!DN3)","v":6},1,"-",2,{"$f":"ResultsCalc(Players!$E3,Players!$G3,Players!DP3,Players!DR3)","v":4},0,"-",2,{"$f":"ResultsCalc(Players!$E3,Players!$G3,Players!DT3,Players!DV3)","v":6},1,"-",3,{"$f":"ResultsCalc(Players!$E3,Players!$G3,Players!DX3,Players!DZ3)","v":6},2,"-",0,{"$f":"ResultsCalc(Players!$E3,Players!$G3,Players!EB3,Players!ED3)","v":0},2,"-",1,{"$f":"ResultsCalc(Players!$E3,Players!$G3,Players!EF3,Players!EH3)","v":0},1,"-",2,{"$f":"ResultsCalc(Players!$E3,Players!$G3,Players!EJ3,Players!EL3)","v":4},1,"-",2,{"$f":"ResultsCalc(Players!$E3,Players!$G3,Players!EN3,Players!EP3)","v":4},0,"-",2,{"$f":"ResultsCalc(Players!$E3,Players!$G3,Players!ER3,Players!ET3)","v":6},0,"-",2,{"$f":"ResultsCalc(Players!$E3,Players!$G3,Players!EV3,Players!EX3)","v":6},0,"-",1,{"$f":"ResultsCalc(Players!$E3,Players!$G3,Players!EZ3,Players!FB3)","v":6},1,"-",2,{"$f":"ResultsCalc(Players!$E3,Players!$G3,Players!FD3,Players!FF3)","v":4},1,"-",1,{"$f":"ResultsCalc(Players!$E3,Players!$G3,Players!FH3,Players!FJ3)","v":0},1,"-",2,{"$f":"ResultsCalc(Players!$E3,Players!$G3,Players!FL3,Players!FN3)","v":4},1,"-",1,{"$f":"ResultsCalc(Players!$E3,Players!$G3,Players!FP3,Players!FR3)","v":0},1,"-",2,{"$f":"ResultsCalc(Players!$E3,Players!$G3,Players!FT3,Players!FV3)","v":4},1,"-",2,{"$f":"ResultsCalc(Players!$E3,Players!$G3,Players!FX3,Players!FZ3)","v":4},1,"-",2,{"$f":"ResultsCalc(Players!$E3,Players!$G3,Players!GB3,Players!GD3)","v":4},0,"-",2,{"$f":"ResultsCalc(Players!$E3,Players!$G3,Players!GF3,Players!GH3)","v":6},0,"-",1,{"$f":"ResultsCalc(Players!$E3,Players!$G3,Players!GJ3,Players!GL3)","v":6},0,"-",3,{"$f":"ResultsCalc(Players!$E3,Players!$G3,Players!GN3,Players!GP3)","v":13},1,"-",2,{"$f":"ResultsCalc(Players!$E3,Players!$G3,Players!GR3,Players!GT3)","v":4},0,"-",2,{"$f":"ResultsCalc(Players!$E3,Players!$G3,Players!GV3,Players!GX3)","v":6},1,"-",3,{"$f":"ResultsCalc(Players!$E3,Players!$G3,Players!GZ3,Players!HB3)","v":6},1,"-",1,{"$f":"ResultsCalc(Players!$E3,Players!$G3,Players!HD3,Players!HF3)","v":0},0,"-",2,{"$f":"ResultsCalc(Players!$E3,Players!$G3,Players!HH3,Players!HJ3)","v":6},0,"-",2,{"$f":"ResultsCalc(Players!$E3,Players!$G3,Players!HL3,Players!HN3)","v":6},1,"-",2,{"$f":"ResultsCalc(Players!$E3,Players!$G3,Players!HP3,Players!HR3)","v":4},0,"-",2,{"$f":"ResultsCalc(Players!$E3,Players!$G3,Players!HT3,Players!HV3)","v":6},0,"-",1,{"$f":"ResultsCalc(Players!$E3,Players!$G3,Players!HX3,Players!HZ3)","v":6},0,"-",3,{"$f":"ResultsCalc(Players!$E3,Players!$G3,Players!IB3,Players!ID3)","v":13},1,"-",2,{"$f":"ResultsCalc(Players!$E3,Players!$G3,Players!IF3,Players!IH3)","v":4},2,"-",1,{"$f":"ResultsCalc(Players!$E3,Players!$G3,Players!IJ3,Players!IL3)","v":0},0,"-",4,{"$f":"ResultsCalc(Players!$E3,Players!$G3,Players!IN3,Players!IP3)","v":6},0,"-",2,{"$f":"ResultsCalc(Players!$E3,Players!$G3,Players!IR3,Players!IT3)","v":6},1,"-",2,{"$f":"ResultsCalc(Players!$E3,Players!$G3,Players!IV3,Players!IX3)","v":4},0,"-",1,{"$f":"ResultsCalc(Players!$E3,Players!$G3,Players!IZ3,Players!JB3)","v":6},0,"-",6,{"$f":"ResultsCalc(Players!$E3,Players!$G3,Players!JD3,Players!JF3)","v":6},0,"-",2,{"$f":"ResultsCalc(Players!$E3,Players!$G3,Players!JH3,Players!JJ3)","v":6},1,"-",2,{"$f":"ResultsCalc(Players!$E3,Players!$G3,Players!JL3,Players!JN3)","v":4},1,"-",2,{"$f":"ResultsCalc(Players!$E3,Players!$G3,Players!JP3,Players!JR3)","v":4},1,"-",2,{"$f":"ResultsCalc(Players!$E3,Players!$G3,Players!JT3,Players!JV3)","v":4},0,"-",2,{"$f":"ResultsCalc(Players!$E3,Players!$G3,Players!JX3,Players!JZ3)","v":6},1,"-",3,{"$f":"ResultsCalc(Players!$E3,Players!$G3,Players!KB3,Players!KD3)","v":6},0,"-",2,{"$f":"ResultsCalc(Players!$E3,Players!$G3,Players!KF3,Players!KH3)","v":6},1,"-",2,{"$f":"ResultsCalc(Players!$E3,Players!$G3,Players!KJ3,Players!KL3)","v":4},0,"-",2,{"$f":"ResultsCalc(Players!$E3,Players!$G3,Players!KN3,Players!KP3)","v":6},1,"-",2,{"$f":"ResultsCalc(Players!$E3,Players!$G3,Players!KR3,Players!KT3)","v":4},1,"-",1,{"$f":"ResultsCalc(Players!$E3,Players!$G3,Players!KV3,Players!KX3)","v":0},1,"-",2,{"$f":"ResultsCalc(Players!$E3,Players!$G3,Players!KZ3,Players!LB3)","v":4},1,"-",2,{"$f":"ResultsCalc(Players!$E3,Players!$G3,Players!LD3,Players!LF3)","v":4},0,"-",2,{"$f":"ResultsCalc(Players!$E3,Players!$G3,Players!LH3,Players!LJ3)","v":6},1,"-",2,{"$f":"ResultsCalc(Players!$E3,Players!$G3,Players!LL3,Players!LN3)","v":4},1,"-",2,{"$f":"ResultsCalc(Players!$E3,Players!$G3,Players!LP3,Players!LR3)","v":4},1,"-",1,{"$f":"ResultsCalc(Players!$E3,Players!$G3,Players!LT3,Players!LV3)","v":0},1,"-",2,{"$f":"ResultsCalc(Players!$E3,Players!$G3,Players!LX3,Players!LZ3)","v":4},0,"-",0,{"$f":"ResultsCalc(Players!$E3,Players!$G3,Players!MB3,Players!MD3)","v":2},0,"-",2,{"$f":"ResultsCalc(Players!$E3,Players!$G3,Players!MF3,Players!MH3)","v":6},1,"-",1,{"$f":"ResultsCalc(Players!$E3,Players!$G3,Players!MJ3,Players!ML3)","v":0},0,"-",2,{"$f":"ResultsCalc(Players!$E3,Players!$G3,Players!MN3,Players!MP3)","v":6},0,"-",2,{"$f":"ResultsCalc(Players!$E3,Players!$G3,Players!MR3,Players!MT3)","v":6},1,"-",3,{"$f":"ResultsCalc(Players!$E3,Players!$G3,Players!MV3,Players!MX3)","v":6},0,"-",2,{"$f":"ResultsCalc(Players!$E3,Players!$G3,Players!MZ3,Players!NB3)","v":6},1,"-",3,{"$f":"ResultsCalc(Players!$E3,Players!$G3,Players!ND3,Players!NF3)","v":6},0,"-",2,{"$f":"ResultsCalc(Players!$E3,Players!$G3,Players!NH3,Players!NJ3)","v":6},1,"-",3,{"$f":"ResultsCalc(Players!$E3,Players!$G3,Players!NL3,Players!NN3)","v":6},1,"-",3,{"$f":"ResultsCalc(Players!$E3,Players!$G3,Players!NP3,Players!NR3)","v":6},0,"-",2,{"$f":"ResultsCalc(Players!$E3,Players!$G3,Players!NT3,Players!NV3)","v":6},0,"-",2,{"$f":"ResultsCalc(Players!$E3,Players!$G3,Players!NX3,Players!NZ3)","v":6},1,"-",3,{"$f":"ResultsCalc(Players!$E3,Players!$G3,Players!OB3,Players!OD3)","v":6},0,"-",1,{"$f":"ResultsCalc(Players!$E3,Players!$G3,Players!OF3,Players!OH3)","v":6},1,"-",2,{"$f":"ResultsCalc(Players!$E3,Players!$G3,Players!OJ3,Players!OL3)","v":4},0,"-",1,{"$f":"ResultsCalc(Players!$E3,Players!$G3,Players!ON3,Players!OP3)","v":6},0,"-",2,{"$f":"ResultsCalc(Players!$E3,Players!$G3,Players!OR3,Players!OT3)","v":6},1,"-",3,{"$f":"ResultsCalc(Players!$E3,Players!$G3,Players!OV3,Players!OX3)","v":6},1,"-",2,{"$f":"ResultsCalc(Players!$E3,Players!$G3,Players!OZ3,Players!PB3)","v":4},0,"-",2,{"$f":"ResultsCalc(Players!$E3,Players!$G3,Players!PD3,Players!PF3)","v":6},1,"-",2,{"$f":"ResultsCalc(Players!$E3,Players!$G3,Players!PH3,Players!PJ3)","v":4},2,"-",3,{"$f":"ResultsCalc(Players!$E3,Players!$G3,Players!PL3,Players!PN3)","v":6},1,"-",3,{"$f":"ResultsCalc(Players!$E3,Players!$G3,Players!PP3,Players!PR3)","v":6},1,"-",2,{"$f":"ResultsCalc(Players!$E3,Players!$G3,Players!PT3,Players!PV3)","v":4},2,"-",0,{"$f":"ResultsCalc(Players!$E3,Players!$G3,Players!PX3,Players!PZ3)","v":0},0,"-",2,{"$f":"ResultsCalc(Players!$E3,Players!$G3,Players!QB3,Players!QD3)","v":6},1,"-",2,{"$f":"ResultsCalc(Players!$E3,Players!$G3,Players!QF3,Players!QH3)","v":4},0,"-",1,{"$f":"ResultsCalc(Players!$E3,Players!$G3,Players!QJ3,Players!QL3)","v":6},null,{"$f":"COUNTIF(H3:QM3,\">9\")","v":3},null,{"$f":"MAX(H3:QM3)","v":13},{"$f":"COUNTIF(H3:QM3,(MAX(H3:QM3)))","v":3}]
["2021-06-12",2,"Wales","Switzerland",1,"-",1,2,"-",1,{"$f":"ResultsCalc(Players!$E4,Players!$G4,Players!H4,Players!J4)","v":2},1,"-",3,{"$f":"ResultsCalc(Players!$E4,Players!$G4,Players!L4,Players!N4)","v":2},0,"-",2,{"$f":"ResultsCalc(Players!$E4,Players!$G4,Players!P4,Players!R4)","v":0},2,"-",2,{"$f":"ResultsCalc(Players!$E4,Players!$G4,Players!T4,Players!V4)","v":6},1,"-",1,{"$f":"ResultsCalc(Players!$E4,Players!$G4,Players!X4,Players!Z4)","v":12},0,"-",2,{"$f":"ResultsCalc(Players!$E4,Players!$G4,Players!AB4,Players!AD4)","v":0},0,"-",1,{"$f":"ResultsCalc(Players!$E4,Players!$G4,Players!AF4,Players!AH4)","v":2},2,"-",2,{"$f":"ResultsCalc(Players!$E4,Players!$G4,Players!AJ4,Players!AL4)","v":6},1,"-",1,{"$f":"ResultsCalc(Players!$E4,Players!$G4,Players!AN4,Players!AP4)","v":12},0,"-",2,{"$f":"ResultsCalc(Players!$E4,Players!$G4,Players!AR4,Players!AT4)","v":0},1,"-",1,{"$f":"ResultsCalc(Players!$E4,Players!$G4,Players!AV4,Players!AX4)","v":12},1,"-",3,{"$f":"ResultsCalc(Players!$E4,Players!$G4,Players!AZ4,Players!BB4)","v":2},1,"-",1,{"$f":"ResultsCalc(Players!$E4,Players!$G4,Players!BD4,Players!BF4)","v":12},2,"-",1,{"$f":"ResultsCalc(Players!$E4,Players!$G4,Players!BH4,Players!BJ4)","v":2},1,"-",1,{"$f":"ResultsCalc(Players!$E4,Players!$G4,Players!BL4,Players!BN4)","v":12},1,"-",1,{"$f":"ResultsCalc(Players!$E4,Players!$G4,Players!BP4,Players!BR4)","v":12},1,"-",1,{"$f":"ResultsCalc(Players!$E4,Players!$G4,Players!BT4,Players!BV4)","v":12},0,"-",1,{"$f":"ResultsCalc(Players!$E4,Players!$G4,Players!BX4,Players!BZ4)","v":2},0,"-",1,{"$f":"ResultsCalc(Players!$E4,Players!$G4,Players!CB4,Players!CD4)","v":2},1,"-",0,{"$f":"ResultsCalc(Players!$E4,Players!$G4,Players!CF4,Players!CH4)","v":2},1,"-",1,{"$f":"ResultsCalc(Players!$E4,Players!$G4,Players!CJ4,Players!CL4)","v":12},0,"-",2,{"$f":"ResultsCalc(Players!$E4,Players!$G4,Players!CN4,Players!CP4)","v":0},0,"-",2,{"$f":"ResultsCalc(Players!$E4,Players!$G4,Players!CR4,Players!CT4)","v":0},0,"-",2,{"$f":"ResultsCalc(Players!$E4,Players!$G4,Players!CV4,Players!CX4)","v":0},1,"-",2,{"$f":"ResultsCalc(Players!$E4,Players!$G4,Players!CZ4,Players!DB4)","v":2},1,"-",1,{"$f":"ResultsCalc(Players!$E4,Players!$G4,Players!DD4,Players!DF4)","v":12},2,"-",1,{"$f":"ResultsCalc(Players!$E4,Players!$G4,Players!DH4,Players!DJ4)","v":2},1,"-",1,{"$f":"ResultsCalc(Players!$E4,Players!$G4,Players!DL4,Players!DN4)","v":12},0,"-",1,{"$f":"ResultsCalc(Players!$E4,Players!$G4,Players!DP4,Players!DR4)","v":2},1,"-",1,{"$f":"ResultsCalc(Players!$E4,Players!$G4,Players!DT4,Players!DV4)","v":12},1,"-",2,{"$f":"ResultsCalc(Players!$E4,Players!$G4,Players!DX4,Players!DZ4)","v":2},1,"-",1,{"$f":"ResultsCalc(Players!$E4,Players!$G4,Players!EB4,Players!ED4)","v":12},1,"-",2,{"$f":"ResultsCalc(Players!$E4,Players!$G4,Players!EF4,Players!EH4)","v":2},1,"-",0,{"$f":"ResultsCalc(Players!$E4,Players!$G4,Players!EJ4,Players!EL4)","v":2},1,"-",1,{"$f":"ResultsCalc(Players!$E4,Players!$G4,Players!EN4,Players!EP4)","v":12},1,"-",1,{"$f":"ResultsCalc(Players!$E4,Players!$G4,Players!ER4,Players!ET4)","v":12},1,"-",1,{"$f":"ResultsCalc(Players!$E4,Players!$G4,Players!EV4,Players!EX4)","v":12},1,"-",1,{"$f":"ResultsCalc(Players!$E4,Players!$G4,Players!EZ4,Players!FB4)","v":12},1,"-",1,{"$f":"ResultsCalc(Players!$E4,Players!$G4,Players!FD4,Players!FF4)","v":12},2,"-",1,{"$f":"ResultsCalc(Players!$E4,Players!$G4,Players!FH4,Players!FJ4)","v":2},1,"-",2,{"$f":"ResultsCalc(Players!$E4,Players!$G4,Players!FL4,Players!FN4)","v":2},2,"-",1,{"$f":"ResultsCalc(Players!$E4,Players!$G4,Players!FP4,Players!FR4)","v":2},1,"-",1,{"$f":"ResultsCalc(Players!$E4,Players!$G4,Players!FT4,Players!FV4)","v":12},2,"-",2,{"$f":"ResultsCalc(Players!$E4,Players!$G4,Players!FX4,Players!FZ4)","v":6},0,"-",0,{"$f":"ResultsCalc(Players!$E4,Players!$G4,Players!GB4,Players!GD4)","v":6},1,"-",1,{"$f":"ResultsCalc(Players!$E4,Players!$G4,Players!GF4,Players!GH4)","v":12},1,"-",1,{"$f":"ResultsCalc(Players!$E4,Players!$G4,Players!GJ4,Players!GL4)","v":12},0,"-",2,{"$f":"ResultsCalc(Players!$E4,Players!$G4,Players!GN4,Players!GP4)","v":0},2,"-",1,{"$f":"ResultsCalc(Players!$E4,Players!$G4,Players!GR4,Players!GT4)","v":2},1,"-",2,{"$f":"ResultsCalc(Players!$E4,Players!$G4,Players!GV4,Players!GX4)","v":2},0,"-",1,{"$f":"ResultsCalc(Players!$E4,Players!$G4,Players!GZ4,Players!HB4)","v":2},1,"-",2,{"$f":"ResultsCalc(Players!$E4,Players!$G4,Players!HD4,Players!HF4)","v":2},0,"-",1,{"$f":"ResultsCalc(Players!$E4,Players!$G4,Players!HH4,Players!HJ4)","v":2},0,"-",1,{"$f":"ResultsCalc(Players!$E4,Players!$G4,Players!HL4,Players!HN4)","v":2},2,"-",1,{"$f":"ResultsCalc(Players!$E4,Players!$G4,Players!HP4,Players!HR4)","v":2},1,"-",1,{"$f":"ResultsCalc(Players!$E4,Players!$G4,Players!HT4,Players!HV4)","v":12},0,"-",1,{"$f":"ResultsCalc(Players!$E4,Players!$G4,Players!HX4,Players!HZ4)","v":2},1,"-",1,{"$f":"ResultsCalc(Players!$E4,Players!$G4,Players!IB4,Players!ID4)","v":12},1,"-",1,{"$f":"ResultsCalc(Players!$E4,Players!$G4,Players!IF4,Players!IH4)","v":12},2,"-",2,{"$f":"ResultsCalc(Players!$E4,Players!$G4,Players!IJ4,Players!IL4)","v":6},0,"-",1,{"$f":"ResultsCalc(Players!$E4,Players!$G4,Players!IN4,Players!IP4)","v":2},1,"-",1,{"$f":"ResultsCalc(Players!$E4,Players!$G4,Players!IR4,Players!IT4)","v":12},1,"-",1,{"$f":"ResultsCalc(Players!$E4,Players!$G4,Players!IV4,Players!IX4)","v":12},1,"-",1,{"$f":"ResultsCalc(Players!$E4,Players!$G4,Players!IZ4,Players!JB4)","v":12},2,"-",2,{"$f":"ResultsCalc(Players!$E4,Players!$G4,Players!JD4,Players!JF4)","v":6},1,"-",1,{"$f":"ResultsCalc(Players!$E4,Players!$G4,Players!JH4,Players!JJ4)","v":12},1,"-",2,{"$f":"ResultsCalc(Players!$E4,Players!$G4,Players!JL4,Players!JN4)","v":2},1,"-",1,{"$f":"ResultsCalc(Players!$E4,Players!$G4,Players!JP4,Players!JR4)","v":12},1,"-",1,{"$f":"ResultsCalc(Players!$E4,Players!$G4,Players!JT4,Players!JV4)","v":12},1,"-",1,{"$f":"ResultsCalc(Players!$E4,Players!$G4,Players!JX4,Players!JZ4)","v":12},2,"-",1,{"$f":"ResultsCalc(Players!$E4,Players!$G4,Players!KB4,Players!KD4)","v":2},1,"-",1,{"$f":"ResultsCalc(Players!$E4,Players!$G4,Players!KF4,Players!KH4)","v":12},0,"-",0,{"$f":"ResultsCalc(Players!$E4,Players!$G4,Players!KJ4,Players!KL4)","v":6},1,"-",2,{"$f":"ResultsCalc(Players!$E4,Players!$G4,Players!KN4,Players!KP4)","v":2},1,"-",1,{"$f":"ResultsCalc(Players!$E4,Players!$G4,Players!KR4,Players!KT4)","v":12},1,"-",3,{"$f":"ResultsCalc(Players!$E4,Players!$G4,Players!KV4,Players!KX4)","v":2},1,"-",0,{"$f":"ResultsCalc(Players!$E4,Players!$G4,Players!KZ4,Players!LB4)","v":2},1,"-",1,{"$f":"ResultsCalc(Players!$E4,Players!$G4,Players!LD4,Players!LF4)","v":12},1,"-",1,{"$f":"ResultsCalc(Players!$E4,Players!$G4,Players!LH4,Players!LJ4)","v":12},1,"-",1,{"$f":"ResultsCalc(Players!$E4,Players!$G4,Players!LL4,Players!LN4)","v":12},1,"-",1,{"$f":"ResultsCalc(Players!$E4,Players!$G4,Players!LP4,Players!LR4)","v":12},0,"-",1,{"$f":"ResultsCalc(Players!$E4,Players!$G4,Players!LT4,Players!LV4)","v":2},2,"-",2,{"$f":"ResultsCalc(Players!$E4,Players!$G4,Players!LX4,Players!LZ4)","v":6},0,"-",0,{"$f":"ResultsCalc(Players!$E4,Players!$G4,Players!MB4,Players!MD4)","v":6},1,"-",1,{"$f":"ResultsCalc(Players!$E4,Players!$G4,Players!MF4,Players!MH4)","v":12},1,"-",3,{"$f":"ResultsCalc(Players!$E4,Players!$G4,Players!MJ4,Players!ML4)","v":2},1,"-",1,{"$f":"ResultsCalc(Players!$E4,Players!$G4,Players!MN4,Players!MP4)","v":12},1,"-",1,{"$f":"ResultsCalc(Players!$E4,Players!$G4,Players!MR4,Players!MT4)","v":12},2,"-",2,{"$f":"ResultsCalc(Players!$E4,Players!$G4,Players!MV4,Players!MX4)","v":6},1,"-",0,{"$f":"ResultsCalc(Players!$E4,Players!$G4,Players!MZ4,Players!NB4)","v":2},1,"-",1,{"$f":"ResultsCalc(Players!$E4,Players!$G4,Players!ND4,Players!NF4)","v":12},0,"-",1,{"$f":"ResultsCalc(Players!$E4,Players!$G4,Players!NH4,Players!NJ4)","v":2},1,"-",0,{"$f":"ResultsCalc(Players!$E4,Players!$G4,Players!NL4,Players!NN4)","v":2},0,"-",2,{"$f":"ResultsCalc(Players!$E4,Players!$G4,Players!NP4,Players!NR4)","v":0},1,"-",1,{"$f":"ResultsCalc(Players!$E4,Players!$G4,Players!NT4,Players!NV4)","v":12},1,"-",0,{"$f":"ResultsCalc(Players!$E4,Players!$G4,Players!NX4,Players!NZ4)","v":2},1,"-",1,{"$f":"ResultsCalc(Players!$E4,Players!$G4,Players!OB4,Players!OD4)","v":12},2,"-",1,{"$f":"ResultsCalc(Players!$E4,Players!$G4,Players!OF4,Players!OH4)","v":2},2,"-",2,{"$f":"ResultsCalc(Players!$E4,Players!$G4,Players!OJ4,Players!OL4)","v":6},1,"-",1,{"$f":"ResultsCalc(Players!$E4,Players!$G4,Players!ON4,Players!OP4)","v":12},0,"-",1,{"$f":"ResultsCalc(Players!$E4,Players!$G4,Players!OR4,Players!OT4)","v":2},1,"-",1,{"$f":"ResultsCalc(Players!$E4,Players!$G4,Players!OV4,Players!OX4)","v":12},0,"-",2,{"$f":"ResultsCalc(Players!$E4,Players!$G4,Players!OZ4,Players!PB4)","v":0},1,"-",1,{"$f":"ResultsCalc(Players!$E4,Players!$G4,Players!PD4,Players!PF4)","v":12},1,"-",2,{"$f":"ResultsCalc(Players!$E4,Players!$G4,Players!PH4,Players!PJ4)","v":2},2,"-",5,{"$f":"ResultsCalc(Players!$E4,Players!$G4,Players!PL4,Players!PN4)","v":0},1,"-",2,{"$f":"ResultsCalc(Players!$E4,Players!$G4,Players!PP4,Players!PR4)","v":2},1,"-",1,{"$f":"ResultsCalc(Players!$E4,Players!$G4,Players!PT4,Players!PV4)","v":12},1,"-",1,{"$f":"ResultsCalc(Players!$E4,Players!$G4,Players!PX4,Players!PZ4)","v":12},1,"-",1,{"$f":"ResultsCalc(Players!$E4,Players!$G4,Players!QB4,Players!QD4)","v":12},2,"-",1,{"$f":"ResultsCalc(Players!$E4,Players!$G4,Players!QF4,Players!QH4)","v":2},1,"-",1,{"$f":"ResultsCalc(Players!$E4,Players!$G4,Players!QJ4,Players!QL4)","v":12},null,{"$f":"COUNTIF(H4:QM4,\">9\")","v":49},null,{"$f":"MAX(H4:QM4)","v":12},49]
["2021-06-12",3,"Denmark","Finland",0,"-",1,3,"-",0,{"$f":"ResultsCalc(Players!$E5,Players!$G5,Players!H5,Players!J5)","v":0},2,"-",0,{"$f":"ResultsCalc(Players!$E5,Players!$G5,Players!L5,Players!N5)","v":0},2,"-",0,{"$f":"ResultsCalc(Players!$E5,Players!$G5,Players!P5,Players!R5)","v":0},3,"-",1,{"$f":"ResultsCalc(Players!$E5,Players!$G5,Players!T5,Players!V5)","v":2},1,"-",0,{"$f":"ResultsCalc(Players!$E5,Players!$G5,Players!X5,Players!Z5)","v":0},1,"-",0,{"$f":"ResultsCalc(Players!$E5,Players!$G5,Players!AB5,Players!AD5)","v":0},1,"-",0,{"$f":"ResultsCalc(Players!$E5,Players!$G5,Players!AF5,Players!AH5)","v":0},2,"-",1,{"$f":"ResultsCalc(Players!$E5,Players!$G5,Players!AJ5,Players!AL5)","v":2},2,"-",1,{"$f":"ResultsCalc(Players!$E5,Players!$G5,Players!AN5,Players!AP5)","v":2},2,"-",0,{"$f":"ResultsCalc(Players!$E5,Players!$G5,Players!AR5,Players!AT5)","v":0},3,"-",0,{"$f":"ResultsCalc(Players!$E5,Players!$G5,Players!AV5,Players!AX5)","v":0},2,"-",0,{"$f":"ResultsCalc(Players!$E5,Players!$G5,Players!AZ5,Players!BB5)","v":0},2,"-",1,{"$f":"ResultsCalc(Players!$E5,Players!$G5,Players!BD5,Players!BF5)","v":2},1,"-",1,{"$f":"ResultsCalc(Players!$E5,Players!$G5,Players!BH5,Players!BJ5)","v":2},2,"-",0,{"$f":"ResultsCalc(Players!$E5,Players!$G5,Players!BL5,Players!BN5)","v":0},2,"-",1,{"$f":"ResultsCalc(Players!$E5,Players!$G5,Players!BP5,Players!BR5)","v":2},2,"-",0,{"$f":"ResultsCalc(Players!$E5,Players!$G5,Players!BT5,Players!BV5)","v":0},2,"-",0,{"$f":"ResultsCalc(Players!$E5,Players!$G5,Players!BX5,Players!BZ5)","v":0},1,"-",1,{"$f":"ResultsCalc(Players!$E5,Players!$G5,Players!CB5,Players!CD5)","v":2},2,"-",1,{"$f":"ResultsCalc(Players!$E5,Players!$G5,Players!CF5,Players!CH5)","v":2},2,"-",0,{"$f":"ResultsCalc(Players!$E5,Players!$G5,Players!CJ5,Players!CL5)","v":0},1,"-",1,{"$f":"ResultsCalc(Players!$E5,Players!$G5,Players!CN5,Players!CP5)","v":2},2,"-",1,{"$f":"ResultsCalc(Players!$E5,Players!$G5,Players!CR5,Players!CT5)","v":2},2,"-",0,{"$f":"ResultsCalc(Players!$E5,Players!$G5,Players!CV5,Players!CX5)","v":0},2,"-",0,{"$f":"ResultsCalc(Players!$E5,Players!$G5,Players!CZ5,Players!DB5)","v":0},2,"-",0,{"$f":"ResultsCalc(Players!$E5,Players!$G5,Players!DD5,Players!DF5)","v":0},1,"-",1,{"$f":"ResultsCalc(Players!$E5,Players!$G5,Players!DH5,Players!DJ5)","v":2},1,"-",0,{"$f":"ResultsCalc(Players!$E5,Players!$G5,Players!DL5,Players!DN5)","v":0},1,"-",0,{"$f":"ResultsCalc(Players!$E5,Players!$G5,Players!DP5,Players!DR5)","v":0},2,"-",0,{"$f":"ResultsCalc(Players!$E5,Players!$G5,Players!DT5,Players!DV5)","v":0},2,"-",0,{"$f":"ResultsCalc(Players!$E5,Players!$G5,Players!DX5,Players!DZ5)","v":0},1,"-",0,{"$f":"ResultsCalc(Players!$E5,Players!$G5,Players!EB5,Players!ED5)","v":0},1,"-",1,{"$f":"ResultsCalc(Players!$E5,Players!$G5,Players!EF5,Players!EH5)","v":2},1,"-",1,{"$f":"ResultsCalc(Players!$E5,Players!$G5,Players!EJ5,Players!EL5)","v":2},1,"-",1,{"$f":"ResultsCalc(Players!$E5,Players!$G5,Players!EN5,Players!EP5)","v":2},1,"-",0,{"$f":"ResultsCalc(Players!$E5,Players!$G5,Players!ER5,Players!ET5)","v":0},0,"-",0,{"$f":"ResultsCalc(Players!$E5,Players!$G5,Players!EV5,Players!EX5)","v":2},1,"-",0,{"$f":"ResultsCalc(Players!$E5,Players!$G5,Players!EZ5,Players!FB5)","v":0},2,"-",0,{"$f":"ResultsCalc(Players!$E5,Players!$G5,Players!FD5,Players!FF5)","v":0},2,"-",2,{"$f":"ResultsCalc(Players!$E5,Players!$G5,Players!FH5,Players!FJ5)","v":0},2,"-",0,{"$f":"ResultsCalc(Players!$E5,Players!$G5,Players!FL5,Players!FN5)","v":0},3,"-",2,{"$f":"ResultsCalc(Players!$E5,Players!$G5,Players!FP5,Players!FR5)","v":0},1,"-",0,{"$f":"ResultsCalc(Players!$E5,Players!$G5,Players!FT5,Players!FV5)","v":0},1,"-",0,{"$f":"ResultsCalc(Players!$E5,Players!$G5,Players!FX5,Players!FZ5)","v":0},2,"-",0,{"$f":"ResultsCalc(Players!$E5,Players!$G5,Players!GB5,Players!GD5)","v":0},2,"-",0,{"$f":"ResultsCalc(Players!$E5,Players!$G5,Players!GF5,Players!GH5)","v":0},2,"-",0,{"$f":"ResultsCalc(Players!$E5,Players!$G5,Players!GJ5,Players!GL5)","v":0},1,"-",1,{"$f":"ResultsCalc(Players!$E5,Players!$G5,Players!GN5,Players!GP5)","v":2},2,"-",0,{"$f":"ResultsCalc(Players!$E5,Players!$G5,Players!GR5,Players!GT5)","v":0},1,"-",0,{"$f":"ResultsCalc(Players!$E5,Players!$G5,Players!GV5,Players!GX5)","v":0},1,"-",0,{"$f":"ResultsCalc(Players!$E5,Players!$G5,Players!GZ5,Players!HB5)","v":0},2,"-",2,{"$f":"ResultsCalc(Players!$E5,Players!$G5,Players!HD5,Players!HF5)","v":0},3,"-",0,{"$f":"ResultsCalc(Players!$E5,Players!$G5,Players!HH5,Players!HJ5)","v":0},2,"-",2,{"$f":"ResultsCalc(Players!$E5,Players!$G5,Players!HL5,Players!HN5)","v":0},2,"-",1,{"$f":"ResultsCalc(Players!$E5,Players!$G5,Players!HP5,Players!HR5)","v":2},2,"-",0,{"$f":"ResultsCalc(Players!$E5,Players!$G5,Players!HT5,Players!HV5)","v":0},2,"-",0,{"$f":"ResultsCalc(Players!$E5,Players!$G5,Players!HX5,Players!HZ5)","v":0},2,"-",0,{"$f":"ResultsCalc(Players!$E5,Players!$G5,Players!IB5,Players!ID5)","v":0},1,"-",0,{"$f":"ResultsCalc(Players!$E5,Players!$G5,Players!IF5,Players!IH5)","v":0},3,"-",0,{"$f":"ResultsCalc(Players!$E5,Players!$G5,Players!IJ5,Players!IL5)","v":0},2,"-",0,{"$f":"ResultsCalc(Players!$E5,Players!$G5,Players!IN5,Players!IP5)","v":0},3,"-",1,{"$f":"ResultsCalc(Players!$E5,Players!$G5,Players!IR5,Players!IT5)","v":2},2,"-",1,{"$f":"ResultsCalc(Players!$E5,Players!$G5,Players!IV5,Players!IX5)","v":2},2,"-",0,{"$f":"ResultsCalc(Players!$E5,Players!$G5,Players!IZ5,Players!JB5)","v":0},3,"-",2,{"$f":"ResultsCalc(Players!$E5,Players!$G5,Players!JD5,Players!JF5)","v":0},3,"-",0,{"$f":"ResultsCalc(Players!$E5,Players!$G5,Players!JH5,Players!JJ5)","v":0},1,"-",0,{"$f":"ResultsCalc(Players!$E5,Players!$G5,Players!JL5,Players!JN5)","v":0},1,"-",0,{"$f":"ResultsCalc(Players!$E5,Players!$G5,Players!JP5,Players!JR5)","v":0},1,"-",1,{"$f":"ResultsCalc(Players!$E5,Players!$G5,Players!JT5,Players!JV5)","v":2},2,"-",1,{"$f":"ResultsCalc(Players!$E5,Players!$G5,Players!JX5,Players!JZ5)","v":2},2,"-",0,{"$f":"ResultsCalc(Players!$E5,Players!$G5,Players!KB5,Players!KD5)","v":0},2,"-",0,{"$f":"ResultsCalc(Players!$E5,Players!$G5,Players!KF5,Players!KH5)","v":0},2,"-",0,{"$f":"ResultsCalc(Players!$E5,Players!$G5,Players!KJ5,Players!KL5)","v":0},1,"-",2,{"$f":"ResultsCalc(Players!$E5,Players!$G5,Players!KN5,Players!KP5)","v":6},3,"-",1,{"$f":"ResultsCalc(Players!$E5,Players!$G5,Players!KR5,Players!KT5)","v":2},4,"-",1,{"$f":"ResultsCalc(Players!$E5,Players!$G5,Players!KV5,Players!KX5)","v":2},2,"-",0,{"$f":"ResultsCalc(Players!$E5,Players!$G5,Players!KZ5,Players!LB5)","v":0},2,"-",0,{"$f":"ResultsCalc(Players!$E5,Players!$G5,Players!LD5,Players!LF5)","v":0},2,"-",1,{"$f":"ResultsCalc(Players!$E5,Players!$G5,Players!LH5,Players!LJ5)","v":2},2,"-",0,{"$f":"ResultsCalc(Players!$E5,Players!$G5,Players!LL5,Players!LN5)","v":0},1,"-",0,{"$f":"ResultsCalc(Players!$E5,Players!$G5,Players!LP5,Players!LR5)","v":0},2,"-",1,{"$f":"ResultsCalc(Players!$E5,Players!$G5,Players!LT5,Players!LV5)","v":2},2,"-",1,{"$f":"ResultsCalc(Players!$E5,Players!$G5,Players!LX5,Players!LZ5)","v":2},1,"-",0,{"$f":"ResultsCalc(Players!$E5,Players!$G5,Players!MB5,Players!MD5)","v":0},2,"-",0,{"$f":"ResultsCalc(Players!$E5,Players!$G5,Players!MF5,Players!MH5)","v":0},2,"-",2,{"$f":"ResultsCalc(Players!$E5,Players!$G5,Players!MJ5,Players!ML5)","v":0},0,"-",0,{"$f":"ResultsCalc(Players!$E5,Players!$G5,Players!MN5,Players!MP5)","v":2},2,"-",1,{"$f":"ResultsCalc(Players!$E5,Players!$G5,Players!MR5,Players!MT5)","v":2},2,"-",1,{"$f":"ResultsCalc(Players!$E5,Players!$G5,Players!MV5,Players!MX5)","v":2},1,"-",1,{"$f":"ResultsCalc(Players!$E5,Players!$G5,Players!MZ5,Players!NB5)","v":2},4,"-",0,{"$f":"ResultsCalc(Players!$E5,Players!$G5,Players!ND5,Players!NF5)","v":0},0,"-",0,{"$f":"ResultsCalc(Players!$E5,Players!$G5,Players!NH5,Players!NJ5)","v":2},1,"-",0,{"$f":"ResultsCalc(Players!$E5,Players!$G5,Players!NL5,Players!NN5)","v":0},3,"-",1,{"$f":"ResultsCalc(Players!$E5,Players!$G5,Players!NP5,Players!NR5)","v":2},2,"-",0,{"$f":"ResultsCalc(Players!$E5,Players!$G5,Players!NT5,Players!NV5)","v":0},1,"-",0,{"$f":"ResultsCalc(Players!$E5,Players!$G5,Players!NX5,Players!NZ5)","v":0},1,"-",0,{"$f":"ResultsCalc(Players!$E5,Players!$G5,Players!OB5,Players!OD5)","v":0},2,"-",0,{"$f":"ResultsCalc(Players!$E5,Players!$G5,Players!OF5,Players!OH5)","v":0},3,"-",0,{"$f":"ResultsCalc(Players!$E5,Players!$G5,Players!OJ5,Players!OL5)","v":0},0,"-",0,{"$f":"ResultsCalc(Players!$E5,Players!$G5,Players!ON5,Players!OP5)","v":2},2,"-",0,{"$f":"ResultsCalc(Players!$E5,Players!$G5,Players!OR5,Players!OT5)","v":0},3,"-",1,{"$f":"ResultsCalc(Players!$E5,Players!$G5,Players!OV5,Players!OX5)","v":2},3,"-",0,{"$f":"ResultsCalc(Players!$E5,Players!$G5,Players!OZ5,Players!PB5)","v":0},1,"-",0,{"$f":"ResultsCalc(Players!$E5,Players!$G5,Players!PD5,Players!PF5)","v":0},1,"-",1,{"$f":"ResultsCalc(Players!$E5,Players!$G5,Players!PH5,Players!PJ5)","v":2},0,"-",0,{"$f":"ResultsCalc(Players!$E5,Players!$G5,Players!PL5,Players!PN5)","v":2},2,"-",1,{"$f":"ResultsCalc(Players!$E5,Players!$G5,Players!PP5,Players!PR5)","v":2},1,"-",0,{"$f":"ResultsCalc(Players!$E5,Players!$G5,Players!PT5,Players!PV5)","v":0},0,"-",2,{"$f":"ResultsCalc(Players!$E5,Players!$G5,Players!PX5,Players!PZ5)","v":6},2,"-",1,{"$f":"ResultsCalc(Players!$E5,Players!$G5,Players!QB5,Players!QD5)","v":2},2,"-",0,{"$f":"ResultsCalc(Players!$E5,Players!$G5,Players!QF5,Players!QH5)","v":0},1,"-",1,{"$f":"ResultsCalc(Players!$E5,Players!$G5,Players!QJ5,Players!QL5)","v":2},null,0,null,6,2]
["2021-06-12",4,"Belgium","Russia",3,"-",0,2,"-",1,{"$f":"ResultsCalc(Players!$E6,Players!$G6,Players!H6,Players!J6)","v":4},4,"-",1,{"$f":"ResultsCalc(Players!$E6,Players!$G6,Players!L6,Players!N6)","v":6},1,"-",1,{"$f":"ResultsCalc(Players!$E6,Players!$G6,Players!P6,Players!R6)","v":0},3,"-",2,{"$f":"ResultsCalc(Players!$E6,Players!$G6,Players!T6,Players!V6)","v":6},2,"-",0,{"$f":"ResultsCalc(Players!$E6,Players!$G6,Players!X6,Players!Z6)","v":6},3,"-",0,{"$f":"ResultsCalc(Players!$E6,Players!$G6,Players!AB6,Players!AD6)","v":13},2,"-",0,{"$f":"ResultsCalc(Players!$E6,Players!$G6,Players!AF6,Players!AH6)","v":6},3,"-",0,{"$f":"ResultsCalc(Players!$E6,Players!$G6,Players!AJ6,Players!AL6)","v":13},1,"-",1,{"$f":"ResultsCalc(Players!$E6,Players!$G6,Players!AN6,Players!AP6)","v":0},1,"-",1,{"$f":"ResultsCalc(Players!$E6,Players!$G6,Players!AR6,Players!AT6)","v":0},3,"-",0,{"$f":"ResultsCalc(Players!$E6,Players!$G6,Players!AV6,Players!AX6)","v":13},3,"-",1,{"$f":"ResultsCalc(Players!$E6,Players!$G6,Players!AZ6,Players!BB6)","v":6},2,"-",1,{"$f":"ResultsCalc(Players!$E6,Players!$G6,Players!BD6,Players!BF6)","v":4},1,"-",1,{"$f":"ResultsCalc(Players!$E6,Players!$G6,Players!BH6,Players!BJ6)","v":0},2,"-",0,{"$f":"ResultsCalc(Players!$E6,Players!$G6,Players!BL6,Players!BN6)","v":6},3,"-",1,{"$f":"ResultsCalc(Players!$E6,Players!$G6,Players!BP6,Players!BR6)","v":6},2,"-",1,{"$f":"ResultsCalc(Players!$E6,Players!$G6,Players!BT6,Players!BV6)","v":4},2,"-",0,{"$f":"ResultsCalc(Players!$E6,Players!$G6,Players!BX6,Players!BZ6)","v":6},1,"-",2,{"$f":"ResultsCalc(Players!$E6,Players!$G6,Players!CB6,Players!CD6)","v":0},2,"-",1,{"$f":"ResultsCalc(Players!$E6,Players!$G6,Players!CF6,Players!CH6)","v":4},4,"-",1,{"$f":"ResultsCalc(Players!$E6,Players!$G6,Players!CJ6,Players!CL6)","v":6},2,"-",1,{"$f":"ResultsCalc(Players!$E6,Players!$G6,Players!CN6,Players!CP6)","v":4},2,"-",1,{"$f":"ResultsCalc(Players!$E6,Players!$G6,Players!CR6,Players!CT6)","v":4},3,"-",1,{"$f":"ResultsCalc(Players!$E6,Players!$G6,Players!CV6,Players!CX6)","v":6},2,"-",0,{"$f":"ResultsCalc(Players!$E6,Players!$G6,Players!CZ6,Players!DB6)","v":6},1,"-",0,{"$f":"ResultsCalc(Players!$E6,Players!$G6,Players!DD6,Players!DF6)","v":6},2,"-",1,{"$f":"ResultsCalc(Players!$E6,Players!$G6,Players!DH6,Players!DJ6)","v":4},2,"-",2,{"$f":"ResultsCalc(Players!$E6,Players!$G6,Players!DL6,Players!DN6)","v":0},2,"-",0,{"$f":"ResultsCalc(Players!$E6,Players!$G6,Players!DP6,Players!DR6)","v":6},3,"-",1,{"$f":"ResultsCalc(Players!$E6,Players!$G6,Players!DT6,Players!DV6)","v":6},4,"-",0,{"$f":"ResultsCalc(Players!$E6,Players!$G6,Players!DX6,Players!DZ6)","v":6},2,"-",1,{"$f":"ResultsCalc(Players!$E6,Players!$G6,Players!EB6,Players!ED6)","v":4},2,"-",1,{"$f":"ResultsCalc(Players!$E6,Players!$G6,Players!EF6,Players!EH6)","v":4},2,"-",1,{"$f":"ResultsCalc(Players!$E6,Players!$G6,Players!EJ6,Players!EL6)","v":4},2,"-",1,{"$f":"ResultsCalc(Players!$E6,Players!$G6,Players!EN6,Players!EP6)","v":4},3,"-",1,{"$f":"ResultsCalc(Players!$E6,Players!$G6,Players!ER6,Players!ET6)","v":6},3,"-",2,{"$f":"ResultsCalc(Players!$E6,Players!$G6,Players!EV6,Players!EX6)","v":6},2,"-",1,{"$f":"ResultsCalc(Players!$E6,Players!$G6,Players!EZ6,Players!FB6)","v":4},1,"-",0,{"$f":"ResultsCalc(Players!$E6,Players!$G6,Players!FD6,Players!FF6)","v":6},4,"-",1,{"$f":"ResultsCalc(Players!$E6,Players!$G6,Players!FH6,Players!FJ6)","v":6},3,"-",1,{"$f":"ResultsCalc(Players!$E6,Players!$G6,Players!FL6,Players!FN6)","v":6},1,"-",3,{"$f":"ResultsCalc(Players!$E6,Players!$G6,Players!FP6,Players!FR6)","v":0},3,"-",0,{"$f":"ResultsCalc(Players!$E6,Players!$G6,Players!FT6,Players!FV6)","v":13},2,"-",0,{"$f":"ResultsCalc(Players!$E6,Players!$G6,Players!FX6,Players!FZ6)","v":6},3,"-",3,{"$f":"ResultsCalc(Players!$E6,Players!$G6,Players!GB6,Players!GD6)","v":2},3,"-",1,{"$f":"ResultsCalc(Players!$E6,Players!$G6,Players!GF6,Players!GH6)","v":6},2,"-",0,{"$f":"ResultsCalc(Players!$E6,Players!$G6,Players!GJ6,Players!GL6)","v":6},3,"-",0,{"$f":"ResultsCalc(Players!$E6,Players!$G6,Players!GN6,Players!GP6)","v":13},3,"-",1,{"$f":"ResultsCalc(Players!$E6,Players!$G6,Players!GR6,Players!GT6)","v":6},4,"-",1,{"$f":"ResultsCalc(Players!$E6,Players!$G6,Players!GV6,Players!GX6)","v":6},4,"-",2,{"$f":"ResultsCalc(Players!$E6,Players!$G6,Players!GZ6,Players!HB6)","v":4},3,"-",1,{"$f":"ResultsCalc(Players!$E6,Players!$G6,Players!HD6,Players!HF6)","v":6},2,"-",1,{"$f":"ResultsCalc(Players!$E6,Players!$G6,Players!HH6,Players!HJ6)","v":4},3,"-",0,{"$f":"ResultsCalc(Players!$E6,Players!$G6,Players!HL6,Players!HN6)","v":13},1,"-",3,{"$f":"ResultsCalc(Players!$E6,Players!$G6,Players!HP6,Players!HR6)","v":0},3,"-",0,{"$f":"ResultsCalc(Players!$E6,Players!$G6,Players!HT6,Players!HV6)","v":13},2,"-",1,{"$f":"ResultsCalc(Players!$E6,Players!$G6,Players!HX6,Players!HZ6)","v":4},3,"-",1,{"$f":"ResultsCalc(Players!$E6,Players!$G6,Players!IB6,Players!ID6)","v":6},3,"-",1,{"$f":"ResultsCalc(Players!$E6,Players!$G6,Players!IF6,Players!IH6)","v":6},2,"-",1,{"$f":"ResultsCalc(Players!$E6,Players!$G6,Players!IJ6,Players!IL6)","v":4},2,"-",1,{"$f":"ResultsCalc(Players!$E6,Players!$G6,Players!IN6,Players!IP6)","v":4},3,"-",0,{"$f":"ResultsCalc(Players!$E6,Players!$G6,Players!IR6,Players!IT6)","v":13},2,"-",0,{"$f":"ResultsCalc(Players!$E6,Players!$G6,Players!IV6,Players!IX6)","v":6},3,"-",1,{"$f":"ResultsCalc(Players!$E6,Players!$G6,Players!IZ6,Players!JB6)","v":6},2,"-",0,{"$f":"ResultsCalc(Players!$E6,Players!$G6,Players!JD6,Players!JF6)","v":6},3,"-",1,{"$f":"ResultsCalc(Players!$E6,Players!$G6,Players!JH6,Players!JJ6)","v":6},3,"-",2,{"$f":"ResultsCalc(Players!$E6,Players!$G6,Players!JL6,Players!JN6)","v":6},2,"-",1,{"$f":"ResultsCalc(Players!$E6,Players!$G6,Players!JP6,Players!JR6)","v":4},2,"-",1,{"$f":"ResultsCalc(Players!$E6,Players!$G6,Players!JT6,Players!JV6)","v":4},3,"-",1,{"$f":"ResultsCalc(Players!$E6,Players!$G6,Players!JX6,Players!JZ6)","v":6},3,"-",0,{"$f":"ResultsCalc(Players!$E6,Players!$G6,Players!KB6,Players!KD6)","v":13},3,"-",1,{"$f":"ResultsCalc(Players!$E6,Players!$G6,Players!KF6,Players!KH6)","v":6},2,"-",0,{"$f":"ResultsCalc(Players!$E6,Players!$G6,Players!KJ6,Players!KL6)","v":6},3,"-",1,{"$f":"ResultsCalc(Players!$E6,Players!$G6,Players!KN6,Players!KP6)","v":6},1,"-",1,{"$f":"ResultsCalc(Players!$E6,Players!$G6,Players!KR6,Players!KT6)","v":0},3,"-",1,{"$f":"ResultsCalc(Players!$E6,Players!$G6,Players!KV6,Players!KX6)","v":6},3,"-",1,{"$f":"ResultsCalc(Players!$E6,Players!$G6,Players!KZ6,Players!LB6)","v":6},3,"-",0,{"$f":"ResultsCalc(Players!$E6,Players!$G6,Players!LD6,Players!LF6)","v":13},2,"-",2,{"$f":"ResultsCalc(Players!$E6,Players!$G6,Players!LH6,Players!LJ6)","v":0},3,"-",1,{"$f":"ResultsCalc(Players!$E6,Players!$G6,Players!LL6,Players!LN6)","v":6},2,"-",1,{"$f":"ResultsCalc(Players!$E6,Players!$G6,Players!LP6,Players!LR6)","v":4},2,"-",1,{"$f":"ResultsCalc(Players!$E6,Players!$G6,Players!LT6,Players!LV6)","v":4},4,"-",2,{"$f":"ResultsCalc(Players!$E6,Players!$G6,Players!LX6,Players!LZ6)","v":4},1,"-",0,{"$f":"ResultsCalc(Players!$E6,Players!$G6,Players!MB6,Players!MD6)","v":6},3,"-",0,{"$f":"ResultsCalc(Players!$E6,Players!$G6,Players!MF6,Players!MH6)","v":13},3,"-",2,{"$f":"ResultsCalc(Players!$E6,Players!$G6,Players!MJ6,Players!ML6)","v":6},3,"-",0,{"$f":"ResultsCalc(Players!$E6,Players!$G6,Players!MN6,Players!MP6)","v":13},3,"-",1,{"$f":"ResultsCalc(Players!$E6,Players!$G6,Players!MR6,Players!MT6)","v":6},3,"-",1,{"$f":"ResultsCalc(Players!$E6,Players!$G6,Players!MV6,Players!MX6)","v":6},2,"-",0,{"$f":"ResultsCalc(Players!$E6,Players!$G6,Players!MZ6,Players!NB6)","v":6},2,"-",0,{"$f":"ResultsCalc(Players!$E6,Players!$G6,Players!ND6,Players!NF6)","v":6},3,"-",1,{"$f":"ResultsCalc(Players!$E6,Players!$G6,Players!NH6,Players!NJ6)","v":6},3,"-",1,{"$f":"ResultsCalc(Players!$E6,Players!$G6,Players!NL6,Players!NN6)","v":6},3,"-",0,{"$f":"ResultsCalc(Players!$E6,Players!$G6,Players!NP6,Players!NR6)","v":13},3,"-",1,{"$f":"ResultsCalc(Players!$E6,Players!$G6,Players!NT6,Players!NV6)","v":6},3,"-",0,{"$f":"ResultsCalc(Players!$E6,Players!$G6,Players!NX6,Players!NZ6)","v":13},2,"-",1,{"$f":"ResultsCalc(Players!$E6,Players!$G6,Players!OB6,Players!OD6)","v":4},3,"-",0,{"$f":"ResultsCalc(Players!$E6,Players!$G6,Players!OF6,Players!OH6)","v":13},3,"-",0,{"$f":"ResultsCalc(Players!$E6,Players!$G6,Players!OJ6,Players!OL6)","v":13},1,"-",0,{"$f":"ResultsCalc(Players!$E6,Players!$G6,Players!ON6,Players!OP6)","v":6},2,"-",0,{"$f":"ResultsCalc(Players!$E6,Players!$G6,Players!OR6,Players!OT6)","v":6},4,"-",2,{"$f":"ResultsCalc(Players!$E6,Players!$G6,Players!OV6,Players!OX6)","v":4},2,"-",0,{"$f":"ResultsCalc(Players!$E6,Players!$G6,Players!OZ6,Players!PB6)","v":6},3,"-",0,{"$f":"ResultsCalc(Players!$E6,Players!$G6,Players!PD6,Players!PF6)","v":13},2,"-",1,{"$f":"ResultsCalc(Players!$E6,Players!$G6,Players!PH6,Players!PJ6)","v":4},3,"-",1,{"$f":"ResultsCalc(Players!$E6,Players!$G6,Players!PL6,Players!PN6)","v":6},3,"-",2,{"$f":"ResultsCalc(Players!$E6,Players!$G6,Players!PP6,Players!PR6)","v":6},2,"-",1,{"$f":"ResultsCalc(Players!$E6,Players!$G6,Players!PT6,Players!PV6)","v":4},0,"-",3,{"$f":"ResultsCalc(Players!$E6,Players!$G6,Players!PX6,Players!PZ6)","v":0},2,"-",1,{"$f":"ResultsCalc(Players!$E6,Players!$G6,Players!QB6,Players!QD6)","v":4},3,"-",1,{"$f":"ResultsCalc(Players!$E6,Players!$G6,Players!QF6,Players!QH6)","v":6},2,"-",0,{"$f":"ResultsCalc(Players!$E6,Players!$G6,Players!QJ6,Players!QL6)","v":6},null,17,null,13,17]
["2021-06-13",5,"England","Croatia",1,"-",0,2,"-",2,{"$f":"ResultsCalc(Players!$E7,Players!$G7,Players!H7,Players!J7)","v":0},1,"-",0,{"$f":"ResultsCalc(Players!$E7,Players!$G7,Players!L7,Players!N7)","v":11},2,"-",1,{"$f":"ResultsCalc(Players!$E7,Players!$G7,Players!P7,Players!R7)","v":6},2,"-",1,{"$f":"ResultsCalc(Players!$E7,Players!$G7,Players!T7,Players!V7)","v":6},2,"-",0,{"$f":"ResultsCalc(Players!$E7,Players!$G7,Players!X7,Players!Z7)","v":6},1,"-",0,{"$f":"ResultsCalc(Players!$E7,Players!$G7,Players!AB7,Players!AD7)","v":11},2,"-",1,{"$f":"ResultsCalc(Players!$E7,Players!$G7,Players!AF7,Players!AH7)","v":6},2,"-",1,{"$f":"ResultsCalc(Players!$E7,Players!$G7,Players!AJ7,Players!AL7)","v":6},2,"-",1,{"$f":"ResultsCalc(Players!$E7,Players!$G7,Players!AN7,Players!AP7)","v":6},2,"-",1,{"$f":"ResultsCalc(Players!$E7,Players!$G7,Players!AR7,Players!AT7)","v":6},2,"-",1,{"$f":"ResultsCalc(Players!$E7,Players!$G7,Players!AV7,Players!AX7)","v":6},2,"-",1,{"$f":"ResultsCalc(Players!$E7,Players!$G7,Players!AZ7,Players!BB7)","v":6},2,"-",1,{"$f":"ResultsCalc(Players!$E7,Players!$G7,Players!BD7,Players!BF7)","v":6},2,"-",1,{"$f":"ResultsCalc(Players!$E7,Players!$G7,Players!BH7,Players!BJ7)","v":6},1,"-",0,{"$f":"ResultsCalc(Players!$E7,Players!$G7,Players!BL7,Players!BN7)","v":11},2,"-",1,{"$f":"ResultsCalc(Players!$E7,Players!$G7,Players!BP7,Players!BR7)","v":6},2,"-",1,{"$f":"ResultsCalc(Players!$E7,Players!$G7,Players!BT7,Players!BV7)","v":6},2,"-",0,{"$f":"ResultsCalc(Players!$E7,Players!$G7,Players!BX7,Players!BZ7)","v":6},0,"-",1,{"$f":"ResultsCalc(Players!$E7,Players!$G7,Players!CB7,Players!CD7)","v":0},1,"-",2,{"$f":"ResultsCalc(Players!$E7,Players!$G7,Players!CF7,Players!CH7)","v":2},1,"-",1,{"$f":"ResultsCalc(Players!$E7,Players!$G7,Players!CJ7,Players!CL7)","v":2},1,"-",0,{"$f":"ResultsCalc(Players!$E7,Players!$G7,Players!CN7,Players!CP7)","v":11},1,"-",1,{"$f":"ResultsCalc(Players!$E7,Players!$G7,Players!CR7,Players!CT7)","v":2},1,"-",1,{"$f":"ResultsCalc(Players!$E7,Players!$G7,Players!CV7,Players!CX7)","v":2},1,"-",0,{"$f":"ResultsCalc(Players!$E7,Players!$G7,Players!CZ7,Players!DB7)","v":11},3,"-",1,{"$f":"ResultsCalc(Players!$E7,Players!$G7,Players!DD7,Players!DF7)","v":4},2,"-",0,{"$f":"ResultsCalc(Players!$E7,Players!$G7,Players!DH7,Players!DJ7)","v":6},1,"-",1,{"$f":"ResultsCalc(Players!$E7,Players!$G7,Players!DL7,Players!DN7)","v":2},2,"-",1,{"$f":"ResultsCalc(Players!$E7,Players!$G7,Players!DP7,Players!DR7)","v":6},2,"-",1,{"$f":"ResultsCalc(Players!$E7,Players!$G7,Players!DT7,Players!DV7)","v":6},2,"-",0,{"$f":"ResultsCalc(Players!$E7,Players!$G7,Players!DX7,Players!DZ7)","v":6},1,"-",0,{"$f":"ResultsCalc(Players!$E7,Players!$G7,Players!EB7,Players!ED7)","v":11},1,"-",2,{"$f":"ResultsCalc(Players!$E7,Players!$G7,Players!EF7,Players!EH7)","v":2},2,"-",1,{"$f":"ResultsCalc(Players!$E7,Players!$G7,Players!EJ7,Players!EL7)","v":6},1,"-",1,{"$f":"ResultsCalc(Players!$E7,Players!$G7,Players!EN7,Players!EP7)","v":2},2,"-",0,{"$f":"ResultsCalc(Players!$E7,Players!$G7,Players!ER7,Players!ET7)","v":6},2,"-",0,{"$f":"ResultsCalc(Players!$E7,Players!$G7,Players!EV7,Players!EX7)","v":6},2,"-",1,{"$f":"ResultsCalc(Players!$E7,Players!$G7,Players!EZ7,Players!FB7)","v":6},2,"-",1,{"$f":"ResultsCalc(Players!$E7,Players!$G7,Players!FD7,Players!FF7)","v":6},2,"-",1,{"$f":"ResultsCalc(Players!$E7,Players!$G7,Players!FH7,Players!FJ7)","v":6},1,"-",1,{"$f":"ResultsCalc(Players!$E7,Players!$G7,Players!FL7,Players!FN7)","v":2},2,"-",1,{"$f":"ResultsCalc(Players!$E7,Players!$G7,Players!FP7,Players!FR7)","v":6},2,"-",2,{"$f":"ResultsCalc(Players!$E7,Players!$G7,Players!FT7,Players!FV7)","v":0},1,"-",1,{"$f":"ResultsCalc(Players!$E7,Players!$G7,Players!FX7,Players!FZ7)","v":2},1,"-",1,{"$f":"ResultsCalc(Players!$E7,Players!$G7,Players!GB7,Players!GD7)","v":2},1,"-",1,{"$f":"ResultsCalc(Players!$E7,Players!$G7,Players!GF7,Players!GH7)","v":2},2,"-",1,{"$f":"ResultsCalc(Players!$E7,Players!$G7,Players!GJ7,Players!GL7)","v":6},2,"-",1,{"$f":"ResultsCalc(Players!$E7,Players!$G7,Players!GN7,Players!GP7)","v":6},2,"-",1,{"$f":"ResultsCalc(Players!$E7,Players!$G7,Players!GR7,Players!GT7)","v":6},2,"-",0,{"$f":"ResultsCalc(Players!$E7,Players!$G7,Players!GV7,Players!GX7)","v":6},0,"-",0,{"$f":"ResultsCalc(Players!$E7,Players!$G7,Players!GZ7,Players!HB7)","v":2},2,"-",0,{"$f":"ResultsCalc(Players!$E7,Players!$G7,Players!HD7,Players!HF7)","v":6},2,"-",1,{"$f":"ResultsCalc(Players!$E7,Players!$G7,Players!HH7,Players!HJ7)","v":6},2,"-",1,{"$f":"ResultsCalc(Players!$E7,Players!$G7,Players!HL7,Players!HN7)","v":6},2,"-",1,{"$f":"ResultsCalc(Players!$E7,Players!$G7,Players!HP7,Players!HR7)","v":6},1,"-",1,{"$f":"ResultsCalc(Players!$E7,Players!$G7,Players!HT7,Players!HV7)","v":2},2,"-",1,{"$f":"ResultsCalc(Players!$E7,Players!$G7,Players!HX7,Players!HZ7)","v":6},2,"-",1,{"$f":"ResultsCalc(Players!$E7,Players!$G7,Players!IB7,Players!ID7)","v":6},2,"-",1,{"$f":"ResultsCalc(Players!$E7,Players!$G7,Players!IF7,Players!IH7)","v":6},3,"-",1,{"$f":"ResultsCalc(Players!$E7,Players!$G7,Players!IJ7,Players!IL7)","v":4},1,"-",0,{"$f":"ResultsCalc(Players!$E7,Players!$G7,Players!IN7,Players!IP7)","v":11},2,"-",1,{"$f":"ResultsCalc(Players!$E7,Players!$G7,Players!IR7,Players!IT7)","v":6},1,"-",1,{"$f":"ResultsCalc(Players!$E7,Players!$G7,Players!IV7,Players!IX7)","v":2},1,"-",1,{"$f":"ResultsCalc(Players!$E7,Players!$G7,Players!IZ7,Players!JB7)","v":2},2,"-",2,{"$f":"ResultsCalc(Players!$E7,Players!$G7,Players!JD7,Players!JF7)","v":0},2,"-",1,{"$f":"ResultsCalc(Players!$E7,Players!$G7,Players!JH7,Players!JJ7)","v":6},1,"-",1,{"$f":"ResultsCalc(Players!$E7,Players!$G7,Players!JL7,Players!JN7)","v":2},2,"-",2,{"$f":"ResultsCalc(Players!$E7,Players!$G7,Players!JP7,Players!JR7)","v":0},3,"-",2,{"$f":"ResultsCalc(Players!$E7,Players!$G7,Players!JT7,Players!JV7)","v":6},2,"-",1,{"$f":"ResultsCalc(Players!$E7,Players!$G7,Players!JX7,Players!JZ7)","v":6},3,"-",2,{"$f":"ResultsCalc(Players!$E7,Players!$G7,Players!KB7,Players!KD7)","v":6},2,"-",0,{"$f":"ResultsCalc(Players!$E7,Players!$G7,Players!KF7,Players!KH7)","v":6},1,"-",1,{"$f":"ResultsCalc(Players!$E7,Players!$G7,Players!KJ7,Players!KL7)","v":2},1,"-",1,{"$f":"ResultsCalc(Players!$E7,Players!$G7,Players!KN7,Players!KP7)","v":2},1,"-",1,{"$f":"ResultsCalc(Players!$E7,Players!$G7,Players!KR7,Players!KT7)","v":2},2,"-",1,{"$f":"ResultsCalc(Players!$E7,Players!$G7,Players!KV7,Players!KX7)","v":6},1,"-",0,{"$f":"ResultsCalc(Players!$E7,Players!$G7,Players!KZ7,Players!LB7)","v":11},1,"-",0,{"$f":"ResultsCalc(Players!$E7,Players!$G7,Players!LD7,Players!LF7)","v":11},2,"-",1,{"$f":"ResultsCalc(Players!$E7,Players!$G7,Players!LH7,Players!LJ7)","v":6},1,"-",0,{"$f":"ResultsCalc(Players!$E7,Players!$G7,Players!LL7,Players!LN7)","v":11},1,"-",1,{"$f":"ResultsCalc(Players!$E7,Players!$G7,Players!LP7,Players!LR7)","v":2},2,"-",1,{"$f":"ResultsCalc(Players!$E7,Players!$G7,Players!LT7,Players!LV7)","v":6},1,"-",1,{"$f":"ResultsCalc(Players!$E7,Players!$G7,Players!LX7,Players!LZ7)","v":2},0,"-",1,{"$f":"ResultsCalc(Players!$E7,Players!$G7,Players!MB7,Players!MD7)","v":0},2,"-",1,{"$f":"ResultsCalc(Players!$E7,Players!$G7,Players!MF7,Players!MH7)","v":6},2,"-",1,{"$f":"ResultsCalc(Players!$E7,Players!$G7,Players!MJ7,Players!ML7)","v":6},1,"-",1,{"$f":"ResultsCalc(Players!$E7,Players!$G7,Players!MN7,Players!MP7)","v":2},2,"-",1,{"$f":"ResultsCalc(Players!$E7,Players!$G7,Players!MR7,Players!MT7)","v":6},2,"-",1,{"$f":"ResultsCalc(Players!$E7,Players!$G7,Players!MV7,Players!MX7)","v":6},2,"-",1,{"$f":"ResultsCalc(Players!$E7,Players!$G7,Players!MZ7,Players!NB7)","v":6},2,"-",1,{"$f":"ResultsCalc(Players!$E7,Players!$G7,Players!ND7,Players!NF7)","v":6},2,"-",1,{"$f":"ResultsCalc(Players!$E7,Players!$G7,Players!NH7,Players!NJ7)","v":6},1,"-",1,{"$f":"ResultsCalc(Players!$E7,Players!$G7,Players!NL7,Players!NN7)","v":2},2,"-",1,{"$f":"ResultsCalc(Players!$E7,Players!$G7,Players!NP7,Players!NR7)","v":6},2,"-",2,{"$f":"ResultsCalc(Players!$E7,Players!$G7,Players!NT7,Players!NV7)","v":0},4,"-",0,{"$f":"ResultsCalc(Players!$E7,Players!$G7,Players!NX7,Players!NZ7)","v":6},2,"-",0,{"$f":"ResultsCalc(Players!$E7,Players!$G7,Players!OB7,Players!OD7)","v":6},2,"-",1,{"$f":"ResultsCalc(Players!$E7,Players!$G7,Players!OF7,Players!OH7)","v":6},2,"-",1,{"$f":"ResultsCalc(Players!$E7,Players!$G7,Players!OJ7,Players!OL7)","v":6},2,"-",1,{"$f":"ResultsCalc(Players!$E7,Players!$G7,Players!ON7,Players!OP7)","v":6},1,"-",1,{"$f":"ResultsCalc(Players!$E7,Players!$G7,Players!OR7,Players!OT7)","v":2},1,"-",0,{"$f":"ResultsCalc(Players!$E7,Players!$G7,Players!OV7,Players!OX7)","v":11},1,"-",1,{"$f":"ResultsCalc(Players!$E7,Players!$G7,Players!OZ7,Players!PB7)","v":2},1,"-",1,{"$f":"ResultsCalc(Players!$E7,Players!$G7,Players!PD7,Players!PF7)","v":2},3,"-",0,{"$f":"ResultsCalc(Players!$E7,Players!$G7,Players!PH7,Players!PJ7)","v":6},1,"-",3,{"$f":"ResultsCalc(Players!$E7,Players!$G7,Players!PL7,Players!PN7)","v":2},2,"-",1,{"$f":"ResultsCalc(Players!$E7,Players!$G7,Players!PP7,Players!PR7)","v":6},2,"-",2,{"$f":"ResultsCalc(Players!$E7,Players!$G7,Players!PT7,Players!PV7)","v":0},1,"-",2,{"$f":"ResultsCalc(Players!$E7,Players!$G7,Players!PX7,Players!PZ7)","v":2},1,"-",0,{"$f":"ResultsCalc(Players!$E7,Players!$G7,Players!QB7,Players!QD7)","v":11},3,"-",0,{"$f":"ResultsCalc(Players!$E7,Players!$G7,Players!QF7,Players!QH7)","v":6},1,"-",1,{"$f":"ResultsCalc(Players!$E7,Players!$G7,Players!QJ7,Players!QL7)","v":2},null,12,null,11,12]
["2021-06-13",6,"Austria","North Macedonia",3,"-",1,1,"-",0,{"$f":"ResultsCalc(Players!$E8,Players!$G8,Players!H8,Players!J8)","v":4},1,"-",0,{"$f":"ResultsCalc(Players!$E8,Players!$G8,Players!L8,Players!N8)","v":4},3,"-",0,{"$f":"ResultsCalc(Players!$E8,Players!$G8,Players!P8,Players!R8)","v":6},3,"-",0,{"$f":"ResultsCalc(Players!$E8,Players!$G8,Players!T8,Players!V8)","v":6},1,"-",0,{"$f":"ResultsCalc(Players!$E8,Players!$G8,Players!X8,Players!Z8)","v":4},1,"-",1,{"$f":"ResultsCalc(Players!$E8,Players!$G8,Players!AB8,Players!AD8)","v":2},1,"-",0,{"$f":"ResultsCalc(Players!$E8,Players!$G8,Players!AF8,Players!AH8)","v":4},1,"-",1,{"$f":"ResultsCalc(Players!$E8,Players!$G8,Players!AJ8,Players!AL8)","v":2},0,"-",0,{"$f":"ResultsCalc(Players!$E8,Players!$G8,Players!AN8,Players!AP8)","v":0},0,"-",0,{"$f":"ResultsCalc(Players!$E8,Players!$G8,Players!AR8,Players!AT8)","v":0},2,"-",2,{"$f":"ResultsCalc(Players!$E8,Players!$G8,Players!AV8,Players!AX8)","v":0},2,"-",0,{"$f":"ResultsCalc(Players!$E8,Players!$G8,Players!AZ8,Players!BB8)","v":6},1,"-",0,{"$f":"ResultsCalc(Players!$E8,Players!$G8,Players!BD8,Players!BF8)","v":4},0,"-",0,{"$f":"ResultsCalc(Players!$E8,Players!$G8,Players!BH8,Players!BJ8)","v":0},2,"-",0,{"$f":"ResultsCalc(Players!$E8,Players!$G8,Players!BL8,Players!BN8)","v":6},2,"-",0,{"$f":"ResultsCalc(Players!$E8,Players!$G8,Players!BP8,Players!BR8)","v":6},2,"-",0,{"$f":"ResultsCalc(Players!$E8,Players!$G8,Players!BT8,Players!BV8)","v":6},3,"-",0,{"$f":"ResultsCalc(Players!$E8,Players!$G8,Players!BX8,Players!BZ8)","v":6},0,"-",2,{"$f":"ResultsCalc(Players!$E8,Players!$G8,Players!CB8,Players!CD8)","v":0},0,"-",2,{"$f":"ResultsCalc(Players!$E8,Players!$G8,Players!CF8,Players!CH8)","v":0},2,"-",0,{"$f":"ResultsCalc(Players!$E8,Players!$G8,Players!CJ8,Players!CL8)","v":6},2,"-",2,{"$f":"ResultsCalc(Players!$E8,Players!$G8,Players!CN8,Players!CP8)","v":0},1,"-",1,{"$f":"ResultsCalc(Players!$E8,Players!$G8,Players!CR8,Players!CT8)","v":2},1,"-",0,{"$f":"ResultsCalc(Players!$E8,Players!$G8,Players!CV8,Players!CX8)","v":4},1,"-",0,{"$f":"ResultsCalc(Players!$E8,Players!$G8,Players!CZ8,Players!DB8)","v":4},3,"-",0,{"$f":"ResultsCalc(Players!$E8,Players!$G8,Players!DD8,Players!DF8)","v":6},0,"-",1,{"$f":"ResultsCalc(Players!$E8,Players!$G8,Players!DH8,Players!DJ8)","v":2},0,"-",0,{"$f":"ResultsCalc(Players!$E8,Players!$G8,Players!DL8,Players!DN8)","v":0},1,"-",0,{"$f":"ResultsCalc(Players!$E8,Players!$G8,Players!DP8,Players!DR8)","v":4},1,"-",0,{"$f":"ResultsCalc(Players!$E8,Players!$G8,Players!DT8,Players!DV8)","v":4},5,"-",0,{"$f":"ResultsCalc(Players!$E8,Players!$G8,Players!DX8,Players!DZ8)","v":4},1,"-",2,{"$f":"ResultsCalc(Players!$E8,Players!$G8,Players!EB8,Players!ED8)","v":0},0,"-",1,{"$f":"ResultsCalc(Players!$E8,Players!$G8,Players!EF8,Players!EH8)","v":2},1,"-",0,{"$f":"ResultsCalc(Players!$E8,Players!$G8,Players!EJ8,Players!EL8)","v":4},0,"-",0,{"$f":"ResultsCalc(Players!$E8,Players!$G8,Players!EN8,Players!EP8)","v":0},2,"-",0,{"$f":"ResultsCalc(Players!$E8,Players!$G8,Players!ER8,Players!ET8)","v":6},1,"-",0,{"$f":"ResultsCalc(Players!$E8,Players!$G8,Players!EV8,Players!EX8)","v":4},2,"-",0,{"$f":"ResultsCalc(Players!$E8,Players!$G8,Players!EZ8,Players!FB8)","v":6},1,"-",1,{"$f":"ResultsCalc(Players!$E8,Players!$G8,Players!FD8,Players!FF8)","v":2},2,"-",0,{"$f":"ResultsCalc(Players!$E8,Players!$G8,Players!FH8,Players!FJ8)","v":6},2,"-",0,{"$f":"ResultsCalc(Players!$E8,Players!$G8,Players!FL8,Players!FN8)","v":6},3,"-",2,{"$f":"ResultsCalc(Players!$E8,Players!$G8,Players!FP8,Players!FR8)","v":6},2,"-",0,{"$f":"ResultsCalc(Players!$E8,Players!$G8,Players!FT8,Players!FV8)","v":6},1,"-",0,{"$f":"ResultsCalc(Players!$E8,Players!$G8,Players!FX8,Players!FZ8)","v":4},0,"-",1,{"$f":"ResultsCalc(Players!$E8,Players!$G8,Players!GB8,Players!GD8)","v":2},2,"-",0,{"$f":"ResultsCalc(Players!$E8,Players!$G8,Players!GF8,Players!GH8)","v":6},2,"-",0,{"$f":"ResultsCalc(Players!$E8,Players!$G8,Players!GJ8,Players!GL8)","v":6},1,"-",0,{"$f":"ResultsCalc(Players!$E8,Players!$G8,Players!GN8,Players!GP8)","v":4},0,"-",0,{"$f":"ResultsCalc(Players!$E8,Players!$G8,Players!GR8,Players!GT8)","v":0},1,"-",1,{"$f":"ResultsCalc(Players!$E8,Players!$G8,Players!GV8,Players!GX8)","v":2},2,"-",0,{"$f":"ResultsCalc(Players!$E8,Players!$G8,Players!GZ8,Players!HB8)","v":6},2,"-",0,{"$f":"ResultsCalc(Players!$E8,Players!$G8,Players!HD8,Players!HF8)","v":6},1,"-",1,{"$f":"ResultsCalc(Players!$E8,Players!$G8,Players!HH8,Players!HJ8)","v":2},4,"-",0,{"$f":"ResultsCalc(Players!$E8,Players!$G8,Players!HL8,Players!HN8)","v":4},3,"-",1,{"$f":"ResultsCalc(Players!$E8,Players!$G8,Players!HP8,Players!HR8)","v":14},2,"-",0,{"$f":"ResultsCalc(Players!$E8,Players!$G8,Players!HT8,Players!HV8)","v":6},2,"-",1,{"$f":"ResultsCalc(Players!$E8,Players!$G8,Players!HX8,Players!HZ8)","v":6},4,"-",0,{"$f":"ResultsCalc(Players!$E8,Players!$G8,Players!IB8,Players!ID8)","v":4},0,"-",0,{"$f":"ResultsCalc(Players!$E8,Players!$G8,Players!IF8,Players!IH8)","v":0},3,"-",2,{"$f":"ResultsCalc(Players!$E8,Players!$G8,Players!IJ8,Players!IL8)","v":6},1,"-",0,{"$f":"ResultsCalc(Players!$E8,Players!$G8,Players!IN8,Players!IP8)","v":4},2,"-",1,{"$f":"ResultsCalc(Players!$E8,Players!$G8,Players!IR8,Players!IT8)","v":6},1,"-",0,{"$f":"ResultsCalc(Players!$E8,Players!$G8,Players!IV8,Players!IX8)","v":4},2,"-",0,{"$f":"ResultsCalc(Players!$E8,Players!$G8,Players!IZ8,Players!JB8)","v":6},3,"-",2,{"$f":"ResultsCalc(Players!$E8,Players!$G8,Players!JD8,Players!JF8)","v":6},2,"-",2,{"$f":"ResultsCalc(Players!$E8,Players!$G8,Players!JH8,Players!JJ8)","v":0},3,"-",0,{"$f":"ResultsCalc(Players!$E8,Players!$G8,Players!JL8,Players!JN8)","v":6},2,"-",0,{"$f":"ResultsCalc(Players!$E8,Players!$G8,Players!JP8,Players!JR8)","v":6},1,"-",0,{"$f":"ResultsCalc(Players!$E8,Players!$G8,Players!JT8,Players!JV8)","v":4},1,"-",0,{"$f":"ResultsCalc(Players!$E8,Players!$G8,Players!JX8,Players!JZ8)","v":4},1,"-",1,{"$f":"ResultsCalc(Players!$E8,Players!$G8,Players!KB8,Players!KD8)","v":2},3,"-",0,{"$f":"ResultsCalc(Players!$E8,Players!$G8,Players!KF8,Players!KH8)","v":6},4,"-",0,{"$f":"ResultsCalc(Players!$E8,Players!$G8,Players!KJ8,Players!KL8)","v":4},2,"-",0,{"$f":"ResultsCalc(Players!$E8,Players!$G8,Players!KN8,Players!KP8)","v":6},2,"-",0,{"$f":"ResultsCalc(Players!$E8,Players!$G8,Players!KR8,Players!KT8)","v":6},5,"-",1,{"$f":"ResultsCalc(Players!$E8,Players!$G8,Players!KV8,Players!KX8)","v":6},2,"-",0,{"$f":"ResultsCalc(Players!$E8,Players!$G8,Players!KZ8,Players!LB8)","v":6},2,"-",2,{"$f":"ResultsCalc(Players!$E8,Players!$G8,Players!LD8,Players!LF8)","v":0},3,"-",0,{"$f":"ResultsCalc(Players!$E8,Players!$G8,Players!LH8,Players!LJ8)","v":6},4,"-",0,{"$f":"ResultsCalc(Players!$E8,Players!$G8,Players!LL8,Players!LN8)","v":4},3,"-",1,{"$f":"ResultsCalc(Players!$E8,Players!$G8,Players!LP8,Players!LR8)","v":14},1,"-",1,{"$f":"ResultsCalc(Players!$E8,Players!$G8,Players!LT8,Players!LV8)","v":2},3,"-",0,{"$f":"ResultsCalc(Players!$E8,Players!$G8,Players!LX8,Players!LZ8)","v":6},2,"-",0,{"$f":"ResultsCalc(Players!$E8,Players!$G8,Players!MB8,Players!MD8)","v":6},2,"-",0,{"$f":"ResultsCalc(Players!$E8,Players!$G8,Players!MF8,Players!MH8)","v":6},2,"-",1,{"$f":"ResultsCalc(Players!$E8,Players!$G8,Players!MJ8,Players!ML8)","v":6},2,"-",0,{"$f":"ResultsCalc(Players!$E8,Players!$G8,Players!MN8,Players!MP8)","v":6},2,"-",1,{"$f":"ResultsCalc(Players!$E8,Players!$G8,Players!MR8,Players!MT8)","v":6},2,"-",0,{"$f":"ResultsCalc(Players!$E8,Players!$G8,Players!MV8,Players!MX8)","v":6},2,"-",0,{"$f":"ResultsCalc(Players!$E8,Players!$G8,Players!MZ8,Players!NB8)","v":6},0,"-",0,{"$f":"ResultsCalc(Players!$E8,Players!$G8,Players!ND8,Players!NF8)","v":0},2,"-",0,{"$f":"ResultsCalc(Players!$E8,Players!$G8,Players!NH8,Players!NJ8)","v":6},2,"-",1,{"$f":"ResultsCalc(Players!$E8,Players!$G8,Players!NL8,Players!NN8)","v":6},2,"-",0,{"$f":"ResultsCalc(Players!$E8,Players!$G8,Players!NP8,Players!NR8)","v":6},3,"-",0,{"$f":"ResultsCalc(Players!$E8,Players!$G8,Players!NT8,Players!NV8)","v":6},1,"-",0,{"$f":"ResultsCalc(Players!$E8,Players!$G8,Players!NX8,Players!NZ8)","v":4},2,"-",1,{"$f":"ResultsCalc(Players!$E8,Players!$G8,Players!OB8,Players!OD8)","v":6},0,"-",0,{"$f":"ResultsCalc(Players!$E8,Players!$G8,Players!OF8,Players!OH8)","v":0},1,"-",0,{"$f":"ResultsCalc(Players!$E8,Players!$G8,Players!OJ8,Players!OL8)","v":4},2,"-",0,{"$f":"ResultsCalc(Players!$E8,Players!$G8,Players!ON8,Players!OP8)","v":6},3,"-",0,{"$f":"ResultsCalc(Players!$E8,Players!$G8,Players!OR8,Players!OT8)","v":6},3,"-",1,{"$f":"ResultsCalc(Players!$E8,Players!$G8,Players!OV8,Players!OX8)","v":14},3,"-",1,{"$f":"ResultsCalc(Players!$E8,Players!$G8,Players!OZ8,Players!PB8)","v":14},2,"-",0,{"$f":"ResultsCalc(Players!$E8,Players!$G8,Players!PD8,Players!PF8)","v":6},3,"-",1,{"$f":"ResultsCalc(Players!$E8,Players!$G8,Players!PH8,Players!PJ8)","v":14},0,"-",0,{"$f":"ResultsCalc(Players!$E8,Players!$G8,Players!PL8,Players!PN8)","v":0},3,"-",1,{"$f":"ResultsCalc(Players!$E8,Players!$G8,Players!PP8,Players!PR8)","v":14},1,"-",0,{"$f":"ResultsCalc(Players!$E8,Players!$G8,Players!PT8,Players!PV8)","v":4},0,"-",2,{"$f":"ResultsCalc(Players!$E8,Players!$G8,Players!PX8,Players!PZ8)","v":0},3,"-",0,{"$f":"ResultsCalc(Players!$E8,Players!$G8,Players!QB8,Players!QD8)","v":6},2,"-",0,{"$f":"ResultsCalc(Players!$E8,Players!$G8,Players!QF8,Players!QH8)","v":6},2,"-",1,{"$f":"ResultsCalc(Players!$E8,Players!$G8,Players!QJ8,Players!QL8)","v":6},null,6,null,14,6]
["2021-06-13",7,"Netherlands","Ukraine",3,"-",2,3,"-",1,{"$f":"ResultsCalc(Players!$E9,Players!$G9,Players!H9,Players!J9)","v":6},1,"-",1,{"$f":"ResultsCalc(Players!$E9,Players!$G9,Players!L9,Players!N9)","v":0},2,"-",1,{"$f":"ResultsCalc(Players!$E9,Players!$G9,Players!P9,Players!R9)","v":6},3,"-",1,{"$f":"ResultsCalc(Players!$E9,Players!$G9,Players!T9,Players!V9)","v":6},3,"-",1,{"$f":"ResultsCalc(Players!$E9,Players!$G9,Players!X9,Players!Z9)","v":6},3,"-",1,{"$f":"ResultsCalc(Players!$E9,Players!$G9,Players!AB9,Players!AD9)","v":6},1,"-",1,{"$f":"ResultsCalc(Players!$E9,Players!$G9,Players!AF9,Players!AH9)","v":0},3,"-",2,{"$f":"ResultsCalc(Players!$E9,Players!$G9,Players!AJ9,Players!AL9)","v":15},1,"-",1,{"$f":"ResultsCalc(Players!$E9,Players!$G9,Players!AN9,Players!AP9)","v":0},2,"-",0,{"$f":"ResultsCalc(Players!$E9,Players!$G9,Players!AR9,Players!AT9)","v":4},3,"-",1,{"$f":"ResultsCalc(Players!$E9,Players!$G9,Players!AV9,Players!AX9)","v":6},1,"-",1,{"$f":"ResultsCalc(Players!$E9,Players!$G9,Players!AZ9,Players!BB9)","v":0},1,"-",1,{"$f":"ResultsCalc(Players!$E9,Players!$G9,Players!BD9,Players!BF9)","v":0},2,"-",1,{"$f":"ResultsCalc(Players!$E9,Players!$G9,Players!BH9,Players!BJ9)","v":6},0,"-",1,{"$f":"ResultsCalc(Players!$E9,Players!$G9,Players!BL9,Players!BN9)","v":0},2,"-",2,{"$f":"ResultsCalc(Players!$E9,Players!$G9,Players!BP9,Players!BR9)","v":2},1,"-",2,{"$f":"ResultsCalc(Players!$E9,Players!$G9,Players!BT9,Players!BV9)","v":2},1,"-",0,{"$f":"ResultsCalc(Players!$E9,Players!$G9,Players!BX9,Players!BZ9)","v":6},2,"-",1,{"$f":"ResultsCalc(Players!$E9,Players!$G9,Players!CB9,Players!CD9)","v":6},1,"-",1,{"$f":"ResultsCalc(Players!$E9,Players!$G9,Players!CF9,Players!CH9)","v":0},2,"-",1,{"$f":"ResultsCalc(Players!$E9,Players!$G9,Players!CJ9,Players!CL9)","v":6},0,"-",1,{"$f":"ResultsCalc(Players!$E9,Players!$G9,Players!CN9,Players!CP9)","v":0},0,"-",0,{"$f":"ResultsCalc(Players!$E9,Players!$G9,Players!CR9,Players!CT9)","v":0},2,"-",0,{"$f":"ResultsCalc(Players!$E9,Players!$G9,Players!CV9,Players!CX9)","v":4},2,"-",0,{"$f":"ResultsCalc(Players!$E9,Players!$G9,Players!CZ9,Players!DB9)","v":4},2,"-",1,{"$f":"ResultsCalc(Players!$E9,Players!$G9,Players!DD9,Players!DF9)","v":6},3,"-",1,{"$f":"ResultsCalc(Players!$E9,Players!$G9,Players!DH9,Players!DJ9)","v":6},2,"-",1,{"$f":"ResultsCalc(Players!$E9,Players!$G9,Players!DL9,Players!DN9)","v":6},1,"-",1,{"$f":"ResultsCalc(Players!$E9,Players!$G9,Players!DP9,Players!DR9)","v":0},3,"-",0,{"$f":"ResultsCalc(Players!$E9,Players!$G9,Players!DT9,Players!DV9)","v":6},3,"-",1,{"$f":"ResultsCalc(Players!$E9,Players!$G9,Players!DX9,Players!DZ9)","v":6},1,"-",1,{"$f":"ResultsCalc(Players!$E9,Players!$G9,Players!EB9,Players!ED9)","v":0},2,"-",1,{"$f":"ResultsCalc(Players!$E9,Players!$G9,Players!EF9,Players!EH9)","v":6},1,"-",0,{"$f":"ResultsCalc(Players!$E9,Players!$G9,Players!EJ9,Players!EL9)","v":6},2,"-",2,{"$f":"ResultsCalc(Players!$E9,Players!$G9,Players!EN9,Players!EP9)","v":2},2,"-",0,{"$f":"ResultsCalc(Players!$E9,Players!$G9,Players!ER9,Players!ET9)","v":4},3,"-",0,{"$f":"ResultsCalc(Players!$E9,Players!$G9,Players!EV9,Players!EX9)","v":6},3,"-",1,{"$f":"ResultsCalc(Players!$E9,Players!$G9,Players!EZ9,Players!FB9)","v":6},1,"-",0,{"$f":"ResultsCalc(Players!$E9,Players!$G9,Players!FD9,Players!FF9)","v":6},1,"-",1,{"$f":"ResultsCalc(Players!$E9,Players!$G9,Players!FH9,Players!FJ9)","v":0},2,"-",1,{"$f":"ResultsCalc(Players!$E9,Players!$G9,Players!FL9,Players!FN9)","v":6},1,"-",3,{"$f":"ResultsCalc(Players!$E9,Players!$G9,Players!FP9,Players!FR9)","v":0},2,"-",0,{"$f":"ResultsCalc(Players!$E9,Players!$G9,Players!FT9,Players!FV9)","v":4},2,"-",0,{"$f":"ResultsCalc(Players!$E9,Players!$G9,Players!FX9,Players!FZ9)","v":4},2,"-",1,{"$f":"ResultsCalc(Players!$E9,Players!$G9,Players!GB9,Players!GD9)","v":6},2,"-",1,{"$f":"ResultsCalc(Players!$E9,Players!$G9,Players!GF9,Players!GH9)","v":6},2,"-",0,{"$f":"ResultsCalc(Players!$E9,Players!$G9,Players!GJ9,Players!GL9)","v":4},2,"-",1,{"$f":"ResultsCalc(Players!$E9,Players!$G9,Players!GN9,Players!GP9)","v":6},3,"-",1,{"$f":"ResultsCalc(Players!$E9,Players!$G9,Players!GR9,Players!GT9)","v":6},2,"-",2,{"$f":"ResultsCalc(Players!$E9,Players!$G9,Players!GV9,Players!GX9)","v":2},2,"-",0,{"$f":"ResultsCalc(Players!$E9,Players!$G9,Players!GZ9,Players!HB9)","v":4},1,"-",1,{"$f":"ResultsCalc(Players!$E9,Players!$G9,Players!HD9,Players!HF9)","v":0},0,"-",1,{"$f":"ResultsCalc(Players!$E9,Players!$G9,Players!HH9,Players!HJ9)","v":0},3,"-",1,{"$f":"ResultsCalc(Players!$E9,Players!$G9,Players!HL9,Players!HN9)","v":6},1,"-",2,{"$f":"ResultsCalc(Players!$E9,Players!$G9,Players!HP9,Players!HR9)","v":2},2,"-",0,{"$f":"ResultsCalc(Players!$E9,Players!$G9,Players!HT9,Players!HV9)","v":4},2,"-",1,{"$f":"ResultsCalc(Players!$E9,Players!$G9,Players!HX9,Players!HZ9)","v":6},2,"-",1,{"$f":"ResultsCalc(Players!$E9,Players!$G9,Players!IB9,Players!ID9)","v":6},2,"-",0,{"$f":"ResultsCalc(Players!$E9,Players!$G9,Players!IF9,Players!IH9)","v":4},2,"-",0,{"$f":"ResultsCalc(Players!$E9,Players!$G9,Players!IJ9,Players!IL9)","v":4},3,"-",1,{"$f":"ResultsCalc(Players!$E9,Players!$G9,Players!IN9,Players!IP9)","v":6},2,"-",1,{"$f":"ResultsCalc(Players!$E9,Players!$G9,Players!IR9,Players!IT9)","v":6},3,"-",1,{"$f":"ResultsCalc(Players!$E9,Players!$G9,Players!IV9,Players!IX9)","v":6},2,"-",1,{"$f":"ResultsCalc(Players!$E9,Players!$G9,Players!IZ9,Players!JB9)","v":6},1,"-",0,{"$f":"ResultsCalc(Players!$E9,Players!$G9,Players!JD9,Players!JF9)","v":6},0,"-",0,{"$f":"ResultsCalc(Players!$E9,Players!$G9,Players!JH9,Players!JJ9)","v":0},2,"-",0,{"$f":"ResultsCalc(Players!$E9,Players!$G9,Players!JL9,Players!JN9)","v":4},1,"-",1,{"$f":"ResultsCalc(Players!$E9,Players!$G9,Players!JP9,Players!JR9)","v":0},2,"-",0,{"$f":"ResultsCalc(Players!$E9,Players!$G9,Players!JT9,Players!JV9)","v":4},2,"-",0,{"$f":"ResultsCalc(Players!$E9,Players!$G9,Players!JX9,Players!JZ9)","v":4},4,"-",2,{"$f":"ResultsCalc(Players!$E9,Players!$G9,Players!KB9,Players!KD9)","v":6},4,"-",1,{"$f":"ResultsCalc(Players!$E9,Players!$G9,Players!KF9,Players!KH9)","v":4},3,"-",0,{"$f":"ResultsCalc(Players!$E9,Players!$G9,Players!KJ9,Players!KL9)","v":6},3,"-",0,{"$f":"ResultsCalc(Players!$E9,Players!$G9,Players!KN9,Players!KP9)","v":6},3,"-",0,{"$f":"ResultsCalc(Players!$E9,Players!$G9,Players!KR9,Players!KT9)","v":6},2,"-",1,{"$f":"ResultsCalc(Players!$E9,Players!$G9,Players!KV9,Players!KX9)","v":6},1,"-",0,{"$f":"ResultsCalc(Players!$E9,Players!$G9,Players!KZ9,Players!LB9)","v":6},3,"-",0,{"$f":"ResultsCalc(Players!$E9,Players!$G9,Players!LD9,Players!LF9)","v":6},1,"-",1,{"$f":"ResultsCalc(Players!$E9,Players!$G9,Players!LH9,Players!LJ9)","v":0},2,"-",0,{"$f":"ResultsCalc(Players!$E9,Players!$G9,Players!LL9,Players!LN9)","v":4},2,"-",2,{"$f":"ResultsCalc(Players!$E9,Players!$G9,Players!LP9,Players!LR9)","v":2},2,"-",1,{"$f":"ResultsCalc(Players!$E9,Players!$G9,Players!LT9,Players!LV9)","v":6},2,"-",3,{"$f":"ResultsCalc(Players!$E9,Players!$G9,Players!LX9,Players!LZ9)","v":0},3,"-",1,{"$f":"ResultsCalc(Players!$E9,Players!$G9,Players!MB9,Players!MD9)","v":6},3,"-",1,{"$f":"ResultsCalc(Players!$E9,Players!$G9,Players!MF9,Players!MH9)","v":6},2,"-",1,{"$f":"ResultsCalc(Players!$E9,Players!$G9,Players!MJ9,Players!ML9)","v":6},1,"-",0,{"$f":"ResultsCalc(Players!$E9,Players!$G9,Players!MN9,Players!MP9)","v":6},3,"-",1,{"$f":"ResultsCalc(Players!$E9,Players!$G9,Players!MR9,Players!MT9)","v":6},3,"-",1,{"$f":"ResultsCalc(Players!$E9,Players!$G9,Players!MV9,Players!MX9)","v":6},0,"-",0,{"$f":"ResultsCalc(Players!$E9,Players!$G9,Players!MZ9,Players!NB9)","v":0},2,"-",0,{"$f":"ResultsCalc(Players!$E9,Players!$G9,Players!ND9,Players!NF9)","v":4},3,"-",1,{"$f":"ResultsCalc(Players!$E9,Players!$G9,Players!NH9,Players!NJ9)","v":6},1,"-",1,{"$f":"ResultsCalc(Players!$E9,Players!$G9,Players!NL9,Players!NN9)","v":0},2,"-",2,{"$f":"ResultsCalc(Players!$E9,Players!$G9,Players!NP9,Players!NR9)","v":2},2,"-",1,{"$f":"ResultsCalc(Players!$E9,Players!$G9,Players!NT9,Players!NV9)","v":6},1,"-",0,{"$f":"ResultsCalc(Players!$E9,Players!$G9,Players!NX9,Players!NZ9)","v":6},2,"-",0,{"$f":"ResultsCalc(Players!$E9,Players!$G9,Players!OB9,Players!OD9)","v":4},2,"-",0,{"$f":"ResultsCalc(Players!$E9,Players!$G9,Players!OF9,Players!OH9)","v":4},2,"-",0,{"$f":"ResultsCalc(Players!$E9,Players!$G9,Players!OJ9,Players!OL9)","v":4},1,"-",0,{"$f":"ResultsCalc(Players!$E9,Players!$G9,Players!ON9,Players!OP9)","v":6},2,"-",0,{"$f":"ResultsCalc(Players!$E9,Players!$G9,Players!OR9,Players!OT9)","v":4},2,"-",0,{"$f":"ResultsCalc(Players!$E9,Players!$G9,Players!OV9,Players!OX9)","v":4},2,"-",1,{"$f":"ResultsCalc(Players!$E9,Players!$G9,Players!OZ9,Players!PB9)","v":6},2,"-",1,{"$f":"ResultsCalc(Players!$E9,Players!$G9,Players!PD9,Players!PF9)","v":6},2,"-",0,{"$f":"ResultsCalc(Players!$E9,Players!$G9,Players!PH9,Players!PJ9)","v":4},2,"-",2,{"$f":"ResultsCalc(Players!$E9,Players!$G9,Players!PL9,Players!PN9)","v":2},2,"-",2,{"$f":"ResultsCalc(Players!$E9,Players!$G9,Players!PP9,Players!PR9)","v":2},2,"-",3,{"$f":"ResultsCalc(Players!$E9,Players!$G9,Players!PT9,Players!PV9)","v":0},1,"-",3,{"$f":"ResultsCalc(Players!$E9,Players!$G9,Players!PX9,Players!PZ9)","v":0},3,"-",0,{"$f":"ResultsCalc(Players!$E9,Players!$G9,Players!QB9,Players!QD9)","v":6},2,"-",1,{"$f":"ResultsCalc(Players!$E9,Players!$G9,Players!QF9,Players!QH9)","v":6},1,"-",0,{"$f":"ResultsCalc(Players!$E9,Players!$G9,Players!QJ9,Players!QL9)","v":6},null,1,null,15,1]
["2021-06-14",8,"Scotland","Czech Republic",0,"-",2,2,"-",0,{"$f":"ResultsCalc(Players!$E10,Players!$G10,Players!H10,Players!J10)","v":0},0,"-",2,{"$f":"ResultsCalc(Players!$E10,Players!$G10,Players!L10,Players!N10)","v":12},0,"-",1,{"$f":"ResultsCalc(Players!$E10,Players!$G10,Players!P10,Players!R10)","v":6},1,"-",1,{"$f":"ResultsCalc(Players!$E10,Players!$G10,Players!T10,Players!V10)","v":0},1,"-",1,{"$f":"ResultsCalc(Players!$E10,Players!$G10,Players!X10,Players!Z10)","v":0},2,"-",2,{"$f":"ResultsCalc(Players!$E10,Players!$G10,Players!AB10,Players!AD10)","v":2},0,"-",1,{"$f":"ResultsCalc(Players!$E10,Players!$G10,Players!AF10,Players!AH10)","v":6},1,"-",3,{"$f":"ResultsCalc(Players!$E10,Players!$G10,Players!AJ10,Players!AL10)","v":6},0,"-",2,{"$f":"ResultsCalc(Players!$E10,Players!$G10,Players!AN10,Players!AP10)","v":12},0,"-",0,{"$f":"ResultsCalc(Players!$E10,Players!$G10,Players!AR10,Players!AT10)","v":2},2,"-",2,{"$f":"ResultsCalc(Players!$E10,Players!$G10,Players!AV10,Players!AX10)","v":2},2,"-",1,{"$f":"ResultsCalc(Players!$E10,Players!$G10,Players!AZ10,Players!BB10)","v":0},2,"-",1,{"$f":"ResultsCalc(Players!$E10,Players!$G10,Players!BD10,Players!BF10)","v":0},2,"-",1,{"$f":"ResultsCalc(Players!$E10,Players!$G10,Players!BH10,Players!BJ10)","v":0},1,"-",1,{"$f":"ResultsCalc(Players!$E10,Players!$G10,Players!BL10,Players!BN10)","v":0},1,"-",2,{"$f":"ResultsCalc(Players!$E10,Players!$G10,Players!BP10,Players!BR10)","v":6},1,"-",3,{"$f":"ResultsCalc(Players!$E10,Players!$G10,Players!BT10,Players!BV10)","v":6},1,"-",1,{"$f":"ResultsCalc(Players!$E10,Players!$G10,Players!BX10,Players!BZ10)","v":0},0,"-",2,{"$f":"ResultsCalc(Players!$E10,Players!$G10,Players!CB10,Players!CD10)","v":12},2,"-",0,{"$f":"ResultsCalc(Players!$E10,Players!$G10,Players!CF10,Players!CH10)","v":0},0,"-",1,{"$f":"ResultsCalc(Players!$E10,Players!$G10,Players!CJ10,Players!CL10)","v":6},0,"-",3,{"$f":"ResultsCalc(Players!$E10,Players!$G10,Players!CN10,Players!CP10)","v":6},0,"-",2,{"$f":"ResultsCalc(Players!$E10,Players!$G10,Players!CR10,Players!CT10)","v":12},1,"-",1,{"$f":"ResultsCalc(Players!$E10,Players!$G10,Players!CV10,Players!CX10)","v":0},0,"-",0,{"$f":"ResultsCalc(Players!$E10,Players!$G10,Players!CZ10,Players!DB10)","v":2},1,"-",1,{"$f":"ResultsCalc(Players!$E10,Players!$G10,Players!DD10,Players!DF10)","v":0},1,"-",1,{"$f":"ResultsCalc(Players!$E10,Players!$G10,Players!DH10,Players!DJ10)","v":0},1,"-",0,{"$f":"ResultsCalc(Players!$E10,Players!$G10,Players!DL10,Players!DN10)","v":0},1,"-",0,{"$f":"ResultsCalc(Players!$E10,Players!$G10,Players!DP10,Players!DR10)","v":0},0,"-",2,{"$f":"ResultsCalc(Players!$E10,Players!$G10,Players!DT10,Players!DV10)","v":12},3,"-",1,{"$f":"ResultsCalc(Players!$E10,Players!$G10,Players!DX10,Players!DZ10)","v":0},0,"-",2,{"$f":"ResultsCalc(Players!$E10,Players!$G10,Players!EB10,Players!ED10)","v":12},1,"-",2,{"$f":"ResultsCalc(Players!$E10,Players!$G10,Players!EF10,Players!EH10)","v":6},1,"-",2,{"$f":"ResultsCalc(Players!$E10,Players!$G10,Players!EJ10,Players!EL10)","v":6},1,"-",2,{"$f":"ResultsCalc(Players!$E10,Players!$G10,Players!EN10,Players!EP10)","v":6},2,"-",1,{"$f":"ResultsCalc(Players!$E10,Players!$G10,Players!ER10,Players!ET10)","v":0},0,"-",1,{"$f":"ResultsCalc(Players!$E10,Players!$G10,Players!EV10,Players!EX10)","v":6},1,"-",1,{"$f":"ResultsCalc(Players!$E10,Players!$G10,Players!EZ10,Players!FB10)","v":0},2,"-",1,{"$f":"ResultsCalc(Players!$E10,Players!$G10,Players!FD10,Players!FF10)","v":0},1,"-",0,{"$f":"ResultsCalc(Players!$E10,Players!$G10,Players!FH10,Players!FJ10)","v":0},0,"-",1,{"$f":"ResultsCalc(Players!$E10,Players!$G10,Players!FL10,Players!FN10)","v":6},2,"-",1,{"$f":"ResultsCalc(Players!$E10,Players!$G10,Players!FP10,Players!FR10)","v":0},2,"-",2,{"$f":"ResultsCalc(Players!$E10,Players!$G10,Players!FT10,Players!FV10)","v":2},1,"-",1,{"$f":"ResultsCalc(Players!$E10,Players!$G10,Players!FX10,Players!FZ10)","v":0},2,"-",3,{"$f":"ResultsCalc(Players!$E10,Players!$G10,Players!GB10,Players!GD10)","v":4},2,"-",2,{"$f":"ResultsCalc(Players!$E10,Players!$G10,Players!GF10,Players!GH10)","v":2},1,"-",0,{"$f":"ResultsCalc(Players!$E10,Players!$G10,Players!GJ10,Players!GL10)","v":0},0,"-",2,{"$f":"ResultsCalc(Players!$E10,Players!$G10,Players!GN10,Players!GP10)","v":12},1,"-",1,{"$f":"ResultsCalc(Players!$E10,Players!$G10,Players!GR10,Players!GT10)","v":0},2,"-",1,{"$f":"ResultsCalc(Players!$E10,Players!$G10,Players!GV10,Players!GX10)","v":0},0,"-",0,{"$f":"ResultsCalc(Players!$E10,Players!$G10,Players!GZ10,Players!HB10)","v":2},1,"-",2,{"$f":"ResultsCalc(Players!$E10,Players!$G10,Players!HD10,Players!HF10)","v":6},0,"-",1,{"$f":"ResultsCalc(Players!$E10,Players!$G10,Players!HH10,Players!HJ10)","v":6},0,"-",1,{"$f":"ResultsCalc(Players!$E10,Players!$G10,Players!HL10,Players!HN10)","v":6},2,"-",1,{"$f":"ResultsCalc(Players!$E10,Players!$G10,Players!HP10,Players!HR10)","v":0},0,"-",2,{"$f":"ResultsCalc(Players!$E10,Players!$G10,Players!HT10,Players!HV10)","v":12},1,"-",1,{"$f":"ResultsCalc(Players!$E10,Players!$G10,Players!HX10,Players!HZ10)","v":0},1,"-",1,{"$f":"ResultsCalc(Players!$E10,Players!$G10,Players!IB10,Players!ID10)","v":0},0,"-",2,{"$f":"ResultsCalc(Players!$E10,Players!$G10,Players!IF10,Players!IH10)","v":12},1,"-",1,{"$f":"ResultsCalc(Players!$E10,Players!$G10,Players!IJ10,Players!IL10)","v":0},1,"-",1,{"$f":"ResultsCalc(Players!$E10,Players!$G10,Players!IN10,Players!IP10)","v":0},1,"-",1,{"$f":"ResultsCalc(Players!$E10,Players!$G10,Players!IR10,Players!IT10)","v":0},1,"-",1,{"$f":"ResultsCalc(Players!$E10,Players!$G10,Players!IV10,Players!IX10)","v":0},0,"-",0,{"$f":"ResultsCalc(Players!$E10,Players!$G10,Players!IZ10,Players!JB10)","v":2},0,"-",3,{"$f":"ResultsCalc(Players!$E10,Players!$G10,Players!JD10,Players!JF10)","v":6},2,"-",1,{"$f":"ResultsCalc(Players!$E10,Players!$G10,Players!JH10,Players!JJ10)","v":0},1,"-",2,{"$f":"ResultsCalc(Players!$E10,Players!$G10,Players!JL10,Players!JN10)","v":6},1,"-",2,{"$f":"ResultsCalc(Players!$E10,Players!$G10,Players!JP10,Players!JR10)","v":6},1,"-",1,{"$f":"ResultsCalc(Players!$E10,Players!$G10,Players!JT10,Players!JV10)","v":0},1,"-",1,{"$f":"ResultsCalc(Players!$E10,Players!$G10,Players!JX10,Players!JZ10)","v":0},2,"-",1,{"$f":"ResultsCalc(Players!$E10,Players!$G10,Players!KB10,Players!KD10)","v":0},1,"-",1,{"$f":"ResultsCalc(Players!$E10,Players!$G10,Players!KF10,Players!KH10)","v":0},1,"-",2,{"$f":"ResultsCalc(Players!$E10,Players!$G10,Players!KJ10,Players!KL10)","v":6},1,"-",2,{"$f":"ResultsCalc(Players!$E10,Players!$G10,Players!KN10,Players!KP10)","v":6},1,"-",1,{"$f":"ResultsCalc(Players!$E10,Players!$G10,Players!KR10,Players!KT10)","v":0},1,"-",1,{"$f":"ResultsCalc(Players!$E10,Players!$G10,Players!KV10,Players!KX10)","v":0},1,"-",1,{"$f":"ResultsCalc(Players!$E10,Players!$G10,Players!KZ10,Players!LB10)","v":0},1,"-",1,{"$f":"ResultsCalc(Players!$E10,Players!$G10,Players!LD10,Players!LF10)","v":0},0,"-",0,{"$f":"ResultsCalc(Players!$E10,Players!$G10,Players!LH10,Players!LJ10)","v":2},1,"-",0,{"$f":"ResultsCalc(Players!$E10,Players!$G10,Players!LL10,Players!LN10)","v":0},0,"-",1,{"$f":"ResultsCalc(Players!$E10,Players!$G10,Players!LP10,Players!LR10)","v":6},1,"-",1,{"$f":"ResultsCalc(Players!$E10,Players!$G10,Players!LT10,Players!LV10)","v":0},0,"-",3,{"$f":"ResultsCalc(Players!$E10,Players!$G10,Players!LX10,Players!LZ10)","v":6},1,"-",2,{"$f":"ResultsCalc(Players!$E10,Players!$G10,Players!MB10,Players!MD10)","v":6},0,"-",2,{"$f":"ResultsCalc(Players!$E10,Players!$G10,Players!MF10,Players!MH10)","v":12},2,"-",2,{"$f":"ResultsCalc(Players!$E10,Players!$G10,Players!MJ10,Players!ML10)","v":2},1,"-",1,{"$f":"ResultsCalc(Players!$E10,Players!$G10,Players!MN10,Players!MP10)","v":0},2,"-",1,{"$f":"ResultsCalc(Players!$E10,Players!$G10,Players!MR10,Players!MT10)","v":0},0,"-",1,{"$f":"ResultsCalc(Players!$E10,Players!$G10,Players!MV10,Players!MX10)","v":6},2,"-",1,{"$f":"ResultsCalc(Players!$E10,Players!$G10,Players!MZ10,Players!NB10)","v":0},0,"-",3,{"$f":"ResultsCalc(Players!$E10,Players!$G10,Players!ND10,Players!NF10)","v":6},1,"-",2,{"$f":"ResultsCalc(Players!$E10,Players!$G10,Players!NH10,Players!NJ10)","v":6},1,"-",1,{"$f":"ResultsCalc(Players!$E10,Players!$G10,Players!NL10,Players!NN10)","v":0},1,"-",1,{"$f":"ResultsCalc(Players!$E10,Players!$G10,Players!NP10,Players!NR10)","v":0},1,"-",1,{"$f":"ResultsCalc(Players!$E10,Players!$G10,Players!NT10,Players!NV10)","v":0},0,"-",1,{"$f":"ResultsCalc(Players!$E10,Players!$G10,Players!NX10,Players!NZ10)","v":6},1,"-",0,{"$f":"ResultsCalc(Players!$E10,Players!$G10,Players!OB10,Players!OD10)","v":0},1,"-",1,{"$f":"ResultsCalc(Players!$E10,Players!$G10,Players!OF10,Players!OH10)","v":0},0,"-",2,{"$f":"ResultsCalc(Players!$E10,Players!$G10,Players!OJ10,Players!OL10)","v":12},0,"-",1,{"$f":"ResultsCalc(Players!$E10,Players!$G10,Players!ON10,Players!OP10)","v":6},1,"-",2,{"$f":"ResultsCalc(Players!$E10,Players!$G10,Players!OR10,Players!OT10)","v":6},2,"-",2,{"$f":"ResultsCalc(Players!$E10,Players!$G10,Players!OV10,Players!OX10)","v":2},1,"-",3,{"$f":"ResultsCalc(Players!$E10,Players!$G10,Players!OZ10,Players!PB10)","v":6},2,"-",1,{"$f":"ResultsCalc(Players!$E10,Players!$G10,Players!PD10,Players!PF10)","v":0},1,"-",1,{"$f":"ResultsCalc(Players!$E10,Players!$G10,Players!PH10,Players!PJ10)","v":0},0,"-",0,{"$f":"ResultsCalc(Players!$E10,Players!$G10,Players!PL10,Players!PN10)","v":2},0,"-",2,{"$f":"ResultsCalc(Players!$E10,Players!$G10,Players!PP10,Players!PR10)","v":12},1,"-",2,{"$f":"ResultsCalc(Players!$E10,Players!$G10,Players!PT10,Players!PV10)","v":6},2,"-",0,{"$f":"ResultsCalc(Players!$E10,Players!$G10,Players!PX10,Players!PZ10)","v":0},0,"-",1,{"$f":"ResultsCalc(Players!$E10,Players!$G10,Players!QB10,Players!QD10)","v":6},2,"-",1,{"$f":"ResultsCalc(Players!$E10,Players!$G10,Players!QF10,Players!QH10)","v":0},0,"-",1,{"$f":"ResultsCalc(Players!$E10,Players!$G10,Players!QJ10,Players!QL10)","v":6},null,12,null,12,12]
["2021-06-14",9,"Poland","Slovakia",1,"-",2,2,"-",0,{"$f":"ResultsCalc(Players!$E11,Players!$G11,Players!H11,Players!J11)","v":0},0,"-",1,{"$f":"ResultsCalc(Players!$E11,Players!$G11,Players!L11,Players!N11)","v":6},1,"-",0,{"$f":"ResultsCalc(Players!$E11,Players!$G11,Players!P11,Players!R11)","v":2},2,"-",0,{"$f":"ResultsCalc(Players!$E11,Players!$G11,Players!T11,Players!V11)","v":0},0,"-",1,{"$f":"ResultsCalc(Players!$E11,Players!$G11,Players!X11,Players!Z11)","v":6},1,"-",1,{"$f":"ResultsCalc(Players!$E11,Players!$G11,Players!AB11,Players!AD11)","v":2},2,"-",1,{"$f":"ResultsCalc(Players!$E11,Players!$G11,Players!AF11,Players!AH11)","v":0},2,"-",2,{"$f":"ResultsCalc(Players!$E11,Players!$G11,Players!AJ11,Players!AL11)","v":2},1,"-",1,{"$f":"ResultsCalc(Players!$E11,Players!$G11,Players!AN11,Players!AP11)","v":2},1,"-",1,{"$f":"ResultsCalc(Players!$E11,Players!$G11,Players!AR11,Players!AT11)","v":2},0,"-",0,{"$f":"ResultsCalc(Players!$E11,Players!$G11,Players!AV11,Players!AX11)","v":0},2,"-",1,{"$f":"ResultsCalc(Players!$E11,Players!$G11,Players!AZ11,Players!BB11)","v":0},3,"-",2,{"$f":"ResultsCalc(Players!$E11,Players!$G11,Players!BD11,Players!BF11)","v":2},1,"-",1,{"$f":"ResultsCalc(Players!$E11,Players!$G11,Players!BH11,Players!BJ11)","v":2},1,"-",0,{"$f":"ResultsCalc(Players!$E11,Players!$G11,Players!BL11,Players!BN11)","v":2},3,"-",2,{"$f":"ResultsCalc(Players!$E11,Players!$G11,Players!BP11,Players!BR11)","v":2},3,"-",1,{"$f":"ResultsCalc(Players!$E11,Players!$G11,Players!BT11,Players!BV11)","v":0},2,"-",0,{"$f":"ResultsCalc(Players!$E11,Players!$G11,Players!BX11,Players!BZ11)","v":0},2,"-",0,{"$f":"ResultsCalc(Players!$E11,Players!$G11,Players!CB11,Players!CD11)","v":0},2,"-",3,{"$f":"ResultsCalc(Players!$E11,Players!$G11,Players!CF11,Players!CH11)","v":6},2,"-",0,{"$f":"ResultsCalc(Players!$E11,Players!$G11,Players!CJ11,Players!CL11)","v":0},2,"-",1,{"$f":"ResultsCalc(Players!$E11,Players!$G11,Players!CN11,Players!CP11)","v":0},2,"-",1,{"$f":"ResultsCalc(Players!$E11,Players!$G11,Players!CR11,Players!CT11)","v":0},3,"-",0,{"$f":"ResultsCalc(Players!$E11,Players!$G11,Players!CV11,Players!CX11)","v":0},2,"-",1,{"$f":"ResultsCalc(Players!$E11,Players!$G11,Players!CZ11,Players!DB11)","v":0},1,"-",0,{"$f":"ResultsCalc(Players!$E11,Players!$G11,Players!DD11,Players!DF11)","v":2},2,"-",2,{"$f":"ResultsCalc(Players!$E11,Players!$G11,Players!DH11,Players!DJ11)","v":2},1,"-",0,{"$f":"ResultsCalc(Players!$E11,Players!$G11,Players!DL11,Players!DN11)","v":2},2,"-",1,{"$f":"ResultsCalc(Players!$E11,Players!$G11,Players!DP11,Players!DR11)","v":0},2,"-",1,{"$f":"ResultsCalc(Players!$E11,Players!$G11,Players!DT11,Players!DV11)","v":0},4,"-",2,{"$f":"ResultsCalc(Players!$E11,Players!$G11,Players!DX11,Players!DZ11)","v":2},2,"-",1,{"$f":"ResultsCalc(Players!$E11,Players!$G11,Players!EB11,Players!ED11)","v":0},1,"-",2,{"$f":"ResultsCalc(Players!$E11,Players!$G11,Players!EF11,Players!EH11)","v":13},2,"-",0,{"$f":"ResultsCalc(Players!$E11,Players!$G11,Players!EJ11,Players!EL11)","v":0},1,"-",1,{"$f":"ResultsCalc(Players!$E11,Players!$G11,Players!EN11,Players!EP11)","v":2},2,"-",0,{"$f":"ResultsCalc(Players!$E11,Players!$G11,Players!ER11,Players!ET11)","v":0},1,"-",1,{"$f":"ResultsCalc(Players!$E11,Players!$G11,Players!EV11,Players!EX11)","v":2},2,"-",1,{"$f":"ResultsCalc(Players!$E11,Players!$G11,Players!EZ11,Players!FB11)","v":0},1,"-",1,{"$f":"ResultsCalc(Players!$E11,Players!$G11,Players!FD11,Players!FF11)","v":2},0,"-",0,{"$f":"ResultsCalc(Players!$E11,Players!$G11,Players!FH11,Players!FJ11)","v":0},1,"-",0,{"$f":"ResultsCalc(Players!$E11,Players!$G11,Players!FL11,Players!FN11)","v":2},4,"-",2,{"$f":"ResultsCalc(Players!$E11,Players!$G11,Players!FP11,Players!FR11)","v":2},2,"-",1,{"$f":"ResultsCalc(Players!$E11,Players!$G11,Players!FT11,Players!FV11)","v":0},3,"-",1,{"$f":"ResultsCalc(Players!$E11,Players!$G11,Players!FX11,Players!FZ11)","v":0},3,"-",2,{"$f":"ResultsCalc(Players!$E11,Players!$G11,Players!GB11,Players!GD11)","v":2},2,"-",2,{"$f":"ResultsCalc(Players!$E11,Players!$G11,Players!GF11,Players!GH11)","v":2},2,"-",1,{"$f":"ResultsCalc(Players!$E11,Players!$G11,Players!GJ11,Players!GL11)","v":0},1,"-",1,{"$f":"ResultsCalc(Players!$E11,Players!$G11,Players!GN11,Players!GP11)","v":2},2,"-",0,{"$f":"ResultsCalc(Players!$E11,Players!$G11,Players!GR11,Players!GT11)","v":0},3,"-",1,{"$f":"ResultsCalc(Players!$E11,Players!$G11,Players!GV11,Players!GX11)","v":0},1,"-",0,{"$f":"ResultsCalc(Players!$E11,Players!$G11,Players!GZ11,Players!HB11)","v":2},2,"-",1,{"$f":"ResultsCalc(Players!$E11,Players!$G11,Players!HD11,Players!HF11)","v":0},0,"-",0,{"$f":"ResultsCalc(Players!$E11,Players!$G11,Players!HH11,Players!HJ11)","v":0},1,"-",1,{"$f":"ResultsCalc(Players!$E11,Players!$G11,Players!HL11,Players!HN11)","v":2},3,"-",2,{"$f":"ResultsCalc(Players!$E11,Players!$G11,Players!HP11,Players!HR11)","v":2},3,"-",0,{"$f":"ResultsCalc(Players!$E11,Players!$G11,Players!HT11,Players!HV11)","v":0},1,"-",0,{"$f":"ResultsCalc(Players!$E11,Players!$G11,Players!HX11,Players!HZ11)","v":2},2,"-",1,{"$f":"ResultsCalc(Players!$E11,Players!$G11,Players!IB11,Players!ID11)","v":0},1,"-",1,{"$f":"ResultsCalc(Players!$E11,Players!$G11,Players!IF11,Players!IH11)","v":2},3,"-",0,{"$f":"ResultsCalc(Players!$E11,Players!$G11,Players!IJ11,Players!IL11)","v":0},2,"-",1,{"$f":"ResultsCalc(Players!$E11,Players!$G11,Players!IN11,Players!IP11)","v":0},3,"-",2,{"$f":"ResultsCalc(Players!$E11,Players!$G11,Players!IR11,Players!IT11)","v":2},2,"-",1,{"$f":"ResultsCalc(Players!$E11,Players!$G11,Players!IV11,Players!IX11)","v":0},1,"-",0,{"$f":"ResultsCalc(Players!$E11,Players!$G11,Players!IZ11,Players!JB11)","v":2},1,"-",0,{"$f":"ResultsCalc(Players!$E11,Players!$G11,Players!JD11,Players!JF11)","v":2},1,"-",2,{"$f":"ResultsCalc(Players!$E11,Players!$G11,Players!JH11,Players!JJ11)","v":13},1,"-",0,{"$f":"ResultsCalc(Players!$E11,Players!$G11,Players!JL11,Players!JN11)","v":2},2,"-",2,{"$f":"ResultsCalc(Players!$E11,Players!$G11,Players!JP11,Players!JR11)","v":2},0,"-",1,{"$f":"ResultsCalc(Players!$E11,Players!$G11,Players!JT11,Players!JV11)","v":6},2,"-",1,{"$f":"ResultsCalc(Players!$E11,Players!$G11,Players!JX11,Players!JZ11)","v":0},2,"-",2,{"$f":"ResultsCalc(Players!$E11,Players!$G11,Players!KB11,Players!KD11)","v":2},2,"-",1,{"$f":"ResultsCalc(Players!$E11,Players!$G11,Players!KF11,Players!KH11)","v":0},2,"-",0,{"$f":"ResultsCalc(Players!$E11,Players!$G11,Players!KJ11,Players!KL11)","v":0},2,"-",1,{"$f":"ResultsCalc(Players!$E11,Players!$G11,Players!KN11,Players!KP11)","v":0},1,"-",0,{"$f":"ResultsCalc(Players!$E11,Players!$G11,Players!KR11,Players!KT11)","v":2},3,"-",0,{"$f":"ResultsCalc(Players!$E11,Players!$G11,Players!KV11,Players!KX11)","v":0},1,"-",0,{"$f":"ResultsCalc(Players!$E11,Players!$G11,Players!KZ11,Players!LB11)","v":2},1,"-",0,{"$f":"ResultsCalc(Players!$E11,Players!$G11,Players!LD11,Players!LF11)","v":2},2,"-",0,{"$f":"ResultsCalc(Players!$E11,Players!$G11,Players!LH11,Players!LJ11)","v":0},2,"-",0,{"$f":"ResultsCalc(Players!$E11,Players!$G11,Players!LL11,Players!LN11)","v":0},1,"-",1,{"$f":"ResultsCalc(Players!$E11,Players!$G11,Players!LP11,Players!LR11)","v":2},2,"-",1,{"$f":"ResultsCalc(Players!$E11,Players!$G11,Players!LT11,Players!LV11)","v":0},3,"-",1,{"$f":"ResultsCalc(Players!$E11,Players!$G11,Players!LX11,Players!LZ11)","v":0},0,"-",2,{"$f":"ResultsCalc(Players!$E11,Players!$G11,Players!MB11,Players!MD11)","v":6},2,"-",1,{"$f":"ResultsCalc(Players!$E11,Players!$G11,Players!MF11,Players!MH11)","v":0},3,"-",2,{"$f":"ResultsCalc(Players!$E11,Players!$G11,Players!MJ11,Players!ML11)","v":2},2,"-",1,{"$f":"ResultsCalc(Players!$E11,Players!$G11,Players!MN11,Players!MP11)","v":0},1,"-",1,{"$f":"ResultsCalc(Players!$E11,Players!$G11,Players!MR11,Players!MT11)","v":2},2,"-",2,{"$f":"ResultsCalc(Players!$E11,Players!$G11,Players!MV11,Players!MX11)","v":2},1,"-",0,{"$f":"ResultsCalc(Players!$E11,Players!$G11,Players!MZ11,Players!NB11)","v":2},2,"-",0,{"$f":"ResultsCalc(Players!$E11,Players!$G11,Players!ND11,Players!NF11)","v":0},2,"-",2,{"$f":"ResultsCalc(Players!$E11,Players!$G11,Players!NH11,Players!NJ11)","v":2},2,"-",0,{"$f":"ResultsCalc(Players!$E11,Players!$G11,Players!NL11,Players!NN11)","v":0},2,"-",1,{"$f":"ResultsCalc(Players!$E11,Players!$G11,Players!NP11,Players!NR11)","v":0},1,"-",0,{"$f":"ResultsCalc(Players!$E11,Players!$G11,Players!NT11,Players!NV11)","v":2},0,"-",0,{"$f":"ResultsCalc(Players!$E11,Players!$G11,Players!NX11,Players!NZ11)","v":0},1,"-",0,{"$f":"ResultsCalc(Players!$E11,Players!$G11,Players!OB11,Players!OD11)","v":2},3,"-",0,{"$f":"ResultsCalc(Players!$E11,Players!$G11,Players!OF11,Players!OH11)","v":0},4,"-",0,{"$f":"ResultsCalc(Players!$E11,Players!$G11,Players!OJ11,Players!OL11)","v":0},1,"-",0,{"$f":"ResultsCalc(Players!$E11,Players!$G11,Players!ON11,Players!OP11)","v":2},2,"-",2,{"$f":"ResultsCalc(Players!$E11,Players!$G11,Players!OR11,Players!OT11)","v":2},2,"-",0,{"$f":"ResultsCalc(Players!$E11,Players!$G11,Players!OV11,Players!OX11)","v":0},2,"-",2,{"$f":"ResultsCalc(Players!$E11,Players!$G11,Players!OZ11,Players!PB11)","v":2},2,"-",1,{"$f":"ResultsCalc(Players!$E11,Players!$G11,Players!PD11,Players!PF11)","v":0},1,"-",1,{"$f":"ResultsCalc(Players!$E11,Players!$G11,Players!PH11,Players!PJ11)","v":2},4,"-",0,{"$f":"ResultsCalc(Players!$E11,Players!$G11,Players!PL11,Players!PN11)","v":0},2,"-",1,{"$f":"ResultsCalc(Players!$E11,Players!$G11,Players!PP11,Players!PR11)","v":0},1,"-",1,{"$f":"ResultsCalc(Players!$E11,Players!$G11,Players!PT11,Players!PV11)","v":2},1,"-",2,{"$f":"ResultsCalc(Players!$E11,Players!$G11,Players!PX11,Players!PZ11)","v":13},1,"-",0,{"$f":"ResultsCalc(Players!$E11,Players!$G11,Players!QB11,Players!QD11)","v":2},1,"-",1,{"$f":"ResultsCalc(Players!$E11,Players!$G11,Players!QF11,Players!QH11)","v":2},1,"-",0,{"$f":"ResultsCalc(Players!$E11,Players!$G11,Players!QJ11,Players!QL11)","v":2},null,3,null,13,3]
["2021-06-14",10,"Spain","Sweden",0,"-",0,3,"-",1,{"$f":"ResultsCalc(Players!$E12,Players!$G12,Players!H12,Players!J12)","v":0},1,"-",0,{"$f":"ResultsCalc(Players!$E12,Players!$G12,Players!L12,Players!N12)","v":2},2,"-",1,{"$f":"ResultsCalc(Players!$E12,Players!$G12,Players!P12,Players!R12)","v":0},1,"-",1,{"$f":"ResultsCalc(Players!$E12,Players!$G12,Players!T12,Players!V12)","v":6},1,"-",1,{"$f":"ResultsCalc(Players!$E12,Players!$G12,Players!X12,Players!Z12)","v":6},2,"-",0,{"$f":"ResultsCalc(Players!$E12,Players!$G12,Players!AB12,Players!AD12)","v":2},2,"-",1,{"$f":"ResultsCalc(Players!$E12,Players!$G12,Players!AF12,Players!AH12)","v":0},1,"-",0,{"$f":"ResultsCalc(Players!$E12,Players!$G12,Players!AJ12,Players!AL12)","v":2},2,"-",0,{"$f":"ResultsCalc(Players!$E12,Players!$G12,Players!AN12,Players!AP12)","v":2},1,"-",0,{"$f":"ResultsCalc(Players!$E12,Players!$G12,Players!AR12,Players!AT12)","v":2},0,"-",0,{"$f":"ResultsCalc(Players!$E12,Players!$G12,Players!AV12,Players!AX12)","v":10},3,"-",1,{"$f":"ResultsCalc(Players!$E12,Players!$G12,Players!AZ12,Players!BB12)","v":0},2,"-",1,{"$f":"ResultsCalc(Players!$E12,Players!$G12,Players!BD12,Players!BF12)","v":0},2,"-",2,{"$f":"ResultsCalc(Players!$E12,Players!$G12,Players!BH12,Players!BJ12)","v":6},2,"-",1,{"$f":"ResultsCalc(Players!$E12,Players!$G12,Players!BL12,Players!BN12)","v":0},3,"-",1,{"$f":"ResultsCalc(Players!$E12,Players!$G12,Players!BP12,Players!BR12)","v":0},2,"-",1,{"$f":"ResultsCalc(Players!$E12,Players!$G12,Players!BT12,Players!BV12)","v":0},1,"-",2,{"$f":"ResultsCalc(Players!$E12,Players!$G12,Players!BX12,Players!BZ12)","v":0},2,"-",3,{"$f":"ResultsCalc(Players!$E12,Players!$G12,Players!CB12,Players!CD12)","v":0},1,"-",1,{"$f":"ResultsCalc(Players!$E12,Players!$G12,Players!CF12,Players!CH12)","v":6},2,"-",1,{"$f":"ResultsCalc(Players!$E12,Players!$G12,Players!CJ12,Players!CL12)","v":0},2,"-",1,{"$f":"ResultsCalc(Players!$E12,Players!$G12,Players!CN12,Players!CP12)","v":0},1,"-",1,{"$f":"ResultsCalc(Players!$E12,Players!$G12,Players!CR12,Players!CT12)","v":6},2,"-",1,{"$f":"ResultsCalc(Players!$E12,Players!$G12,Players!CV12,Players!CX12)","v":0},3,"-",1,{"$f":"ResultsCalc(Players!$E12,Players!$G12,Players!CZ12,Players!DB12)","v":0},2,"-",0,{"$f":"ResultsCalc(Players!$E12,Players!$G12,Players!DD12,Players!DF12)","v":2},2,"-",0,{"$f":"ResultsCalc(Players!$E12,Players!$G12,Players!DH12,Players!DJ12)","v":2},2,"-",1,{"$f":"ResultsCalc(Players!$E12,Players!$G12,Players!DL12,Players!DN12)","v":0},2,"-",0,{"$f":"ResultsCalc(Players!$E12,Players!$G12,Players!DP12,Players!DR12)","v":2},2,"-",1,{"$f":"ResultsCalc(Players!$E12,Players!$G12,Players!DT12,Players!DV12)","v":0},3,"-",1,{"$f":"ResultsCalc(Players!$E12,Players!$G12,Players!DX12,Players!DZ12)","v":0},2,"-",0,{"$f":"ResultsCalc(Players!$E12,Players!$G12,Players!EB12,Players!ED12)","v":2},2,"-",0,{"$f":"ResultsCalc(Players!$E12,Players!$G12,Players!EF12,Players!EH12)","v":2},1,"-",0,{"$f":"ResultsCalc(Players!$E12,Players!$G12,Players!EJ12,Players!EL12)","v":2},2,"-",1,{"$f":"ResultsCalc(Players!$E12,Players!$G12,Players!EN12,Players!EP12)","v":0},3,"-",0,{"$f":"ResultsCalc(Players!$E12,Players!$G12,Players!ER12,Players!ET12)","v":2},2,"-",1,{"$f":"ResultsCalc(Players!$E12,Players!$G12,Players!EV12,Players!EX12)","v":0},3,"-",0,{"$f":"ResultsCalc(Players!$E12,Players!$G12,Players!EZ12,Players!FB12)","v":2},2,"-",1,{"$f":"ResultsCalc(Players!$E12,Players!$G12,Players!FD12,Players!FF12)","v":0},3,"-",1,{"$f":"ResultsCalc(Players!$E12,Players!$G12,Players!FH12,Players!FJ12)","v":0},2,"-",0,{"$f":"ResultsCalc(Players!$E12,Players!$G12,Players!FL12,Players!FN12)","v":2},1,"-",4,{"$f":"ResultsCalc(Players!$E12,Players!$G12,Players!FP12,Players!FR12)","v":0},3,"-",0,{"$f":"ResultsCalc(Players!$E12,Players!$G12,Players!FT12,Players!FV12)","v":2},2,"-",1,{"$f":"ResultsCalc(Players!$E12,Players!$G12,Players!FX12,Players!FZ12)","v":0},3,"-",2,{"$f":"ResultsCalc(Players!$E12,Players!$G12,Players!GB12,Players!GD12)","v":0},1,"-",0,{"$f":"ResultsCalc(Players!$E12,Players!$G12,Players!GF12,Players!GH12)","v":2},2,"-",0,{"$f":"ResultsCalc(Players!$E12,Players!$G12,Players!GJ12,Players!GL12)","v":2},3,"-",0,{"$f":"ResultsCalc(Players!$E12,Players!$G12,Players!GN12,Players!GP12)","v":2},2,"-",0,{"$f":"ResultsCalc(Players!$E12,Players!$G12,Players!GR12,Players!GT12)","v":2},4,"-",2,{"$f":"ResultsCalc(Players!$E12,Players!$G12,Players!GV12,Players!GX12)","v":0},3,"-",1,{"$f":"ResultsCalc(Players!$E12,Players!$G12,Players!GZ12,Players!HB12)","v":0},3,"-",1,{"$f":"ResultsCalc(Players!$E12,Players!$G12,Players!HD12,Players!HF12)","v":0},2,"-",0,{"$f":"ResultsCalc(Players!$E12,Players!$G12,Players!HH12,Players!HJ12)","v":2},2,"-",2,{"$f":"ResultsCalc(Players!$E12,Players!$G12,Players!HL12,Players!HN12)","v":6},2,"-",3,{"$f":"ResultsCalc(Players!$E12,Players!$G12,Players!HP12,Players!HR12)","v":0},2,"-",0,{"$f":"ResultsCalc(Players!$E12,Players!$G12,Players!HT12,Players!HV12)","v":2},1,"-",0,{"$f":"ResultsCalc(Players!$E12,Players!$G12,Players!HX12,Players!HZ12)","v":2},3,"-",0,{"$f":"ResultsCalc(Players!$E12,Players!$G12,Players!IB12,Players!ID12)","v":2},2,"-",0,{"$f":"ResultsCalc(Players!$E12,Players!$G12,Players!IF12,Players!IH12)","v":2},2,"-",1,{"$f":"ResultsCalc(Players!$E12,Players!$G12,Players!IJ12,Players!IL12)","v":0},2,"-",0,{"$f":"ResultsCalc(Players!$E12,Players!$G12,Players!IN12,Players!IP12)","v":2},0,"-",0,{"$f":"ResultsCalc(Players!$E12,Players!$G12,Players!IR12,Players!IT12)","v":10},2,"-",0,{"$f":"ResultsCalc(Players!$E12,Players!$G12,Players!IV12,Players!IX12)","v":2},2,"-",0,{"$f":"ResultsCalc(Players!$E12,Players!$G12,Players!IZ12,Players!JB12)","v":2},2,"-",1,{"$f":"ResultsCalc(Players!$E12,Players!$G12,Players!JD12,Players!JF12)","v":0},1,"-",2,{"$f":"ResultsCalc(Players!$E12,Players!$G12,Players!JH12,Players!JJ12)","v":0},3,"-",1,{"$f":"ResultsCalc(Players!$E12,Players!$G12,Players!JL12,Players!JN12)","v":0},2,"-",0,{"$f":"ResultsCalc(Players!$E12,Players!$G12,Players!JP12,Players!JR12)","v":2},3,"-",2,{"$f":"ResultsCalc(Players!$E12,Players!$G12,Players!JT12,Players!JV12)","v":0},2,"-",0,{"$f":"ResultsCalc(Players!$E12,Players!$G12,Players!JX12,Players!JZ12)","v":2},4,"-",0,{"$f":"ResultsCalc(Players!$E12,Players!$G12,Players!KB12,Players!KD12)","v":2},2,"-",2,{"$f":"ResultsCalc(Players!$E12,Players!$G12,Players!KF12,Players!KH12)","v":6},2,"-",0,{"$f":"ResultsCalc(Players!$E12,Players!$G12,Players!KJ12,Players!KL12)","v":2},2,"-",1,{"$f":"ResultsCalc(Players!$E12,Players!$G12,Players!KN12,Players!KP12)","v":0},2,"-",1,{"$f":"ResultsCalc(Players!$E12,Players!$G12,Players!KR12,Players!KT12)","v":0},2,"-",1,{"$f":"ResultsCalc(Players!$E12,Players!$G12,Players!KV12,Players!KX12)","v":0},2,"-",1,{"$f":"ResultsCalc(Players!$E12,Players!$G12,Players!KZ12,Players!LB12)","v":0},4,"-",2,{"$f":"ResultsCalc(Players!$E12,Players!$G12,Players!LD12,Players!LF12)","v":0},3,"-",0,{"$f":"ResultsCalc(Players!$E12,Players!$G12,Players!LH12,Players!LJ12)","v":2},3,"-",1,{"$f":"ResultsCalc(Players!$E12,Players!$G12,Players!LL12,Players!LN12)","v":0},2,"-",0,{"$f":"ResultsCalc(Players!$E12,Players!$G12,Players!LP12,Players!LR12)","v":2},1,"-",0,{"$f":"ResultsCalc(Players!$E12,Players!$G12,Players!LT12,Players!LV12)","v":2},2,"-",0,{"$f":"ResultsCalc(Players!$E12,Players!$G12,Players!LX12,Players!LZ12)","v":2},1,"-",0,{"$f":"ResultsCalc(Players!$E12,Players!$G12,Players!MB12,Players!MD12)","v":2},2,"-",0,{"$f":"ResultsCalc(Players!$E12,Players!$G12,Players!MF12,Players!MH12)","v":2},3,"-",2,{"$f":"ResultsCalc(Players!$E12,Players!$G12,Players!MJ12,Players!ML12)","v":0},2,"-",0,{"$f":"ResultsCalc(Players!$E12,Players!$G12,Players!MN12,Players!MP12)","v":2},3,"-",1,{"$f":"ResultsCalc(Players!$E12,Players!$G12,Players!MR12,Players!MT12)","v":0},2,"-",1,{"$f":"ResultsCalc(Players!$E12,Players!$G12,Players!MV12,Players!MX12)","v":0},2,"-",0,{"$f":"ResultsCalc(Players!$E12,Players!$G12,Players!MZ12,Players!NB12)","v":2},2,"-",1,{"$f":"ResultsCalc(Players!$E12,Players!$G12,Players!ND12,Players!NF12)","v":0},1,"-",1,{"$f":"ResultsCalc(Players!$E12,Players!$G12,Players!NH12,Players!NJ12)","v":6},2,"-",1,{"$f":"ResultsCalc(Players!$E12,Players!$G12,Players!NL12,Players!NN12)","v":0},3,"-",1,{"$f":"ResultsCalc(Players!$E12,Players!$G12,Players!NP12,Players!NR12)","v":0},2,"-",0,{"$f":"ResultsCalc(Players!$E12,Players!$G12,Players!NT12,Players!NV12)","v":2},2,"-",1,{"$f":"ResultsCalc(Players!$E12,Players!$G12,Players!NX12,Players!NZ12)","v":0},2,"-",1,{"$f":"ResultsCalc(Players!$E12,Players!$G12,Players!OB12,Players!OD12)","v":0},2,"-",0,{"$f":"ResultsCalc(Players!$E12,Players!$G12,Players!OF12,Players!OH12)","v":2},2,"-",2,{"$f":"ResultsCalc(Players!$E12,Players!$G12,Players!OJ12,Players!OL12)","v":6},1,"-",1,{"$f":"ResultsCalc(Players!$E12,Players!$G12,Players!ON12,Players!OP12)","v":6},3,"-",1,{"$f":"ResultsCalc(Players!$E12,Players!$G12,Players!OR12,Players!OT12)","v":0},4,"-",2,{"$f":"ResultsCalc(Players!$E12,Players!$G12,Players!OV12,Players!OX12)","v":0},4,"-",0,{"$f":"ResultsCalc(Players!$E12,Players!$G12,Players!OZ12,Players!PB12)","v":2},2,"-",0,{"$f":"ResultsCalc(Players!$E12,Players!$G12,Players!PD12,Players!PF12)","v":2},3,"-",1,{"$f":"ResultsCalc(Players!$E12,Players!$G12,Players!PH12,Players!PJ12)","v":0},5,"-",4,{"$f":"ResultsCalc(Players!$E12,Players!$G12,Players!PL12,Players!PN12)","v":0},3,"-",0,{"$f":"ResultsCalc(Players!$E12,Players!$G12,Players!PP12,Players!PR12)","v":2},4,"-",2,{"$f":"ResultsCalc(Players!$E12,Players!$G12,Players!PT12,Players!PV12)","v":0},0,"-",2,{"$f":"ResultsCalc(Players!$E12,Players!$G12,Players!PX12,Players!PZ12)","v":2},3,"-",1,{"$f":"ResultsCalc(Players!$E12,Players!$G12,Players!QB12,Players!QD12)","v":0},3,"-",0,{"$f":"ResultsCalc(Players!$E12,Players!$G12,Players!QF12,Players!QH12)","v":2},1,"-",1,{"$f":"ResultsCalc(Players!$E12,Players!$G12,Players!QJ12,Players!QL12)","v":6},null,2,null,10,2]
["2021-06-15",11,"Hungary","Portugal",0,"-",3,1,"-",2,{"$f":"ResultsCalc(Players!$E13,Players!$G13,Players!H13,Players!J13)","v":4},1,"-",2,{"$f":"ResultsCalc(Players!$E13,Players!$G13,Players!L13,Players!N13)","v":4},0,"-",2,{"$f":"ResultsCalc(Players!$E13,Players!$G13,Players!P13,Players!R13)","v":6},1,"-",4,{"$f":"ResultsCalc(Players!$E13,Players!$G13,Players!T13,Players!V13)","v":6},0,"-",2,{"$f":"ResultsCalc(Players!$E13,Players!$G13,Players!X13,Players!Z13)","v":6},0,"-",1,{"$f":"ResultsCalc(Players!$E13,Players!$G13,Players!AB13,Players!AD13)","v":6},1,"-",3,{"$f":"ResultsCalc(Players!$E13,Players!$G13,Players!AF13,Players!AH13)","v":6},0,"-",2,{"$f":"ResultsCalc(Players!$E13,Players!$G13,Players!AJ13,Players!AL13)","v":6},1,"-",1,{"$f":"ResultsCalc(Players!$E13,Players!$G13,Players!AN13,Players!AP13)","v":0},1,"-",1,{"$f":"ResultsCalc(Players!$E13,Players!$G13,Players!AR13,Players!AT13)","v":0},1,"-",2,{"$f":"ResultsCalc(Players!$E13,Players!$G13,Players!AV13,Players!AX13)","v":4},1,"-",2,{"$f":"ResultsCalc(Players!$E13,Players!$G13,Players!AZ13,Players!BB13)","v":4},1,"-",2,{"$f":"ResultsCalc(Players!$E13,Players!$G13,Players!BD13,Players!BF13)","v":4},2,"-",1,{"$f":"ResultsCalc(Players!$E13,Players!$G13,Players!BH13,Players!BJ13)","v":0},1,"-",1,{"$f":"ResultsCalc(Players!$E13,Players!$G13,Players!BL13,Players!BN13)","v":0},1,"-",3,{"$f":"ResultsCalc(Players!$E13,Players!$G13,Players!BP13,Players!BR13)","v":6},0,"-",3,{"$f":"ResultsCalc(Players!$E13,Players!$G13,Players!BT13,Players!BV13)","v":13},0,"-",1,{"$f":"ResultsCalc(Players!$E13,Players!$G13,Players!BX13,Players!BZ13)","v":6},1,"-",2,{"$f":"ResultsCalc(Players!$E13,Players!$G13,Players!CB13,Players!CD13)","v":4},0,"-",3,{"$f":"ResultsCalc(Players!$E13,Players!$G13,Players!CF13,Players!CH13)","v":13},0,"-",2,{"$f":"ResultsCalc(Players!$E13,Players!$G13,Players!CJ13,Players!CL13)","v":6},1,"-",2,{"$f":"ResultsCalc(Players!$E13,Players!$G13,Players!CN13,Players!CP13)","v":4},0,"-",0,{"$f":"ResultsCalc(Players!$E13,Players!$G13,Players!CR13,Players!CT13)","v":2},0,"-",4,{"$f":"ResultsCalc(Players!$E13,Players!$G13,Players!CV13,Players!CX13)","v":6},0,"-",2,{"$f":"ResultsCalc(Players!$E13,Players!$G13,Players!CZ13,Players!DB13)","v":6},0,"-",2,{"$f":"ResultsCalc(Players!$E13,Players!$G13,Players!DD13,Players!DF13)","v":6},0,"-",3,{"$f":"ResultsCalc(Players!$E13,Players!$G13,Players!DH13,Players!DJ13)","v":13},0,"-",2,{"$f":"ResultsCalc(Players!$E13,Players!$G13,Players!DL13,Players!DN13)","v":6},0,"-",1,{"$f":"ResultsCalc(Players!$E13,Players!$G13,Players!DP13,Players!DR13)","v":6},1,"-",2,{"$f":"ResultsCalc(Players!$E13,Players!$G13,Players!DT13,Players!DV13)","v":4},1,"-",4,{"$f":"ResultsCalc(Players!$E13,Players!$G13,Players!DX13,Players!DZ13)","v":6},1,"-",2,{"$f":"ResultsCalc(Players!$E13,Players!$G13,Players!EB13,Players!ED13)","v":4},0,"-",2,{"$f":"ResultsCalc(Players!$E13,Players!$G13,Players!EF13,Players!EH13)","v":6},1,"-",2,{"$f":"ResultsCalc(Players!$E13,Players!$G13,Players!EJ13,Players!EL13)","v":4},0,"-",1,{"$f":"ResultsCalc(Players!$E13,Players!$G13,Players!EN13,Players!EP13)","v":6},1,"-",2,{"$f":"ResultsCalc(Players!$E13,Players!$G13,Players!ER13,Players!ET13)","v":4},0,"-",2,{"$f":"ResultsCalc(Players!$E13,Players!$G13,Players!EV13,Players!EX13)","v":6},0,"-",1,{"$f":"ResultsCalc(Players!$E13,Players!$G13,Players!EZ13,Players!FB13)","v":6},1,"-",1,{"$f":"ResultsCalc(Players!$E13,Players!$G13,Players!FD13,Players!FF13)","v":0},1,"-",3,{"$f":"ResultsCalc(Players!$E13,Players!$G13,Players!FH13,Players!FJ13)","v":6},0,"-",2,{"$f":"ResultsCalc(Players!$E13,Players!$G13,Players!FL13,Players!FN13)","v":6},2,"-",1,{"$f":"ResultsCalc(Players!$E13,Players!$G13,Players!FP13,Players!FR13)","v":0},1,"-",4,{"$f":"ResultsCalc(Players!$E13,Players!$G13,Players!FT13,Players!FV13)","v":6},1,"-",3,{"$f":"ResultsCalc(Players!$E13,Players!$G13,Players!FX13,Players!FZ13)","v":6},2,"-",4,{"$f":"ResultsCalc(Players!$E13,Players!$G13,Players!GB13,Players!GD13)","v":4},0,"-",2,{"$f":"ResultsCalc(Players!$E13,Players!$G13,Players!GF13,Players!GH13)","v":6},0,"-",2,{"$f":"ResultsCalc(Players!$E13,Players!$G13,Players!GJ13,Players!GL13)","v":6},0,"-",2,{"$f":"ResultsCalc(Players!$E13,Players!$G13,Players!GN13,Players!GP13)","v":6},0,"-",3,{"$f":"ResultsCalc(Players!$E13,Players!$G13,Players!GR13,Players!GT13)","v":13},0,"-",3,{"$f":"ResultsCalc(Players!$E13,Players!$G13,Players!GV13,Players!GX13)","v":13},0,"-",1,{"$f":"ResultsCalc(Players!$E13,Players!$G13,Players!GZ13,Players!HB13)","v":6},1,"-",3,{"$f":"ResultsCalc(Players!$E13,Players!$G13,Players!HD13,Players!HF13)","v":6},1,"-",3,{"$f":"ResultsCalc(Players!$E13,Players!$G13,Players!HH13,Players!HJ13)","v":6},1,"-",3,{"$f":"ResultsCalc(Players!$E13,Players!$G13,Players!HL13,Players!HN13)","v":6},2,"-",2,{"$f":"ResultsCalc(Players!$E13,Players!$G13,Players!HP13,Players!HR13)","v":0},0,"-",3,{"$f":"ResultsCalc(Players!$E13,Players!$G13,Players!HT13,Players!HV13)","v":13},0,"-",1,{"$f":"ResultsCalc(Players!$E13,Players!$G13,Players!HX13,Players!HZ13)","v":6},1,"-",3,{"$f":"ResultsCalc(Players!$E13,Players!$G13,Players!IB13,Players!ID13)","v":6},0,"-",3,{"$f":"ResultsCalc(Players!$E13,Players!$G13,Players!IF13,Players!IH13)","v":13},0,"-",1,{"$f":"ResultsCalc(Players!$E13,Players!$G13,Players!IJ13,Players!IL13)","v":6},1,"-",2,{"$f":"ResultsCalc(Players!$E13,Players!$G13,Players!IN13,Players!IP13)","v":4},1,"-",3,{"$f":"ResultsCalc(Players!$E13,Players!$G13,Players!IR13,Players!IT13)","v":6},0,"-",2,{"$f":"ResultsCalc(Players!$E13,Players!$G13,Players!IV13,Players!IX13)","v":6},0,"-",2,{"$f":"ResultsCalc(Players!$E13,Players!$G13,Players!IZ13,Players!JB13)","v":6},0,"-",5,{"$f":"ResultsCalc(Players!$E13,Players!$G13,Players!JD13,Players!JF13)","v":6},2,"-",3,{"$f":"ResultsCalc(Players!$E13,Players!$G13,Players!JH13,Players!JJ13)","v":6},1,"-",2,{"$f":"ResultsCalc(Players!$E13,Players!$G13,Players!JL13,Players!JN13)","v":4},1,"-",3,{"$f":"ResultsCalc(Players!$E13,Players!$G13,Players!JP13,Players!JR13)","v":6},2,"-",2,{"$f":"ResultsCalc(Players!$E13,Players!$G13,Players!JT13,Players!JV13)","v":0},1,"-",3,{"$f":"ResultsCalc(Players!$E13,Players!$G13,Players!JX13,Players!JZ13)","v":6},1,"-",3,{"$f":"ResultsCalc(Players!$E13,Players!$G13,Players!KB13,Players!KD13)","v":6},1,"-",3,{"$f":"ResultsCalc(Players!$E13,Players!$G13,Players!KF13,Players!KH13)","v":6},1,"-",3,{"$f":"ResultsCalc(Players!$E13,Players!$G13,Players!KJ13,Players!KL13)","v":6},0,"-",3,{"$f":"ResultsCalc(Players!$E13,Players!$G13,Players!KN13,Players!KP13)","v":13},0,"-",2,{"$f":"ResultsCalc(Players!$E13,Players!$G13,Players!KR13,Players!KT13)","v":6},1,"-",6,{"$f":"ResultsCalc(Players!$E13,Players!$G13,Players!KV13,Players!KX13)","v":4},0,"-",1,{"$f":"ResultsCalc(Players!$E13,Players!$G13,Players!KZ13,Players!LB13)","v":6},1,"-",3,{"$f":"ResultsCalc(Players!$E13,Players!$G13,Players!LD13,Players!LF13)","v":6},1,"-",3,{"$f":"ResultsCalc(Players!$E13,Players!$G13,Players!LH13,Players!LJ13)","v":6},1,"-",2,{"$f":"ResultsCalc(Players!$E13,Players!$G13,Players!LL13,Players!LN13)","v":4},0,"-",2,{"$f":"ResultsCalc(Players!$E13,Players!$G13,Players!LP13,Players!LR13)","v":6},1,"-",2,{"$f":"ResultsCalc(Players!$E13,Players!$G13,Players!LT13,Players!LV13)","v":4},0,"-",4,{"$f":"ResultsCalc(Players!$E13,Players!$G13,Players!LX13,Players!LZ13)","v":6},0,"-",0,{"$f":"ResultsCalc(Players!$E13,Players!$G13,Players!MB13,Players!MD13)","v":2},0,"-",2,{"$f":"ResultsCalc(Players!$E13,Players!$G13,Players!MF13,Players!MH13)","v":6},1,"-",3,{"$f":"ResultsCalc(Players!$E13,Players!$G13,Players!MJ13,Players!ML13)","v":6},0,"-",2,{"$f":"ResultsCalc(Players!$E13,Players!$G13,Players!MN13,Players!MP13)","v":6},0,"-",4,{"$f":"ResultsCalc(Players!$E13,Players!$G13,Players!MR13,Players!MT13)","v":6},1,"-",3,{"$f":"ResultsCalc(Players!$E13,Players!$G13,Players!MV13,Players!MX13)","v":6},0,"-",4,{"$f":"ResultsCalc(Players!$E13,Players!$G13,Players!MZ13,Players!NB13)","v":6},0,"-",2,{"$f":"ResultsCalc(Players!$E13,Players!$G13,Players!ND13,Players!NF13)","v":6},0,"-",4,{"$f":"ResultsCalc(Players!$E13,Players!$G13,Players!NH13,Players!NJ13)","v":6},0,"-",1,{"$f":"ResultsCalc(Players!$E13,Players!$G13,Players!NL13,Players!NN13)","v":6},1,"-",3,{"$f":"ResultsCalc(Players!$E13,Players!$G13,Players!NP13,Players!NR13)","v":6},1,"-",3,{"$f":"ResultsCalc(Players!$E13,Players!$G13,Players!NT13,Players!NV13)","v":6},0,"-",2,{"$f":"ResultsCalc(Players!$E13,Players!$G13,Players!NX13,Players!NZ13)","v":6},0,"-",3,{"$f":"ResultsCalc(Players!$E13,Players!$G13,Players!OB13,Players!OD13)","v":13},1,"-",5,{"$f":"ResultsCalc(Players!$E13,Players!$G13,Players!OF13,Players!OH13)","v":4},0,"-",3,{"$f":"ResultsCalc(Players!$E13,Players!$G13,Players!OJ13,Players!OL13)","v":13},0,"-",0,{"$f":"ResultsCalc(Players!$E13,Players!$G13,Players!ON13,Players!OP13)","v":2},0,"-",3,{"$f":"ResultsCalc(Players!$E13,Players!$G13,Players!OR13,Players!OT13)","v":13},1,"-",3,{"$f":"ResultsCalc(Players!$E13,Players!$G13,Players!OV13,Players!OX13)","v":6},1,"-",2,{"$f":"ResultsCalc(Players!$E13,Players!$G13,Players!OZ13,Players!PB13)","v":4},1,"-",2,{"$f":"ResultsCalc(Players!$E13,Players!$G13,Players!PD13,Players!PF13)","v":4},1,"-",2,{"$f":"ResultsCalc(Players!$E13,Players!$G13,Players!PH13,Players!PJ13)","v":4},2,"-",4,{"$f":"ResultsCalc(Players!$E13,Players!$G13,Players!PL13,Players!PN13)","v":4},1,"-",2,{"$f":"ResultsCalc(Players!$E13,Players!$G13,Players!PP13,Players!PR13)","v":4},1,"-",2,{"$f":"ResultsCalc(Players!$E13,Players!$G13,Players!PT13,Players!PV13)","v":4},2,"-",0,{"$f":"ResultsCalc(Players!$E13,Players!$G13,Players!PX13,Players!PZ13)","v":0},1,"-",2,{"$f":"ResultsCalc(Players!$E13,Players!$G13,Players!QB13,Players!QD13)","v":4},0,"-",3,{"$f":"ResultsCalc(Players!$E13,Players!$G13,Players!QF13,Players!QH13)","v":13},0,"-",2,{"$f":"ResultsCalc(Players!$E13,Players!$G13,Players!QJ13,Players!QL13)","v":6},null,12,null,13,12]
["2021-06-15",12,"France","Germany",1,"-",0,1,"-",1,{"$f":"ResultsCalc(Players!$E14,Players!$G14,Players!H14,Players!J14)","v":2},2,"-",1,{"$f":"ResultsCalc(Players!$E14,Players!$G14,Players!L14,Players!N14)","v":6},2,"-",1,{"$f":"ResultsCalc(Players!$E14,Players!$G14,Players!P14,Players!R14)","v":6},2,"-",0,{"$f":"ResultsCalc(Players!$E14,Players!$G14,Players!T14,Players!V14)","v":6},2,"-",2,{"$f":"ResultsCalc(Players!$E14,Players!$G14,Players!X14,Players!Z14)","v":0},2,"-",0,{"$f":"ResultsCalc(Players!$E14,Players!$G14,Players!AB14,Players!AD14)","v":6},1,"-",2,{"$f":"ResultsCalc(Players!$E14,Players!$G14,Players!AF14,Players!AH14)","v":2},2,"-",1,{"$f":"ResultsCalc(Players!$E14,Players!$G14,Players!AJ14,Players!AL14)","v":6},1,"-",1,{"$f":"ResultsCalc(Players!$E14,Players!$G14,Players!AN14,Players!AP14)","v":2},1,"-",1,{"$f":"ResultsCalc(Players!$E14,Players!$G14,Players!AR14,Players!AT14)","v":2},1,"-",1,{"$f":"ResultsCalc(Players!$E14,Players!$G14,Players!AV14,Players!AX14)","v":2},3,"-",2,{"$f":"ResultsCalc(Players!$E14,Players!$G14,Players!AZ14,Players!BB14)","v":6},2,"-",1,{"$f":"ResultsCalc(Players!$E14,Players!$G14,Players!BD14,Players!BF14)","v":6},3,"-",2,{"$f":"ResultsCalc(Players!$E14,Players!$G14,Players!BH14,Players!BJ14)","v":6},2,"-",2,{"$f":"ResultsCalc(Players!$E14,Players!$G14,Players!BL14,Players!BN14)","v":0},2,"-",1,{"$f":"ResultsCalc(Players!$E14,Players!$G14,Players!BP14,Players!BR14)","v":6},3,"-",2,{"$f":"ResultsCalc(Players!$E14,Players!$G14,Players!BT14,Players!BV14)","v":6},2,"-",0,{"$f":"ResultsCalc(Players!$E14,Players!$G14,Players!BX14,Players!BZ14)","v":6},1,"-",3,{"$f":"ResultsCalc(Players!$E14,Players!$G14,Players!CB14,Players!CD14)","v":2},1,"-",2,{"$f":"ResultsCalc(Players!$E14,Players!$G14,Players!CF14,Players!CH14)","v":2},2,"-",1,{"$f":"ResultsCalc(Players!$E14,Players!$G14,Players!CJ14,Players!CL14)","v":6},2,"-",0,{"$f":"ResultsCalc(Players!$E14,Players!$G14,Players!CN14,Players!CP14)","v":6},2,"-",1,{"$f":"ResultsCalc(Players!$E14,Players!$G14,Players!CR14,Players!CT14)","v":6},0,"-",0,{"$f":"ResultsCalc(Players!$E14,Players!$G14,Players!CV14,Players!CX14)","v":2},1,"-",1,{"$f":"ResultsCalc(Players!$E14,Players!$G14,Players!CZ14,Players!DB14)","v":2},1,"-",1,{"$f":"ResultsCalc(Players!$E14,Players!$G14,Players!DD14,Players!DF14)","v":2},2,"-",2,{"$f":"ResultsCalc(Players!$E14,Players!$G14,Players!DH14,Players!DJ14)","v":0},1,"-",1,{"$f":"ResultsCalc(Players!$E14,Players!$G14,Players!DL14,Players!DN14)","v":2},2,"-",1,{"$f":"ResultsCalc(Players!$E14,Players!$G14,Players!DP14,Players!DR14)","v":6},2,"-",1,{"$f":"ResultsCalc(Players!$E14,Players!$G14,Players!DT14,Players!DV14)","v":6},2,"-",2,{"$f":"ResultsCalc(Players!$E14,Players!$G14,Players!DX14,Players!DZ14)","v":0},2,"-",1,{"$f":"ResultsCalc(Players!$E14,Players!$G14,Players!EB14,Players!ED14)","v":6},1,"-",2,{"$f":"ResultsCalc(Players!$E14,Players!$G14,Players!EF14,Players!EH14)","v":2},2,"-",1,{"$f":"ResultsCalc(Players!$E14,Players!$G14,Players!EJ14,Players!EL14)","v":6},1,"-",1,{"$f":"ResultsCalc(Players!$E14,Players!$G14,Players!EN14,Players!EP14)","v":2},2,"-",2,{"$f":"ResultsCalc(Players!$E14,Players!$G14,Players!ER14,Players!ET14)","v":0},2,"-",1,{"$f":"ResultsCalc(Players!$E14,Players!$G14,Players!EV14,Players!EX14)","v":6},1,"-",1,{"$f":"ResultsCalc(Players!$E14,Players!$G14,Players!EZ14,Players!FB14)","v":2},2,"-",1,{"$f":"ResultsCalc(Players!$E14,Players!$G14,Players!FD14,Players!FF14)","v":6},2,"-",2,{"$f":"ResultsCalc(Players!$E14,Players!$G14,Players!FH14,Players!FJ14)","v":0},2,"-",1,{"$f":"ResultsCalc(Players!$E14,Players!$G14,Players!FL14,Players!FN14)","v":6},3,"-",2,{"$f":"ResultsCalc(Players!$E14,Players!$G14,Players!FP14,Players!FR14)","v":6},2,"-",1,{"$f":"ResultsCalc(Players!$E14,Players!$G14,Players!FT14,Players!FV14)","v":6},2,"-",2,{"$f":"ResultsCalc(Players!$E14,Players!$G14,Players!FX14,Players!FZ14)","v":0},0,"-",1,{"$f":"ResultsCalc(Players!$E14,Players!$G14,Players!GB14,Players!GD14)","v":0},2,"-",2,{"$f":"ResultsCalc(Players!$E14,Players!$G14,Players!GF14,Players!GH14)","v":0},2,"-",1,{"$f":"ResultsCalc(Players!$E14,Players!$G14,Players!GJ14,Players!GL14)","v":6},3,"-",2,{"$f":"ResultsCalc(Players!$E14,Players!$G14,Players!GN14,Players!GP14)","v":6},2,"-",1,{"$f":"ResultsCalc(Players!$E14,Players!$G14,Players!GR14,Players!GT14)","v":6},1,"-",1,{"$f":"ResultsCalc(Players!$E14,Players!$G14,Players!GV14,Players!GX14)","v":2},2,"-",0,{"$f":"ResultsCalc(Players!$E14,Players!$G14,Players!GZ14,Players!HB14)","v":6},1,"-",1,{"$f":"ResultsCalc(Players!$E14,Players!$G14,Players!HD14,Players!HF14)","v":2},2,"-",2,{"$f":"ResultsCalc(Players!$E14,Players!$G14,Players!HH14,Players!HJ14)","v":0},1,"-",1,{"$f":"ResultsCalc(Players!$E14,Players!$G14,Players!HL14,Players!HN14)","v":2},2,"-",3,{"$f":"ResultsCalc(Players!$E14,Players!$G14,Players!HP14,Players!HR14)","v":0},2,"-",1,{"$f":"ResultsCalc(Players!$E14,Players!$G14,Players!HT14,Players!HV14)","v":6},1,"-",0,{"$f":"ResultsCalc(Players!$E14,Players!$G14,Players!HX14,Players!HZ14)","v":11},2,"-",3,{"$f":"ResultsCalc(Players!$E14,Players!$G14,Players!IB14,Players!ID14)","v":0},1,"-",2,{"$f":"ResultsCalc(Players!$E14,Players!$G14,Players!IF14,Players!IH14)","v":2},2,"-",2,{"$f":"ResultsCalc(Players!$E14,Players!$G14,Players!IJ14,Players!IL14)","v":0},1,"-",0,{"$f":"ResultsCalc(Players!$E14,Players!$G14,Players!IN14,Players!IP14)","v":11},3,"-",1,{"$f":"ResultsCalc(Players!$E14,Players!$G14,Players!IR14,Players!IT14)","v":4},2,"-",1,{"$f":"ResultsCalc(Players!$E14,Players!$G14,Players!IV14,Players!IX14)","v":6},2,"-",1,{"$f":"ResultsCalc(Players!$E14,Players!$G14,Players!IZ14,Players!JB14)","v":6},1,"-",2,{"$f":"ResultsCalc(Players!$E14,Players!$G14,Players!JD14,Players!JF14)","v":2},2,"-",2,{"$f":"ResultsCalc(Players!$E14,Players!$G14,Players!JH14,Players!JJ14)","v":0},1,"-",0,{"$f":"ResultsCalc(Players!$E14,Players!$G14,Players!JL14,Players!JN14)","v":11},3,"-",3,{"$f":"ResultsCalc(Players!$E14,Players!$G14,Players!JP14,Players!JR14)","v":0},1,"-",2,{"$f":"ResultsCalc(Players!$E14,Players!$G14,Players!JT14,Players!JV14)","v":2},2,"-",1,{"$f":"ResultsCalc(Players!$E14,Players!$G14,Players!JX14,Players!JZ14)","v":6},4,"-",3,{"$f":"ResultsCalc(Players!$E14,Players!$G14,Players!KB14,Players!KD14)","v":6},0,"-",0,{"$f":"ResultsCalc(Players!$E14,Players!$G14,Players!KF14,Players!KH14)","v":2},2,"-",2,{"$f":"ResultsCalc(Players!$E14,Players!$G14,Players!KJ14,Players!KL14)","v":0},2,"-",1,{"$f":"ResultsCalc(Players!$E14,Players!$G14,Players!KN14,Players!KP14)","v":6},2,"-",2,{"$f":"ResultsCalc(Players!$E14,Players!$G14,Players!KR14,Players!KT14)","v":0},3,"-",2,{"$f":"ResultsCalc(Players!$E14,Players!$G14,Players!KV14,Players!KX14)","v":6},2,"-",0,{"$f":"ResultsCalc(Players!$E14,Players!$G14,Players!KZ14,Players!LB14)","v":6},1,"-",1,{"$f":"ResultsCalc(Players!$E14,Players!$G14,Players!LD14,Players!LF14)","v":2},3,"-",2,{"$f":"ResultsCalc(Players!$E14,Players!$G14,Players!LH14,Players!LJ14)","v":6},2,"-",1,{"$f":"ResultsCalc(Players!$E14,Players!$G14,Players!LL14,Players!LN14)","v":6},2,"-",2,{"$f":"ResultsCalc(Players!$E14,Players!$G14,Players!LP14,Players!LR14)","v":0},2,"-",1,{"$f":"ResultsCalc(Players!$E14,Players!$G14,Players!LT14,Players!LV14)","v":6},1,"-",1,{"$f":"ResultsCalc(Players!$E14,Players!$G14,Players!LX14,Players!LZ14)","v":2},1,"-",1,{"$f":"ResultsCalc(Players!$E14,Players!$G14,Players!MB14,Players!MD14)","v":2},1,"-",1,{"$f":"ResultsCalc(Players!$E14,Players!$G14,Players!MF14,Players!MH14)","v":2},4,"-",2,{"$f":"ResultsCalc(Players!$E14,Players!$G14,Players!MJ14,Players!ML14)","v":4},2,"-",2,{"$f":"ResultsCalc(Players!$E14,Players!$G14,Players!MN14,Players!MP14)","v":0},2,"-",1,{"$f":"ResultsCalc(Players!$E14,Players!$G14,Players!MR14,Players!MT14)","v":6},1,"-",1,{"$f":"ResultsCalc(Players!$E14,Players!$G14,Players!MV14,Players!MX14)","v":2},2,"-",2,{"$f":"ResultsCalc(Players!$E14,Players!$G14,Players!MZ14,Players!NB14)","v":0},2,"-",0,{"$f":"ResultsCalc(Players!$E14,Players!$G14,Players!ND14,Players!NF14)","v":6},2,"-",2,{"$f":"ResultsCalc(Players!$E14,Players!$G14,Players!NH14,Players!NJ14)","v":0},2,"-",2,{"$f":"ResultsCalc(Players!$E14,Players!$G14,Players!NL14,Players!NN14)","v":0},2,"-",2,{"$f":"ResultsCalc(Players!$E14,Players!$G14,Players!NP14,Players!NR14)","v":0},1,"-",1,{"$f":"ResultsCalc(Players!$E14,Players!$G14,Players!NT14,Players!NV14)","v":2},2,"-",2,{"$f":"ResultsCalc(Players!$E14,Players!$G14,Players!NX14,Players!NZ14)","v":0},2,"-",1,{"$f":"ResultsCalc(Players!$E14,Players!$G14,Players!OB14,Players!OD14)","v":6},3,"-",1,{"$f":"ResultsCalc(Players!$E14,Players!$G14,Players!OF14,Players!OH14)","v":4},2,"-",1,{"$f":"ResultsCalc(Players!$E14,Players!$G14,Players!OJ14,Players!OL14)","v":6},1,"-",1,{"$f":"ResultsCalc(Players!$E14,Players!$G14,Players!ON14,Players!OP14)","v":2},2,"-",1,{"$f":"ResultsCalc(Players!$E14,Players!$G14,Players!OR14,Players!OT14)","v":6},1,"-",1,{"$f":"ResultsCalc(Players!$E14,Players!$G14,Players!OV14,Players!OX14)","v":2},2,"-",2,{"$f":"ResultsCalc(Players!$E14,Players!$G14,Players!OZ14,Players!PB14)","v":0},3,"-",2,{"$f":"ResultsCalc(Players!$E14,Players!$G14,Players!PD14,Players!PF14)","v":6},1,"-",2,{"$f":"ResultsCalc(Players!$E14,Players!$G14,Players!PH14,Players!PJ14)","v":2},4,"-",6,{"$f":"ResultsCalc(Players!$E14,Players!$G14,Players!PL14,Players!PN14)","v":0},1,"-",3,{"$f":"ResultsCalc(Players!$E14,Players!$G14,Players!PP14,Players!PR14)","v":2},3,"-",3,{"$f":"ResultsCalc(Players!$E14,Players!$G14,Players!PT14,Players!PV14)","v":0},1,"-",1,{"$f":"ResultsCalc(Players!$E14,Players!$G14,Players!PX14,Players!PZ14)","v":2},1,"-",1,{"$f":"ResultsCalc(Players!$E14,Players!$G14,Players!QB14,Players!QD14)","v":2},2,"-",1,{"$f":"ResultsCalc(Players!$E14,Players!$G14,Players!QF14,Players!QH14)","v":6},2,"-",1,{"$f":"ResultsCalc(Players!$E14,Players!$G14,Players!QJ14,Players!QL14)","v":6},null,3,null,11,3]
["2021-06-16",13,"Finland","Russia",0,"-",1,1,"-",1,{"$f":"ResultsCalc(Players!$E15,Players!$G15,Players!H15,Players!J15)","v":2},0,"-",1,{"$f":"ResultsCalc(Players!$E15,Players!$G15,Players!L15,Players!N15)","v":11},0,"-",1,{"$f":"ResultsCalc(Players!$E15,Players!$G15,Players!P15,Players!R15)","v":11},0,"-",1,{"$f":"ResultsCalc(Players!$E15,Players!$G15,Players!T15,Players!V15)","v":11},0,"-",2,{"$f":"ResultsCalc(Players!$E15,Players!$G15,Players!X15,Players!Z15)","v":6},0,"-",0,{"$f":"ResultsCalc(Players!$E15,Players!$G15,Players!AB15,Players!AD15)","v":2},1,"-",0,{"$f":"ResultsCalc(Players!$E15,Players!$G15,Players!AF15,Players!AH15)","v":0},1,"-",2,{"$f":"ResultsCalc(Players!$E15,Players!$G15,Players!AJ15,Players!AL15)","v":6},1,"-",2,{"$f":"ResultsCalc(Players!$E15,Players!$G15,Players!AN15,Players!AP15)","v":6},0,"-",1,{"$f":"ResultsCalc(Players!$E15,Players!$G15,Players!AR15,Players!AT15)","v":11},2,"-",2,{"$f":"ResultsCalc(Players!$E15,Players!$G15,Players!AV15,Players!AX15)","v":0},1,"-",2,{"$f":"ResultsCalc(Players!$E15,Players!$G15,Players!AZ15,Players!BB15)","v":6},2,"-",2,{"$f":"ResultsCalc(Players!$E15,Players!$G15,Players!BD15,Players!BF15)","v":0},2,"-",1,{"$f":"ResultsCalc(Players!$E15,Players!$G15,Players!BH15,Players!BJ15)","v":2},0,"-",0,{"$f":"ResultsCalc(Players!$E15,Players!$G15,Players!BL15,Players!BN15)","v":2},1,"-",1,{"$f":"ResultsCalc(Players!$E15,Players!$G15,Players!BP15,Players!BR15)","v":2},2,"-",2,{"$f":"ResultsCalc(Players!$E15,Players!$G15,Players!BT15,Players!BV15)","v":0},2,"-",0,{"$f":"ResultsCalc(Players!$E15,Players!$G15,Players!BX15,Players!BZ15)","v":0},0,"-",2,{"$f":"ResultsCalc(Players!$E15,Players!$G15,Players!CB15,Players!CD15)","v":6},0,"-",2,{"$f":"ResultsCalc(Players!$E15,Players!$G15,Players!CF15,Players!CH15)","v":6},1,"-",1,{"$f":"ResultsCalc(Players!$E15,Players!$G15,Players!CJ15,Players!CL15)","v":2},1,"-",1,{"$f":"ResultsCalc(Players!$E15,Players!$G15,Players!CN15,Players!CP15)","v":2},1,"-",2,{"$f":"ResultsCalc(Players!$E15,Players!$G15,Players!CR15,Players!CT15)","v":6},0,"-",2,{"$f":"ResultsCalc(Players!$E15,Players!$G15,Players!CV15,Players!CX15)","v":6},0,"-",1,{"$f":"ResultsCalc(Players!$E15,Players!$G15,Players!CZ15,Players!DB15)","v":11},0,"-",1,{"$f":"ResultsCalc(Players!$E15,Players!$G15,Players!DD15,Players!DF15)","v":11},2,"-",1,{"$f":"ResultsCalc(Players!$E15,Players!$G15,Players!DH15,Players!DJ15)","v":2},0,"-",2,{"$f":"ResultsCalc(Players!$E15,Players!$G15,Players!DL15,Players!DN15)","v":6},1,"-",1,{"$f":"ResultsCalc(Players!$E15,Players!$G15,Players!DP15,Players!DR15)","v":2},1,"-",2,{"$f":"ResultsCalc(Players!$E15,Players!$G15,Players!DT15,Players!DV15)","v":6},1,"-",2,{"$f":"ResultsCalc(Players!$E15,Players!$G15,Players!DX15,Players!DZ15)","v":6},0,"-",1,{"$f":"ResultsCalc(Players!$E15,Players!$G15,Players!EB15,Players!ED15)","v":11},0,"-",2,{"$f":"ResultsCalc(Players!$E15,Players!$G15,Players!EF15,Players!EH15)","v":6},1,"-",2,{"$f":"ResultsCalc(Players!$E15,Players!$G15,Players!EJ15,Players!EL15)","v":6},0,"-",2,{"$f":"ResultsCalc(Players!$E15,Players!$G15,Players!EN15,Players!EP15)","v":6},1,"-",1,{"$f":"ResultsCalc(Players!$E15,Players!$G15,Players!ER15,Players!ET15)","v":2},0,"-",1,{"$f":"ResultsCalc(Players!$E15,Players!$G15,Players!EV15,Players!EX15)","v":11},1,"-",1,{"$f":"ResultsCalc(Players!$E15,Players!$G15,Players!EZ15,Players!FB15)","v":2},1,"-",1,{"$f":"ResultsCalc(Players!$E15,Players!$G15,Players!FD15,Players!FF15)","v":2},1,"-",2,{"$f":"ResultsCalc(Players!$E15,Players!$G15,Players!FH15,Players!FJ15)","v":6},0,"-",2,{"$f":"ResultsCalc(Players!$E15,Players!$G15,Players!FL15,Players!FN15)","v":6},4,"-",3,{"$f":"ResultsCalc(Players!$E15,Players!$G15,Players!FP15,Players!FR15)","v":0},0,"-",1,{"$f":"ResultsCalc(Players!$E15,Players!$G15,Players!FT15,Players!FV15)","v":11},1,"-",0,{"$f":"ResultsCalc(Players!$E15,Players!$G15,Players!FX15,Players!FZ15)","v":0},0,"-",2,{"$f":"ResultsCalc(Players!$E15,Players!$G15,Players!GB15,Players!GD15)","v":6},1,"-",1,{"$f":"ResultsCalc(Players!$E15,Players!$G15,Players!GF15,Players!GH15)","v":2},0,"-",0,{"$f":"ResultsCalc(Players!$E15,Players!$G15,Players!GJ15,Players!GL15)","v":2},2,"-",2,{"$f":"ResultsCalc(Players!$E15,Players!$G15,Players!GN15,Players!GP15)","v":0},0,"-",1,{"$f":"ResultsCalc(Players!$E15,Players!$G15,Players!GR15,Players!GT15)","v":11},1,"-",2,{"$f":"ResultsCalc(Players!$E15,Players!$G15,Players!GV15,Players!GX15)","v":6},0,"-",1,{"$f":"ResultsCalc(Players!$E15,Players!$G15,Players!GZ15,Players!HB15)","v":11},0,"-",0,{"$f":"ResultsCalc(Players!$E15,Players!$G15,Players!HD15,Players!HF15)","v":2},0,"-",1,{"$f":"ResultsCalc(Players!$E15,Players!$G15,Players!HH15,Players!HJ15)","v":11},0,"-",0,{"$f":"ResultsCalc(Players!$E15,Players!$G15,Players!HL15,Players!HN15)","v":2},3,"-",2,{"$f":"ResultsCalc(Players!$E15,Players!$G15,Players!HP15,Players!HR15)","v":0},0,"-",2,{"$f":"ResultsCalc(Players!$E15,Players!$G15,Players!HT15,Players!HV15)","v":6},0,"-",2,{"$f":"ResultsCalc(Players!$E15,Players!$G15,Players!HX15,Players!HZ15)","v":6},0,"-",2,{"$f":"ResultsCalc(Players!$E15,Players!$G15,Players!IB15,Players!ID15)","v":6},1,"-",1,{"$f":"ResultsCalc(Players!$E15,Players!$G15,Players!IF15,Players!IH15)","v":2},1,"-",3,{"$f":"ResultsCalc(Players!$E15,Players!$G15,Players!IJ15,Players!IL15)","v":4},1,"-",2,{"$f":"ResultsCalc(Players!$E15,Players!$G15,Players!IN15,Players!IP15)","v":6},2,"-",2,{"$f":"ResultsCalc(Players!$E15,Players!$G15,Players!IR15,Players!IT15)","v":0},0,"-",1,{"$f":"ResultsCalc(Players!$E15,Players!$G15,Players!IV15,Players!IX15)","v":11},0,"-",0,{"$f":"ResultsCalc(Players!$E15,Players!$G15,Players!IZ15,Players!JB15)","v":2},1,"-",3,{"$f":"ResultsCalc(Players!$E15,Players!$G15,Players!JD15,Players!JF15)","v":4},3,"-",1,{"$f":"ResultsCalc(Players!$E15,Players!$G15,Players!JH15,Players!JJ15)","v":2},0,"-",1,{"$f":"ResultsCalc(Players!$E15,Players!$G15,Players!JL15,Players!JN15)","v":11},1,"-",2,{"$f":"ResultsCalc(Players!$E15,Players!$G15,Players!JP15,Players!JR15)","v":6},2,"-",2,{"$f":"ResultsCalc(Players!$E15,Players!$G15,Players!JT15,Players!JV15)","v":0},1,"-",1,{"$f":"ResultsCalc(Players!$E15,Players!$G15,Players!JX15,Players!JZ15)","v":2},0,"-",2,{"$f":"ResultsCalc(Players!$E15,Players!$G15,Players!KB15,Players!KD15)","v":6},0,"-",1,{"$f":"ResultsCalc(Players!$E15,Players!$G15,Players!KF15,Players!KH15)","v":11},1,"-",2,{"$f":"ResultsCalc(Players!$E15,Players!$G15,Players!KJ15,Players!KL15)","v":6},2,"-",2,{"$f":"ResultsCalc(Players!$E15,Players!$G15,Players!KN15,Players!KP15)","v":0},0,"-",1,{"$f":"ResultsCalc(Players!$E15,Players!$G15,Players!KR15,Players!KT15)","v":11},0,"-",1,{"$f":"ResultsCalc(Players!$E15,Players!$G15,Players!KV15,Players!KX15)","v":11},0,"-",1,{"$f":"ResultsCalc(Players!$E15,Players!$G15,Players!KZ15,Players!LB15)","v":11},1,"-",0,{"$f":"ResultsCalc(Players!$E15,Players!$G15,Players!LD15,Players!LF15)","v":0},1,"-",2,{"$f":"ResultsCalc(Players!$E15,Players!$G15,Players!LH15,Players!LJ15)","v":6},1,"-",1,{"$f":"ResultsCalc(Players!$E15,Players!$G15,Players!LL15,Players!LN15)","v":2},1,"-",2,{"$f":"ResultsCalc(Players!$E15,Players!$G15,Players!LP15,Players!LR15)","v":6},0,"-",2,{"$f":"ResultsCalc(Players!$E15,Players!$G15,Players!LT15,Players!LV15)","v":6},0,"-",2,{"$f":"ResultsCalc(Players!$E15,Players!$G15,Players!LX15,Players!LZ15)","v":6},0,"-",0,{"$f":"ResultsCalc(Players!$E15,Players!$G15,Players!MB15,Players!MD15)","v":2},0,"-",0,{"$f":"ResultsCalc(Players!$E15,Players!$G15,Players!MF15,Players!MH15)","v":2},1,"-",3,{"$f":"ResultsCalc(Players!$E15,Players!$G15,Players!MJ15,Players!ML15)","v":4},0,"-",1,{"$f":"ResultsCalc(Players!$E15,Players!$G15,Players!MN15,Players!MP15)","v":11},0,"-",1,{"$f":"ResultsCalc(Players!$E15,Players!$G15,Players!MR15,Players!MT15)","v":11},2,"-",2,{"$f":"ResultsCalc(Players!$E15,Players!$G15,Players!MV15,Players!MX15)","v":0},1,"-",3,{"$f":"ResultsCalc(Players!$E15,Players!$G15,Players!MZ15,Players!NB15)","v":4},0,"-",1,{"$f":"ResultsCalc(Players!$E15,Players!$G15,Players!ND15,Players!NF15)","v":11},1,"-",2,{"$f":"ResultsCalc(Players!$E15,Players!$G15,Players!NH15,Players!NJ15)","v":6},2,"-",0,{"$f":"ResultsCalc(Players!$E15,Players!$G15,Players!NL15,Players!NN15)","v":0},0,"-",0,{"$f":"ResultsCalc(Players!$E15,Players!$G15,Players!NP15,Players!NR15)","v":2},1,"-",2,{"$f":"ResultsCalc(Players!$E15,Players!$G15,Players!NT15,Players!NV15)","v":6},0,"-",1,{"$f":"ResultsCalc(Players!$E15,Players!$G15,Players!NX15,Players!NZ15)","v":11},1,"-",2,{"$f":"ResultsCalc(Players!$E15,Players!$G15,Players!OB15,Players!OD15)","v":6},1,"-",2,{"$f":"ResultsCalc(Players!$E15,Players!$G15,Players!OF15,Players!OH15)","v":6},0,"-",1,{"$f":"ResultsCalc(Players!$E15,Players!$G15,Players!OJ15,Players!OL15)","v":11},0,"-",0,{"$f":"ResultsCalc(Players!$E15,Players!$G15,Players!ON15,Players!OP15)","v":2},0,"-",1,{"$f":"ResultsCalc(Players!$E15,Players!$G15,Players!OR15,Players!OT15)","v":11},0,"-",3,{"$f":"ResultsCalc(Players!$E15,Players!$G15,Players!OV15,Players!OX15)","v":6},1,"-",1,{"$f":"ResultsCalc(Players!$E15,Players!$G15,Players!OZ15,Players!PB15)","v":2},1,"-",1,{"$f":"ResultsCalc(Players!$E15,Players!$G15,Players!PD15,Players!PF15)","v":2},2,"-",2,{"$f":"ResultsCalc(Players!$E15,Players!$G15,Players!PH15,Players!PJ15)","v":0},2,"-",2,{"$f":"ResultsCalc(Players!$E15,Players!$G15,Players!PL15,Players!PN15)","v":0},1,"-",3,{"$f":"ResultsCalc(Players!$E15,Players!$G15,Players!PP15,Players!PR15)","v":4},1,"-",2,{"$f":"ResultsCalc(Players!$E15,Players!$G15,Players!PT15,Players!PV15)","v":6},0,"-",0,{"$f":"ResultsCalc(Players!$E15,Players!$G15,Players!PX15,Players!PZ15)","v":2},0,"-",2,{"$f":"ResultsCalc(Players!$E15,Players!$G15,Players!QB15,Players!QD15)","v":6},1,"-",2,{"$f":"ResultsCalc(Players!$E15,Players!$G15,Players!QF15,Players!QH15)","v":6},1,"-",1,{"$f":"ResultsCalc(Players!$E15,Players!$G15,Players!QJ15,Players!QL15)","v":2},null,24,null,11,24]
["2021-06-16",14,"Turkey","Wales",0,"-",2,2,"-",1,{"$f":"ResultsCalc(Players!$E16,Players!$G16,Players!H16,Players!J16)","v":0},1,"-",1,{"$f":"ResultsCalc(Players!$E16,Players!$G16,Players!L16,Players!N16)","v":0},2,"-",0,{"$f":"ResultsCalc(Players!$E16,Players!$G16,Players!P16,Players!R16)","v":0},0,"-",0,{"$f":"ResultsCalc(Players!$E16,Players!$G16,Players!T16,Players!V16)","v":2},1,"-",2,{"$f":"ResultsCalc(Players!$E16,Players!$G16,Players!X16,Players!Z16)","v":6},3,"-",1,{"$f":"ResultsCalc(Players!$E16,Players!$G16,Players!AB16,Players!AD16)","v":0},1,"-",1,{"$f":"ResultsCalc(Players!$E16,Players!$G16,Players!AF16,Players!AH16)","v":0},1,"-",1,{"$f":"ResultsCalc(Players!$E16,Players!$G16,Players!AJ16,Players!AL16)","v":0},0,"-",0,{"$f":"ResultsCalc(Players!$E16,Players!$G16,Players!AN16,Players!AP16)","v":2},2,"-",1,{"$f":"ResultsCalc(Players!$E16,Players!$G16,Players!AR16,Players!AT16)","v":0},1,"-",1,{"$f":"ResultsCalc(Players!$E16,Players!$G16,Players!AV16,Players!AX16)","v":0},1,"-",1,{"$f":"ResultsCalc(Players!$E16,Players!$G16,Players!AZ16,Players!BB16)","v":0},1,"-",0,{"$f":"ResultsCalc(Players!$E16,Players!$G16,Players!BD16,Players!BF16)","v":0},2,"-",2,{"$f":"ResultsCalc(Players!$E16,Players!$G16,Players!BH16,Players!BJ16)","v":2},1,"-",1,{"$f":"ResultsCalc(Players!$E16,Players!$G16,Players!BL16,Players!BN16)","v":0},2,"-",2,{"$f":"ResultsCalc(Players!$E16,Players!$G16,Players!BP16,Players!BR16)","v":2},1,"-",1,{"$f":"ResultsCalc(Players!$E16,Players!$G16,Players!BT16,Players!BV16)","v":0},1,"-",0,{"$f":"ResultsCalc(Players!$E16,Players!$G16,Players!BX16,Players!BZ16)","v":0},2,"-",1,{"$f":"ResultsCalc(Players!$E16,Players!$G16,Players!CB16,Players!CD16)","v":0},3,"-",1,{"$f":"ResultsCalc(Players!$E16,Players!$G16,Players!CF16,Players!CH16)","v":0},2,"-",2,{"$f":"ResultsCalc(Players!$E16,Players!$G16,Players!CJ16,Players!CL16)","v":2},2,"-",1,{"$f":"ResultsCalc(Players!$E16,Players!$G16,Players!CN16,Players!CP16)","v":0},3,"-",1,{"$f":"ResultsCalc(Players!$E16,Players!$G16,Players!CR16,Players!CT16)","v":0},1,"-",0,{"$f":"ResultsCalc(Players!$E16,Players!$G16,Players!CV16,Players!CX16)","v":0},1,"-",1,{"$f":"ResultsCalc(Players!$E16,Players!$G16,Players!CZ16,Players!DB16)","v":0},2,"-",2,{"$f":"ResultsCalc(Players!$E16,Players!$G16,Players!DD16,Players!DF16)","v":2},1,"-",2,{"$f":"ResultsCalc(Players!$E16,Players!$G16,Players!DH16,Players!DJ16)","v":6},0,"-",2,{"$f":"ResultsCalc(Players!$E16,Players!$G16,Players!DL16,Players!DN16)","v":12},2,"-",0,{"$f":"ResultsCalc(Players!$E16,Players!$G16,Players!DP16,Players!DR16)","v":0},1,"-",2,{"$f":"ResultsCalc(Players!$E16,Players!$G16,Players!DT16,Players!DV16)","v":6},0,"-",2,{"$f":"ResultsCalc(Players!$E16,Players!$G16,Players!DX16,Players!DZ16)","v":12},0,"-",1,{"$f":"ResultsCalc(Players!$E16,Players!$G16,Players!EB16,Players!ED16)","v":6},2,"-",0,{"$f":"ResultsCalc(Players!$E16,Players!$G16,Players!EF16,Players!EH16)","v":0},0,"-",1,{"$f":"ResultsCalc(Players!$E16,Players!$G16,Players!EJ16,Players!EL16)","v":6},1,"-",1,{"$f":"ResultsCalc(Players!$E16,Players!$G16,Players!EN16,Players!EP16)","v":0},1,"-",1,{"$f":"ResultsCalc(Players!$E16,Players!$G16,Players!ER16,Players!ET16)","v":0},1,"-",1,{"$f":"ResultsCalc(Players!$E16,Players!$G16,Players!EV16,Players!EX16)","v":0},2,"-",1,{"$f":"ResultsCalc(Players!$E16,Players!$G16,Players!EZ16,Players!FB16)","v":0},1,"-",2,{"$f":"ResultsCalc(Players!$E16,Players!$G16,Players!FD16,Players!FF16)","v":6},1,"-",1,{"$f":"ResultsCalc(Players!$E16,Players!$G16,Players!FH16,Players!FJ16)","v":0},1,"-",1,{"$f":"ResultsCalc(Players!$E16,Players!$G16,Players!FL16,Players!FN16)","v":0},3,"-",4,{"$f":"ResultsCalc(Players!$E16,Players!$G16,Players!FP16,Players!FR16)","v":4},1,"-",1,{"$f":"ResultsCalc(Players!$E16,Players!$G16,Players!FT16,Players!FV16)","v":0},1,"-",0,{"$f":"ResultsCalc(Players!$E16,Players!$G16,Players!FX16,Players!FZ16)","v":0},1,"-",2,{"$f":"ResultsCalc(Players!$E16,Players!$G16,Players!GB16,Players!GD16)","v":6},0,"-",1,{"$f":"ResultsCalc(Players!$E16,Players!$G16,Players!GF16,Players!GH16)","v":6},1,"-",0,{"$f":"ResultsCalc(Players!$E16,Players!$G16,Players!GJ16,Players!GL16)","v":0},2,"-",1,{"$f":"ResultsCalc(Players!$E16,Players!$G16,Players!GN16,Players!GP16)","v":0},0,"-",0,{"$f":"ResultsCalc(Players!$E16,Players!$G16,Players!GR16,Players!GT16)","v":2},0,"-",0,{"$f":"ResultsCalc(Players!$E16,Players!$G16,Players!GV16,Players!GX16)","v":2},2,"-",1,{"$f":"ResultsCalc(Players!$E16,Players!$G16,Players!GZ16,Players!HB16)","v":0},0,"-",0,{"$f":"ResultsCalc(Players!$E16,Players!$G16,Players!HD16,Players!HF16)","v":2},0,"-",0,{"$f":"ResultsCalc(Players!$E16,Players!$G16,Players!HH16,Players!HJ16)","v":2},1,"-",1,{"$f":"ResultsCalc(Players!$E16,Players!$G16,Players!HL16,Players!HN16)","v":0},2,"-",3,{"$f":"ResultsCalc(Players!$E16,Players!$G16,Players!HP16,Players!HR16)","v":4},1,"-",1,{"$f":"ResultsCalc(Players!$E16,Players!$G16,Players!HT16,Players!HV16)","v":0},1,"-",0,{"$f":"ResultsCalc(Players!$E16,Players!$G16,Players!HX16,Players!HZ16)","v":0},1,"-",2,{"$f":"ResultsCalc(Players!$E16,Players!$G16,Players!IB16,Players!ID16)","v":6},1,"-",1,{"$f":"ResultsCalc(Players!$E16,Players!$G16,Players!IF16,Players!IH16)","v":0},1,"-",1,{"$f":"ResultsCalc(Players!$E16,Players!$G16,Players!IJ16,Players!IL16)","v":0},2,"-",1,{"$f":"ResultsCalc(Players!$E16,Players!$G16,Players!IN16,Players!IP16)","v":0},0,"-",2,{"$f":"ResultsCalc(Players!$E16,Players!$G16,Players!IR16,Players!IT16)","v":12},0,"-",1,{"$f":"ResultsCalc(Players!$E16,Players!$G16,Players!IV16,Players!IX16)","v":6},0,"-",1,{"$f":"ResultsCalc(Players!$E16,Players!$G16,Players!IZ16,Players!JB16)","v":6},1,"-",1,{"$f":"ResultsCalc(Players!$E16,Players!$G16,Players!JD16,Players!JF16)","v":0},2,"-",0,{"$f":"ResultsCalc(Players!$E16,Players!$G16,Players!JH16,Players!JJ16)","v":0},1,"-",2,{"$f":"ResultsCalc(Players!$E16,Players!$G16,Players!JL16,Players!JN16)","v":6},1,"-",1,{"$f":"ResultsCalc(Players!$E16,Players!$G16,Players!JP16,Players!JR16)","v":0},1,"-",2,{"$f":"ResultsCalc(Players!$E16,Players!$G16,Players!JT16,Players!JV16)","v":6},1,"-",2,{"$f":"ResultsCalc(Players!$E16,Players!$G16,Players!JX16,Players!JZ16)","v":6},1,"-",2,{"$f":"ResultsCalc(Players!$E16,Players!$G16,Players!KB16,Players!KD16)","v":6},0,"-",1,{"$f":"ResultsCalc(Players!$E16,Players!$G16,Players!KF16,Players!KH16)","v":6},2,"-",0,{"$f":"ResultsCalc(Players!$E16,Players!$G16,Players!KJ16,Players!KL16)","v":0},2,"-",1,{"$f":"ResultsCalc(Players!$E16,Players!$G16,Players!KN16,Players!KP16)","v":0},0,"-",1,{"$f":"ResultsCalc(Players!$E16,Players!$G16,Players!KR16,Players!KT16)","v":6},3,"-",2,{"$f":"ResultsCalc(Players!$E16,Players!$G16,Players!KV16,Players!KX16)","v":2},1,"-",0,{"$f":"ResultsCalc(Players!$E16,Players!$G16,Players!KZ16,Players!LB16)","v":0},2,"-",2,{"$f":"ResultsCalc(Players!$E16,Players!$G16,Players!LD16,Players!LF16)","v":2},0,"-",0,{"$f":"ResultsCalc(Players!$E16,Players!$G16,Players!LH16,Players!LJ16)","v":2},2,"-",2,{"$f":"ResultsCalc(Players!$E16,Players!$G16,Players!LL16,Players!LN16)","v":2},1,"-",0,{"$f":"ResultsCalc(Players!$E16,Players!$G16,Players!LP16,Players!LR16)","v":0},2,"-",0,{"$f":"ResultsCalc(Players!$E16,Players!$G16,Players!LT16,Players!LV16)","v":0},2,"-",1,{"$f":"ResultsCalc(Players!$E16,Players!$G16,Players!LX16,Players!LZ16)","v":0},0,"-",1,{"$f":"ResultsCalc(Players!$E16,Players!$G16,Players!MB16,Players!MD16)","v":6},0,"-",1,{"$f":"ResultsCalc(Players!$E16,Players!$G16,Players!MF16,Players!MH16)","v":6},2,"-",2,{"$f":"ResultsCalc(Players!$E16,Players!$G16,Players!MJ16,Players!ML16)","v":2},1,"-",1,{"$f":"ResultsCalc(Players!$E16,Players!$G16,Players!MN16,Players!MP16)","v":0},1,"-",1,{"$f":"ResultsCalc(Players!$E16,Players!$G16,Players!MR16,Players!MT16)","v":0},1,"-",2,{"$f":"ResultsCalc(Players!$E16,Players!$G16,Players!MV16,Players!MX16)","v":6},1,"-",2,{"$f":"ResultsCalc(Players!$E16,Players!$G16,Players!MZ16,Players!NB16)","v":6},1,"-",2,{"$f":"ResultsCalc(Players!$E16,Players!$G16,Players!ND16,Players!NF16)","v":6},0,"-",1,{"$f":"ResultsCalc(Players!$E16,Players!$G16,Players!NH16,Players!NJ16)","v":6},1,"-",3,{"$f":"ResultsCalc(Players!$E16,Players!$G16,Players!NL16,Players!NN16)","v":6},2,"-",1,{"$f":"ResultsCalc(Players!$E16,Players!$G16,Players!NP16,Players!NR16)","v":0},0,"-",1,{"$f":"ResultsCalc(Players!$E16,Players!$G16,Players!NT16,Players!NV16)","v":6},0,"-",2,{"$f":"ResultsCalc(Players!$E16,Players!$G16,Players!NX16,Players!NZ16)","v":12},1,"-",1,{"$f":"ResultsCalc(Players!$E16,Players!$G16,Players!OB16,Players!OD16)","v":0},2,"-",2,{"$f":"ResultsCalc(Players!$E16,Players!$G16,Players!OF16,Players!OH16)","v":2},1,"-",2,{"$f":"ResultsCalc(Players!$E16,Players!$G16,Players!OJ16,Players!OL16)","v":6},0,"-",1,{"$f":"ResultsCalc(Players!$E16,Players!$G16,Players!ON16,Players!OP16)","v":6},1,"-",1,{"$f":"ResultsCalc(Players!$E16,Players!$G16,Players!OR16,Players!OT16)","v":0},3,"-",2,{"$f":"ResultsCalc(Players!$E16,Players!$G16,Players!OV16,Players!OX16)","v":2},0,"-",0,{"$f":"ResultsCalc(Players!$E16,Players!$G16,Players!OZ16,Players!PB16)","v":2},1,"-",2,{"$f":"ResultsCalc(Players!$E16,Players!$G16,Players!PD16,Players!PF16)","v":6},1,"-",0,{"$f":"ResultsCalc(Players!$E16,Players!$G16,Players!PH16,Players!PJ16)","v":0},1,"-",0,{"$f":"ResultsCalc(Players!$E16,Players!$G16,Players!PL16,Players!PN16)","v":0},2,"-",1,{"$f":"ResultsCalc(Players!$E16,Players!$G16,Players!PP16,Players!PR16)","v":0},1,"-",1,{"$f":"ResultsCalc(Players!$E16,Players!$G16,Players!PT16,Players!PV16)","v":0},1,"-",0,{"$f":"ResultsCalc(Players!$E16,Players!$G16,Players!PX16,Players!PZ16)","v":0},1,"-",0,{"$f":"ResultsCalc(Players!$E16,Players!$G16,Players!QB16,Players!QD16)","v":0},1,"-",2,{"$f":"ResultsCalc(Players!$E16,Players!$G16,Players!QF16,Players!QH16)","v":6},1,"-",1,{"$f":"ResultsCalc(Players!$E16,Players!$G16,Players!QJ16,Players!QL16)","v":0},null,4,null,12,4]
["2021-06-16",15,"Italy","Switzerland",3,"-",0,3,"-",0,{"$f":"ResultsCalc(Players!$E17,Players!$G17,Players!H17,Players!J17)","v":13},2,"-",1,{"$f":"ResultsCalc(Players!$E17,Players!$G17,Players!L17,Players!N17)","v":4},1,"-",1,{"$f":"ResultsCalc(Players!$E17,Players!$G17,Players!P17,Players!R17)","v":0},3,"-",1,{"$f":"ResultsCalc(Players!$E17,Players!$G17,Players!T17,Players!V17)","v":6},1,"-",1,{"$f":"ResultsCalc(Players!$E17,Players!$G17,Players!X17,Players!Z17)","v":0},1,"-",0,{"$f":"ResultsCalc(Players!$E17,Players!$G17,Players!AB17,Players!AD17)","v":6},2,"-",1,{"$f":"ResultsCalc(Players!$E17,Players!$G17,Players!AF17,Players!AH17)","v":4},2,"-",1,{"$f":"ResultsCalc(Players!$E17,Players!$G17,Players!AJ17,Players!AL17)","v":4},3,"-",1,{"$f":"ResultsCalc(Players!$E17,Players!$G17,Players!AN17,Players!AP17)","v":6},1,"-",0,{"$f":"ResultsCalc(Players!$E17,Players!$G17,Players!AR17,Players!AT17)","v":6},1,"-",0,{"$f":"ResultsCalc(Players!$E17,Players!$G17,Players!AV17,Players!AX17)","v":6},2,"-",1,{"$f":"ResultsCalc(Players!$E17,Players!$G17,Players!AZ17,Players!BB17)","v":4},2,"-",1,{"$f":"ResultsCalc(Players!$E17,Players!$G17,Players!BD17,Players!BF17)","v":4},2,"-",1,{"$f":"ResultsCalc(Players!$E17,Players!$G17,Players!BH17,Players!BJ17)","v":4},2,"-",1,{"$f":"ResultsCalc(Players!$E17,Players!$G17,Players!BL17,Players!BN17)","v":4},2,"-",0,{"$f":"ResultsCalc(Players!$E17,Players!$G17,Players!BP17,Players!BR17)","v":6},2,"-",1,{"$f":"ResultsCalc(Players!$E17,Players!$G17,Players!BT17,Players!BV17)","v":4},1,"-",1,{"$f":"ResultsCalc(Players!$E17,Players!$G17,Players!BX17,Players!BZ17)","v":0},1,"-",0,{"$f":"ResultsCalc(Players!$E17,Players!$G17,Players!CB17,Players!CD17)","v":6},2,"-",0,{"$f":"ResultsCalc(Players!$E17,Players!$G17,Players!CF17,Players!CH17)","v":6},1,"-",0,{"$f":"ResultsCalc(Players!$E17,Players!$G17,Players!CJ17,Players!CL17)","v":6},2,"-",2,{"$f":"ResultsCalc(Players!$E17,Players!$G17,Players!CN17,Players!CP17)","v":0},2,"-",2,{"$f":"ResultsCalc(Players!$E17,Players!$G17,Players!CR17,Players!CT17)","v":0},1,"-",0,{"$f":"ResultsCalc(Players!$E17,Players!$G17,Players!CV17,Players!CX17)","v":6},2,"-",1,{"$f":"ResultsCalc(Players!$E17,Players!$G17,Players!CZ17,Players!DB17)","v":4},2,"-",1,{"$f":"ResultsCalc(Players!$E17,Players!$G17,Players!DD17,Players!DF17)","v":4},2,"-",0,{"$f":"ResultsCalc(Players!$E17,Players!$G17,Players!DH17,Players!DJ17)","v":6},1,"-",0,{"$f":"ResultsCalc(Players!$E17,Players!$G17,Players!DL17,Players!DN17)","v":6},2,"-",0,{"$f":"ResultsCalc(Players!$E17,Players!$G17,Players!DP17,Players!DR17)","v":6},2,"-",0,{"$f":"ResultsCalc(Players!$E17,Players!$G17,Players!DT17,Players!DV17)","v":6},3,"-",0,{"$f":"ResultsCalc(Players!$E17,Players!$G17,Players!DX17,Players!DZ17)","v":13},0,"-",1,{"$f":"ResultsCalc(Players!$E17,Players!$G17,Players!EB17,Players!ED17)","v":0},0,"-",1,{"$f":"ResultsCalc(Players!$E17,Players!$G17,Players!EF17,Players!EH17)","v":0},1,"-",0,{"$f":"ResultsCalc(Players!$E17,Players!$G17,Players!EJ17,Players!EL17)","v":6},2,"-",7,{"$f":"ResultsCalc(Players!$E17,Players!$G17,Players!EN17,Players!EP17)","v":0},2,"-",1,{"$f":"ResultsCalc(Players!$E17,Players!$G17,Players!ER17,Players!ET17)","v":4},1,"-",0,{"$f":"ResultsCalc(Players!$E17,Players!$G17,Players!EV17,Players!EX17)","v":6},0,"-",0,{"$f":"ResultsCalc(Players!$E17,Players!$G17,Players!EZ17,Players!FB17)","v":2},2,"-",2,{"$f":"ResultsCalc(Players!$E17,Players!$G17,Players!FD17,Players!FF17)","v":0},2,"-",1,{"$f":"ResultsCalc(Players!$E17,Players!$G17,Players!FH17,Players!FJ17)","v":4},1,"-",0,{"$f":"ResultsCalc(Players!$E17,Players!$G17,Players!FL17,Players!FN17)","v":6},2,"-",3,{"$f":"ResultsCalc(Players!$E17,Players!$G17,Players!FP17,Players!FR17)","v":0},3,"-",2,{"$f":"ResultsCalc(Players!$E17,Players!$G17,Players!FT17,Players!FV17)","v":6},2,"-",1,{"$f":"ResultsCalc(Players!$E17,Players!$G17,Players!FX17,Players!FZ17)","v":4},2,"-",1,{"$f":"ResultsCalc(Players!$E17,Players!$G17,Players!GB17,Players!GD17)","v":4},1,"-",0,{"$f":"ResultsCalc(Players!$E17,Players!$G17,Players!GF17,Players!GH17)","v":6},3,"-",1,{"$f":"ResultsCalc(Players!$E17,Players!$G17,Players!GJ17,Players!GL17)","v":6},3,"-",1,{"$f":"ResultsCalc(Players!$E17,Players!$G17,Players!GN17,Players!GP17)","v":6},1,"-",1,{"$f":"ResultsCalc(Players!$E17,Players!$G17,Players!GR17,Players!GT17)","v":0},0,"-",1,{"$f":"ResultsCalc(Players!$E17,Players!$G17,Players!GV17,Players!GX17)","v":0},1,"-",0,{"$f":"ResultsCalc(Players!$E17,Players!$G17,Players!GZ17,Players!HB17)","v":6},2,"-",1,{"$f":"ResultsCalc(Players!$E17,Players!$G17,Players!HD17,Players!HF17)","v":4},1,"-",0,{"$f":"ResultsCalc(Players!$E17,Players!$G17,Players!HH17,Players!HJ17)","v":6},2,"-",0,{"$f":"ResultsCalc(Players!$E17,Players!$G17,Players!HL17,Players!HN17)","v":6},2,"-",1,{"$f":"ResultsCalc(Players!$E17,Players!$G17,Players!HP17,Players!HR17)","v":4},2,"-",0,{"$f":"ResultsCalc(Players!$E17,Players!$G17,Players!HT17,Players!HV17)","v":6},1,"-",0,{"$f":"ResultsCalc(Players!$E17,Players!$G17,Players!HX17,Players!HZ17)","v":6},1,"-",1,{"$f":"ResultsCalc(Players!$E17,Players!$G17,Players!IB17,Players!ID17)","v":0},2,"-",0,{"$f":"ResultsCalc(Players!$E17,Players!$G17,Players!IF17,Players!IH17)","v":6},2,"-",0,{"$f":"ResultsCalc(Players!$E17,Players!$G17,Players!IJ17,Players!IL17)","v":6},2,"-",0,{"$f":"ResultsCalc(Players!$E17,Players!$G17,Players!IN17,Players!IP17)","v":6},2,"-",0,{"$f":"ResultsCalc(Players!$E17,Players!$G17,Players!IR17,Players!IT17)","v":6},2,"-",0,{"$f":"ResultsCalc(Players!$E17,Players!$G17,Players!IV17,Players!IX17)","v":6},1,"-",1,{"$f":"ResultsCalc(Players!$E17,Players!$G17,Players!IZ17,Players!JB17)","v":0},2,"-",0,{"$f":"ResultsCalc(Players!$E17,Players!$G17,Players!JD17,Players!JF17)","v":6},2,"-",2,{"$f":"ResultsCalc(Players!$E17,Players!$G17,Players!JH17,Players!JJ17)","v":0},2,"-",1,{"$f":"ResultsCalc(Players!$E17,Players!$G17,Players!JL17,Players!JN17)","v":4},2,"-",1,{"$f":"ResultsCalc(Players!$E17,Players!$G17,Players!JP17,Players!JR17)","v":4},2,"-",3,{"$f":"ResultsCalc(Players!$E17,Players!$G17,Players!JT17,Players!JV17)","v":0},2,"-",0,{"$f":"ResultsCalc(Players!$E17,Players!$G17,Players!JX17,Players!JZ17)","v":6},3,"-",0,{"$f":"ResultsCalc(Players!$E17,Players!$G17,Players!KB17,Players!KD17)","v":13},2,"-",0,{"$f":"ResultsCalc(Players!$E17,Players!$G17,Players!KF17,Players!KH17)","v":6},3,"-",1,{"$f":"ResultsCalc(Players!$E17,Players!$G17,Players!KJ17,Players!KL17)","v":6},2,"-",1,{"$f":"ResultsCalc(Players!$E17,Players!$G17,Players!KN17,Players!KP17)","v":4},1,"-",0,{"$f":"ResultsCalc(Players!$E17,Players!$G17,Players!KR17,Players!KT17)","v":6},3,"-",1,{"$f":"ResultsCalc(Players!$E17,Players!$G17,Players!KV17,Players!KX17)","v":6},2,"-",0,{"$f":"ResultsCalc(Players!$E17,Players!$G17,Players!KZ17,Players!LB17)","v":6},2,"-",1,{"$f":"ResultsCalc(Players!$E17,Players!$G17,Players!LD17,Players!LF17)","v":4},3,"-",1,{"$f":"ResultsCalc(Players!$E17,Players!$G17,Players!LH17,Players!LJ17)","v":6},2,"-",1,{"$f":"ResultsCalc(Players!$E17,Players!$G17,Players!LL17,Players!LN17)","v":4},2,"-",1,{"$f":"ResultsCalc(Players!$E17,Players!$G17,Players!LP17,Players!LR17)","v":4},2,"-",0,{"$f":"ResultsCalc(Players!$E17,Players!$G17,Players!LT17,Players!LV17)","v":6},5,"-",1,{"$f":"ResultsCalc(Players!$E17,Players!$G17,Players!LX17,Players!LZ17)","v":4},1,"-",1,{"$f":"ResultsCalc(Players!$E17,Players!$G17,Players!MB17,Players!MD17)","v":0},2,"-",0,{"$f":"ResultsCalc(Players!$E17,Players!$G17,Players!MF17,Players!MH17)","v":6},2,"-",2,{"$f":"ResultsCalc(Players!$E17,Players!$G17,Players!MJ17,Players!ML17)","v":0},2,"-",1,{"$f":"ResultsCalc(Players!$E17,Players!$G17,Players!MN17,Players!MP17)","v":4},2,"-",0,{"$f":"ResultsCalc(Players!$E17,Players!$G17,Players!MR17,Players!MT17)","v":6},3,"-",1,{"$f":"ResultsCalc(Players!$E17,Players!$G17,Players!MV17,Players!MX17)","v":6},2,"-",0,{"$f":"ResultsCalc(Players!$E17,Players!$G17,Players!MZ17,Players!NB17)","v":6},2,"-",0,{"$f":"ResultsCalc(Players!$E17,Players!$G17,Players!ND17,Players!NF17)","v":6},2,"-",1,{"$f":"ResultsCalc(Players!$E17,Players!$G17,Players!NH17,Players!NJ17)","v":4},2,"-",0,{"$f":"ResultsCalc(Players!$E17,Players!$G17,Players!NL17,Players!NN17)","v":6},2,"-",1,{"$f":"ResultsCalc(Players!$E17,Players!$G17,Players!NP17,Players!NR17)","v":4},2,"-",2,{"$f":"ResultsCalc(Players!$E17,Players!$G17,Players!NT17,Players!NV17)","v":0},1,"-",0,{"$f":"ResultsCalc(Players!$E17,Players!$G17,Players!NX17,Players!NZ17)","v":6},1,"-",0,{"$f":"ResultsCalc(Players!$E17,Players!$G17,Players!OB17,Players!OD17)","v":6},2,"-",1,{"$f":"ResultsCalc(Players!$E17,Players!$G17,Players!OF17,Players!OH17)","v":4},2,"-",0,{"$f":"ResultsCalc(Players!$E17,Players!$G17,Players!OJ17,Players!OL17)","v":6},0,"-",1,{"$f":"ResultsCalc(Players!$E17,Players!$G17,Players!ON17,Players!OP17)","v":0},2,"-",1,{"$f":"ResultsCalc(Players!$E17,Players!$G17,Players!OR17,Players!OT17)","v":4},3,"-",1,{"$f":"ResultsCalc(Players!$E17,Players!$G17,Players!OV17,Players!OX17)","v":6},2,"-",1,{"$f":"ResultsCalc(Players!$E17,Players!$G17,Players!OZ17,Players!PB17)","v":4},3,"-",1,{"$f":"ResultsCalc(Players!$E17,Players!$G17,Players!PD17,Players!PF17)","v":6},3,"-",1,{"$f":"ResultsCalc(Players!$E17,Players!$G17,Players!PH17,Players!PJ17)","v":6},3,"-",2,{"$f":"ResultsCalc(Players!$E17,Players!$G17,Players!PL17,Players!PN17)","v":6},2,"-",1,{"$f":"ResultsCalc(Players!$E17,Players!$G17,Players!PP17,Players!PR17)","v":4},3,"-",2,{"$f":"ResultsCalc(Players!$E17,Players!$G17,Players!PT17,Players!PV17)","v":6},0,"-",2,{"$f":"ResultsCalc(Players!$E17,Players!$G17,Players!PX17,Players!PZ17)","v":0},2,"-",0,{"$f":"ResultsCalc(Players!$E17,Players!$G17,Players!QB17,Players!QD17)","v":6},2,"-",1,{"$f":"ResultsCalc(Players!$E17,Players!$G17,Players!QF17,Players!QH17)","v":4},2,"-",0,{"$f":"ResultsCalc(Players!$E17,Players!$G17,Players!QJ17,Players!QL17)","v":6},null,3,null,13,3]
["2021-06-17",16,"Ukraine","North Macedonia",2,"-",1,0,"-",0,{"$f":"ResultsCalc(Players!$E18,Players!$G18,Players!H18,Players!J18)","v":0},1,"-",0,{"$f":"ResultsCalc(Players!$E18,Players!$G18,Players!L18,Players!N18)","v":6},1,"-",0,{"$f":"ResultsCalc(Players!$E18,Players!$G18,Players!P18,Players!R18)","v":6},0,"-",0,{"$f":"ResultsCalc(Players!$E18,Players!$G18,Players!T18,Players!V18)","v":0},0,"-",1,{"$f":"ResultsCalc(Players!$E18,Players!$G18,Players!X18,Players!Z18)","v":2},2,"-",0,{"$f":"ResultsCalc(Players!$E18,Players!$G18,Players!AB18,Players!AD18)","v":6},0,"-",0,{"$f":"ResultsCalc(Players!$E18,Players!$G18,Players!AF18,Players!AH18)","v":0},0,"-",0,{"$f":"ResultsCalc(Players!$E18,Players!$G18,Players!AJ18,Players!AL18)","v":0},2,"-",0,{"$f":"ResultsCalc(Players!$E18,Players!$G18,Players!AN18,Players!AP18)","v":6},1,"-",1,{"$f":"ResultsCalc(Players!$E18,Players!$G18,Players!AR18,Players!AT18)","v":2},2,"-",3,{"$f":"ResultsCalc(Players!$E18,Players!$G18,Players!AV18,Players!AX18)","v":2},2,"-",1,{"$f":"ResultsCalc(Players!$E18,Players!$G18,Players!AZ18,Players!BB18)","v":13},2,"-",2,{"$f":"ResultsCalc(Players!$E18,Players!$G18,Players!BD18,Players!BF18)","v":2},1,"-",1,{"$f":"ResultsCalc(Players!$E18,Players!$G18,Players!BH18,Players!BJ18)","v":2},3,"-",0,{"$f":"ResultsCalc(Players!$E18,Players!$G18,Players!BL18,Players!BN18)","v":4},3,"-",0,{"$f":"ResultsCalc(Players!$E18,Players!$G18,Players!BP18,Players!BR18)","v":4},2,"-",2,{"$f":"ResultsCalc(Players!$E18,Players!$G18,Players!BT18,Players!BV18)","v":2},2,"-",0,{"$f":"ResultsCalc(Players!$E18,Players!$G18,Players!BX18,Players!BZ18)","v":6},2,"-",2,{"$f":"ResultsCalc(Players!$E18,Players!$G18,Players!CB18,Players!CD18)","v":2},1,"-",2,{"$f":"ResultsCalc(Players!$E18,Players!$G18,Players!CF18,Players!CH18)","v":0},2,"-",0,{"$f":"ResultsCalc(Players!$E18,Players!$G18,Players!CJ18,Players!CL18)","v":6},3,"-",2,{"$f":"ResultsCalc(Players!$E18,Players!$G18,Players!CN18,Players!CP18)","v":6},2,"-",0,{"$f":"ResultsCalc(Players!$E18,Players!$G18,Players!CR18,Players!CT18)","v":6},2,"-",0,{"$f":"ResultsCalc(Players!$E18,Players!$G18,Players!CV18,Players!CX18)","v":6},1,"-",0,{"$f":"ResultsCalc(Players!$E18,Players!$G18,Players!CZ18,Players!DB18)","v":6},2,"-",0,{"$f":"ResultsCalc(Players!$E18,Players!$G18,Players!DD18,Players!DF18)","v":6},1,"-",1,{"$f":"ResultsCalc(Players!$E18,Players!$G18,Players!DH18,Players!DJ18)","v":2},1,"-",0,{"$f":"ResultsCalc(Players!$E18,Players!$G18,Players!DL18,Players!DN18)","v":6},1,"-",0,{"$f":"ResultsCalc(Players!$E18,Players!$G18,Players!DP18,Players!DR18)","v":6},0,"-",1,{"$f":"ResultsCalc(Players!$E18,Players!$G18,Players!DT18,Players!DV18)","v":2},3,"-",0,{"$f":"ResultsCalc(Players!$E18,Players!$G18,Players!DX18,Players!DZ18)","v":4},2,"-",1,{"$f":"ResultsCalc(Players!$E18,Players!$G18,Players!EB18,Players!ED18)","v":13},2,"-",0,{"$f":"ResultsCalc(Players!$E18,Players!$G18,Players!EF18,Players!EH18)","v":6},2,"-",1,{"$f":"ResultsCalc(Players!$E18,Players!$G18,Players!EJ18,Players!EL18)","v":13},0,"-",0,{"$f":"ResultsCalc(Players!$E18,Players!$G18,Players!EN18,Players!EP18)","v":0},2,"-",0,{"$f":"ResultsCalc(Players!$E18,Players!$G18,Players!ER18,Players!ET18)","v":6},0,"-",0,{"$f":"ResultsCalc(Players!$E18,Players!$G18,Players!EV18,Players!EX18)","v":0},2,"-",0,{"$f":"ResultsCalc(Players!$E18,Players!$G18,Players!EZ18,Players!FB18)","v":6},1,"-",1,{"$f":"ResultsCalc(Players!$E18,Players!$G18,Players!FD18,Players!FF18)","v":2},1,"-",1,{"$f":"ResultsCalc(Players!$E18,Players!$G18,Players!FH18,Players!FJ18)","v":2},2,"-",0,{"$f":"ResultsCalc(Players!$E18,Players!$G18,Players!FL18,Players!FN18)","v":6},2,"-",2,{"$f":"ResultsCalc(Players!$E18,Players!$G18,Players!FP18,Players!FR18)","v":2},0,"-",0,{"$f":"ResultsCalc(Players!$E18,Players!$G18,Players!FT18,Players!FV18)","v":0},0,"-",0,{"$f":"ResultsCalc(Players!$E18,Players!$G18,Players!FX18,Players!FZ18)","v":0},3,"-",2,{"$f":"ResultsCalc(Players!$E18,Players!$G18,Players!GB18,Players!GD18)","v":6},2,"-",0,{"$f":"ResultsCalc(Players!$E18,Players!$G18,Players!GF18,Players!GH18)","v":6},1,"-",0,{"$f":"ResultsCalc(Players!$E18,Players!$G18,Players!GJ18,Players!GL18)","v":6},2,"-",0,{"$f":"ResultsCalc(Players!$E18,Players!$G18,Players!GN18,Players!GP18)","v":6},2,"-",0,{"$f":"ResultsCalc(Players!$E18,Players!$G18,Players!GR18,Players!GT18)","v":6},2,"-",0,{"$f":"ResultsCalc(Players!$E18,Players!$G18,Players!GV18,Players!GX18)","v":6},0,"-",0,{"$f":"ResultsCalc(Players!$E18,Players!$G18,Players!GZ18,Players!HB18)","v":0},2,"-",0,{"$f":"ResultsCalc(Players!$E18,Players!$G18,Players!HD18,Players!HF18)","v":6},0,"-",2,{"$f":"ResultsCalc(Players!$E18,Players!$G18,Players!HH18,Players!HJ18)","v":0},2,"-",0,{"$f":"ResultsCalc(Players!$E18,Players!$G18,Players!HL18,Players!HN18)","v":6},2,"-",2,{"$f":"ResultsCalc(Players!$E18,Players!$G18,Players!HP18,Players!HR18)","v":2},3,"-",0,{"$f":"ResultsCalc(Players!$E18,Players!$G18,Players!HT18,Players!HV18)","v":4},2,"-",1,{"$f":"ResultsCalc(Players!$E18,Players!$G18,Players!HX18,Players!HZ18)","v":13},3,"-",1,{"$f":"ResultsCalc(Players!$E18,Players!$G18,Players!IB18,Players!ID18)","v":6},1,"-",0,{"$f":"ResultsCalc(Players!$E18,Players!$G18,Players!IF18,Players!IH18)","v":6},3,"-",0,{"$f":"ResultsCalc(Players!$E18,Players!$G18,Players!IJ18,Players!IL18)","v":4},2,"-",2,{"$f":"ResultsCalc(Players!$E18,Players!$G18,Players!IN18,Players!IP18)","v":2},1,"-",0,{"$f":"ResultsCalc(Players!$E18,Players!$G18,Players!IR18,Players!IT18)","v":6},1,"-",0,{"$f":"ResultsCalc(Players!$E18,Players!$G18,Players!IV18,Players!IX18)","v":6},1,"-",1,{"$f":"ResultsCalc(Players!$E18,Players!$G18,Players!IZ18,Players!JB18)","v":2},2,"-",2,{"$f":"ResultsCalc(Players!$E18,Players!$G18,Players!JD18,Players!JF18)","v":2},0,"-",1,{"$f":"ResultsCalc(Players!$E18,Players!$G18,Players!JH18,Players!JJ18)","v":2},2,"-",1,{"$f":"ResultsCalc(Players!$E18,Players!$G18,Players!JL18,Players!JN18)","v":13},1,"-",0,{"$f":"ResultsCalc(Players!$E18,Players!$G18,Players!JP18,Players!JR18)","v":6},0,"-",0,{"$f":"ResultsCalc(Players!$E18,Players!$G18,Players!JT18,Players!JV18)","v":0},1,"-",0,{"$f":"ResultsCalc(Players!$E18,Players!$G18,Players!JX18,Players!JZ18)","v":6},1,"-",0,{"$f":"ResultsCalc(Players!$E18,Players!$G18,Players!KB18,Players!KD18)","v":6},1,"-",0,{"$f":"ResultsCalc(Players!$E18,Players!$G18,Players!KF18,Players!KH18)","v":6},2,"-",0,{"$f":"ResultsCalc(Players!$E18,Players!$G18,Players!KJ18,Players!KL18)","v":6},1,"-",1,{"$f":"ResultsCalc(Players!$E18,Players!$G18,Players!KN18,Players!KP18)","v":2},1,"-",0,{"$f":"ResultsCalc(Players!$E18,Players!$G18,Players!KR18,Players!KT18)","v":6},3,"-",0,{"$f":"ResultsCalc(Players!$E18,Players!$G18,Players!KV18,Players!KX18)","v":4},1,"-",0,{"$f":"ResultsCalc(Players!$E18,Players!$G18,Players!KZ18,Players!LB18)","v":6},1,"-",1,{"$f":"ResultsCalc(Players!$E18,Players!$G18,Players!LD18,Players!LF18)","v":2},2,"-",1,{"$f":"ResultsCalc(Players!$E18,Players!$G18,Players!LH18,Players!LJ18)","v":13},3,"-",0,{"$f":"ResultsCalc(Players!$E18,Players!$G18,Players!LL18,Players!LN18)","v":4},2,"-",0,{"$f":"ResultsCalc(Players!$E18,Players!$G18,Players!LP18,Players!LR18)","v":6},1,"-",0,{"$f":"ResultsCalc(Players!$E18,Players!$G18,Players!LT18,Players!LV18)","v":6},2,"-",1,{"$f":"ResultsCalc(Players!$E18,Players!$G18,Players!LX18,Players!LZ18)","v":13},0,"-",1,{"$f":"ResultsCalc(Players!$E18,Players!$G18,Players!MB18,Players!MD18)","v":2},1,"-",0,{"$f":"ResultsCalc(Players!$E18,Players!$G18,Players!MF18,Players!MH18)","v":6},2,"-",0,{"$f":"ResultsCalc(Players!$E18,Players!$G18,Players!MJ18,Players!ML18)","v":6},1,"-",0,{"$f":"ResultsCalc(Players!$E18,Players!$G18,Players!MN18,Players!MP18)","v":6},3,"-",1,{"$f":"ResultsCalc(Players!$E18,Players!$G18,Players!MR18,Players!MT18)","v":6},0,"-",0,{"$f":"ResultsCalc(Players!$E18,Players!$G18,Players!MV18,Players!MX18)","v":0},4,"-",0,{"$f":"ResultsCalc(Players!$E18,Players!$G18,Players!MZ18,Players!NB18)","v":4},0,"-",1,{"$f":"ResultsCalc(Players!$E18,Players!$G18,Players!ND18,Players!NF18)","v":2},2,"-",0,{"$f":"ResultsCalc(Players!$E18,Players!$G18,Players!NH18,Players!NJ18)","v":6},2,"-",0,{"$f":"ResultsCalc(Players!$E18,Players!$G18,Players!NL18,Players!NN18)","v":6},2,"-",0,{"$f":"ResultsCalc(Players!$E18,Players!$G18,Players!NP18,Players!NR18)","v":6},1,"-",0,{"$f":"ResultsCalc(Players!$E18,Players!$G18,Players!NT18,Players!NV18)","v":6},1,"-",1,{"$f":"ResultsCalc(Players!$E18,Players!$G18,Players!NX18,Players!NZ18)","v":2},0,"-",1,{"$f":"ResultsCalc(Players!$E18,Players!$G18,Players!OB18,Players!OD18)","v":2},0,"-",1,{"$f":"ResultsCalc(Players!$E18,Players!$G18,Players!OF18,Players!OH18)","v":2},0,"-",0,{"$f":"ResultsCalc(Players!$E18,Players!$G18,Players!OJ18,Players!OL18)","v":0},2,"-",0,{"$f":"ResultsCalc(Players!$E18,Players!$G18,Players!ON18,Players!OP18)","v":6},2,"-",0,{"$f":"ResultsCalc(Players!$E18,Players!$G18,Players!OR18,Players!OT18)","v":6},2,"-",2,{"$f":"ResultsCalc(Players!$E18,Players!$G18,Players!OV18,Players!OX18)","v":2},0,"-",0,{"$f":"ResultsCalc(Players!$E18,Players!$G18,Players!OZ18,Players!PB18)","v":0},2,"-",1,{"$f":"ResultsCalc(Players!$E18,Players!$G18,Players!PD18,Players!PF18)","v":13},2,"-",2,{"$f":"ResultsCalc(Players!$E18,Players!$G18,Players!PH18,Players!PJ18)","v":2},0,"-",0,{"$f":"ResultsCalc(Players!$E18,Players!$G18,Players!PL18,Players!PN18)","v":0},3,"-",1,{"$f":"ResultsCalc(Players!$E18,Players!$G18,Players!PP18,Players!PR18)","v":6},1,"-",0,{"$f":"ResultsCalc(Players!$E18,Players!$G18,Players!PT18,Players!PV18)","v":6},0,"-",1,{"$f":"ResultsCalc(Players!$E18,Players!$G18,Players!PX18,Players!PZ18)","v":2},2,"-",0,{"$f":"ResultsCalc(Players!$E18,Players!$G18,Players!QB18,Players!QD18)","v":6},2,"-",0,{"$f":"ResultsCalc(Players!$E18,Players!$G18,Players!QF18,Players!QH18)","v":6},1,"-",0,{"$f":"ResultsCalc(Players!$E18,Players!$G18,Players!QJ18,Players!QL18)","v":6},null,8,null,13,8]
["2021-06-17",17,"Denmark","Belgium",1,"-",2,2,"-",2,{"$f":"ResultsCalc(Players!$E19,Players!$G19,Players!H19,Players!J19)","v":2},1,"-",3,{"$f":"ResultsCalc(Players!$E19,Players!$G19,Players!L19,Players!N19)","v":6},1,"-",2,{"$f":"ResultsCalc(Players!$E19,Players!$G19,Players!P19,Players!R19)","v":13},2,"-",2,{"$f":"ResultsCalc(Players!$E19,Players!$G19,Players!T19,Players!V19)","v":2},0,"-",2,{"$f":"ResultsCalc(Players!$E19,Players!$G19,Players!X19,Players!Z19)","v":6},0,"-",2,{"$f":"ResultsCalc(Players!$E19,Players!$G19,Players!AB19,Players!AD19)","v":6},2,"-",3,{"$f":"ResultsCalc(Players!$E19,Players!$G19,Players!AF19,Players!AH19)","v":6},1,"-",3,{"$f":"ResultsCalc(Players!$E19,Players!$G19,Players!AJ19,Players!AL19)","v":6},1,"-",1,{"$f":"ResultsCalc(Players!$E19,Players!$G19,Players!AN19,Players!AP19)","v":2},1,"-",1,{"$f":"ResultsCalc(Players!$E19,Players!$G19,Players!AR19,Players!AT19)","v":2},0,"-",0,{"$f":"ResultsCalc(Players!$E19,Players!$G19,Players!AV19,Players!AX19)","v":0},1,"-",2,{"$f":"ResultsCalc(Players!$E19,Players!$G19,Players!AZ19,Players!BB19)","v":13},1,"-",2,{"$f":"ResultsCalc(Players!$E19,Players!$G19,Players!BD19,Players!BF19)","v":13},3,"-",2,{"$f":"ResultsCalc(Players!$E19,Players!$G19,Players!BH19,Players!BJ19)","v":2},0,"-",2,{"$f":"ResultsCalc(Players!$E19,Players!$G19,Players!BL19,Players!BN19)","v":6},1,"-",2,{"$f":"ResultsCalc(Players!$E19,Players!$G19,Players!BP19,Players!BR19)","v":13},1,"-",3,{"$f":"ResultsCalc(Players!$E19,Players!$G19,Players!BT19,Players!BV19)","v":6},1,"-",3,{"$f":"ResultsCalc(Players!$E19,Players!$G19,Players!BX19,Players!BZ19)","v":6},1,"-",2,{"$f":"ResultsCalc(Players!$E19,Players!$G19,Players!CB19,Players!CD19)","v":13},1,"-",3,{"$f":"ResultsCalc(Players!$E19,Players!$G19,Players!CF19,Players!CH19)","v":6},0,"-",2,{"$f":"ResultsCalc(Players!$E19,Players!$G19,Players!CJ19,Players!CL19)","v":6},1,"-",3,{"$f":"ResultsCalc(Players!$E19,Players!$G19,Players!CN19,Players!CP19)","v":6},1,"-",1,{"$f":"ResultsCalc(Players!$E19,Players!$G19,Players!CR19,Players!CT19)","v":2},0,"-",1,{"$f":"ResultsCalc(Players!$E19,Players!$G19,Players!CV19,Players!CX19)","v":6},0,"-",2,{"$f":"ResultsCalc(Players!$E19,Players!$G19,Players!CZ19,Players!DB19)","v":6},1,"-",2,{"$f":"ResultsCalc(Players!$E19,Players!$G19,Players!DD19,Players!DF19)","v":13},1,"-",3,{"$f":"ResultsCalc(Players!$E19,Players!$G19,Players!DH19,Players!DJ19)","v":6},1,"-",2,{"$f":"ResultsCalc(Players!$E19,Players!$G19,Players!DL19,Players!DN19)","v":13},0,"-",2,{"$f":"ResultsCalc(Players!$E19,Players!$G19,Players!DP19,Players!DR19)","v":6},1,"-",2,{"$f":"ResultsCalc(Players!$E19,Players!$G19,Players!DT19,Players!DV19)","v":13},0,"-",3,{"$f":"ResultsCalc(Players!$E19,Players!$G19,Players!DX19,Players!DZ19)","v":4},0,"-",2,{"$f":"ResultsCalc(Players!$E19,Players!$G19,Players!EB19,Players!ED19)","v":6},1,"-",2,{"$f":"ResultsCalc(Players!$E19,Players!$G19,Players!EF19,Players!EH19)","v":13},1,"-",2,{"$f":"ResultsCalc(Players!$E19,Players!$G19,Players!EJ19,Players!EL19)","v":13},0,"-",3,{"$f":"ResultsCalc(Players!$E19,Players!$G19,Players!EN19,Players!EP19)","v":4},1,"-",3,{"$f":"ResultsCalc(Players!$E19,Players!$G19,Players!ER19,Players!ET19)","v":6},3,"-",2,{"$f":"ResultsCalc(Players!$E19,Players!$G19,Players!EV19,Players!EX19)","v":2},0,"-",2,{"$f":"ResultsCalc(Players!$E19,Players!$G19,Players!EZ19,Players!FB19)","v":6},1,"-",2,{"$f":"ResultsCalc(Players!$E19,Players!$G19,Players!FD19,Players!FF19)","v":13},1,"-",1,{"$f":"ResultsCalc(Players!$E19,Players!$G19,Players!FH19,Players!FJ19)","v":2},0,"-",2,{"$f":"ResultsCalc(Players!$E19,Players!$G19,Players!FL19,Players!FN19)","v":6},3,"-",2,{"$f":"ResultsCalc(Players!$E19,Players!$G19,Players!FP19,Players!FR19)","v":2},0,"-",2,{"$f":"ResultsCalc(Players!$E19,Players!$G19,Players!FT19,Players!FV19)","v":6},1,"-",3,{"$f":"ResultsCalc(Players!$E19,Players!$G19,Players!FX19,Players!FZ19)","v":6},1,"-",4,{"$f":"ResultsCalc(Players!$E19,Players!$G19,Players!GB19,Players!GD19)","v":6},0,"-",1,{"$f":"ResultsCalc(Players!$E19,Players!$G19,Players!GF19,Players!GH19)","v":6},0,"-",3,{"$f":"ResultsCalc(Players!$E19,Players!$G19,Players!GJ19,Players!GL19)","v":4},1,"-",2,{"$f":"ResultsCalc(Players!$E19,Players!$G19,Players!GN19,Players!GP19)","v":13},0,"-",2,{"$f":"ResultsCalc(Players!$E19,Players!$G19,Players!GR19,Players!GT19)","v":6},1,"-",2,{"$f":"ResultsCalc(Players!$E19,Players!$G19,Players!GV19,Players!GX19)","v":13},0,"-",3,{"$f":"ResultsCalc(Players!$E19,Players!$G19,Players!GZ19,Players!HB19)","v":4},0,"-",2,{"$f":"ResultsCalc(Players!$E19,Players!$G19,Players!HD19,Players!HF19)","v":6},2,"-",3,{"$f":"ResultsCalc(Players!$E19,Players!$G19,Players!HH19,Players!HJ19)","v":6},1,"-",2,{"$f":"ResultsCalc(Players!$E19,Players!$G19,Players!HL19,Players!HN19)","v":13},2,"-",1,{"$f":"ResultsCalc(Players!$E19,Players!$G19,Players!HP19,Players!HR19)","v":0},0,"-",2,{"$f":"ResultsCalc(Players!$E19,Players!$G19,Players!HT19,Players!HV19)","v":6},1,"-",2,{"$f":"ResultsCalc(Players!$E19,Players!$G19,Players!HX19,Players!HZ19)","v":13},0,"-",4,{"$f":"ResultsCalc(Players!$E19,Players!$G19,Players!IB19,Players!ID19)","v":4},0,"-",2,{"$f":"ResultsCalc(Players!$E19,Players!$G19,Players!IF19,Players!IH19)","v":6},0,"-",1,{"$f":"ResultsCalc(Players!$E19,Players!$G19,Players!IJ19,Players!IL19)","v":6},2,"-",2,{"$f":"ResultsCalc(Players!$E19,Players!$G19,Players!IN19,Players!IP19)","v":2},0,"-",2,{"$f":"ResultsCalc(Players!$E19,Players!$G19,Players!IR19,Players!IT19)","v":6},0,"-",1,{"$f":"ResultsCalc(Players!$E19,Players!$G19,Players!IV19,Players!IX19)","v":6},1,"-",1,{"$f":"ResultsCalc(Players!$E19,Players!$G19,Players!IZ19,Players!JB19)","v":2},3,"-",2,{"$f":"ResultsCalc(Players!$E19,Players!$G19,Players!JD19,Players!JF19)","v":2},1,"-",2,{"$f":"ResultsCalc(Players!$E19,Players!$G19,Players!JH19,Players!JJ19)","v":13},1,"-",3,{"$f":"ResultsCalc(Players!$E19,Players!$G19,Players!JL19,Players!JN19)","v":6},1,"-",2,{"$f":"ResultsCalc(Players!$E19,Players!$G19,Players!JP19,Players!JR19)","v":13},1,"-",2,{"$f":"ResultsCalc(Players!$E19,Players!$G19,Players!JT19,Players!JV19)","v":13},1,"-",2,{"$f":"ResultsCalc(Players!$E19,Players!$G19,Players!JX19,Players!JZ19)","v":13},0,"-",3,{"$f":"ResultsCalc(Players!$E19,Players!$G19,Players!KB19,Players!KD19)","v":4},1,"-",2,{"$f":"ResultsCalc(Players!$E19,Players!$G19,Players!KF19,Players!KH19)","v":13},1,"-",2,{"$f":"ResultsCalc(Players!$E19,Players!$G19,Players!KJ19,Players!KL19)","v":13},1,"-",3,{"$f":"ResultsCalc(Players!$E19,Players!$G19,Players!KN19,Players!KP19)","v":6},1,"-",2,{"$f":"ResultsCalc(Players!$E19,Players!$G19,Players!KR19,Players!KT19)","v":13},2,"-",4,{"$f":"ResultsCalc(Players!$E19,Players!$G19,Players!KV19,Players!KX19)","v":4},1,"-",2,{"$f":"ResultsCalc(Players!$E19,Players!$G19,Players!KZ19,Players!LB19)","v":13},2,"-",1,{"$f":"ResultsCalc(Players!$E19,Players!$G19,Players!LD19,Players!LF19)","v":0},1,"-",3,{"$f":"ResultsCalc(Players!$E19,Players!$G19,Players!LH19,Players!LJ19)","v":6},0,"-",1,{"$f":"ResultsCalc(Players!$E19,Players!$G19,Players!LL19,Players!LN19)","v":6},0,"-",1,{"$f":"ResultsCalc(Players!$E19,Players!$G19,Players!LP19,Players!LR19)","v":6},0,"-",2,{"$f":"ResultsCalc(Players!$E19,Players!$G19,Players!LT19,Players!LV19)","v":6},1,"-",3,{"$f":"ResultsCalc(Players!$E19,Players!$G19,Players!LX19,Players!LZ19)","v":6},2,"-",0,{"$f":"ResultsCalc(Players!$E19,Players!$G19,Players!MB19,Players!MD19)","v":0},0,"-",2,{"$f":"ResultsCalc(Players!$E19,Players!$G19,Players!MF19,Players!MH19)","v":6},1,"-",3,{"$f":"ResultsCalc(Players!$E19,Players!$G19,Players!MJ19,Players!ML19)","v":6},0,"-",2,{"$f":"ResultsCalc(Players!$E19,Players!$G19,Players!MN19,Players!MP19)","v":6},0,"-",2,{"$f":"ResultsCalc(Players!$E19,Players!$G19,Players!MR19,Players!MT19)","v":6},1,"-",3,{"$f":"ResultsCalc(Players!$E19,Players!$G19,Players!MV19,Players!MX19)","v":6},1,"-",2,{"$f":"ResultsCalc(Players!$E19,Players!$G19,Players!MZ19,Players!NB19)","v":13},0,"-",2,{"$f":"ResultsCalc(Players!$E19,Players!$G19,Players!ND19,Players!NF19)","v":6},0,"-",2,{"$f":"ResultsCalc(Players!$E19,Players!$G19,Players!NH19,Players!NJ19)","v":6},1,"-",2,{"$f":"ResultsCalc(Players!$E19,Players!$G19,Players!NL19,Players!NN19)","v":13},1,"-",2,{"$f":"ResultsCalc(Players!$E19,Players!$G19,Players!NP19,Players!NR19)","v":13},1,"-",3,{"$f":"ResultsCalc(Players!$E19,Players!$G19,Players!NT19,Players!NV19)","v":6},1,"-",3,{"$f":"ResultsCalc(Players!$E19,Players!$G19,Players!NX19,Players!NZ19)","v":6},0,"-",2,{"$f":"ResultsCalc(Players!$E19,Players!$G19,Players!OB19,Players!OD19)","v":6},1,"-",2,{"$f":"ResultsCalc(Players!$E19,Players!$G19,Players!OF19,Players!OH19)","v":13},0,"-",2,{"$f":"ResultsCalc(Players!$E19,Players!$G19,Players!OJ19,Players!OL19)","v":6},0,"-",2,{"$f":"ResultsCalc(Players!$E19,Players!$G19,Players!ON19,Players!OP19)","v":6},0,"-",1,{"$f":"ResultsCalc(Players!$E19,Players!$G19,Players!OR19,Players!OT19)","v":6},1,"-",4,{"$f":"ResultsCalc(Players!$E19,Players!$G19,Players!OV19,Players!OX19)","v":6},1,"-",1,{"$f":"ResultsCalc(Players!$E19,Players!$G19,Players!OZ19,Players!PB19)","v":2},1,"-",0,{"$f":"ResultsCalc(Players!$E19,Players!$G19,Players!PD19,Players!PF19)","v":2},2,"-",1,{"$f":"ResultsCalc(Players!$E19,Players!$G19,Players!PH19,Players!PJ19)","v":0},1,"-",1,{"$f":"ResultsCalc(Players!$E19,Players!$G19,Players!PL19,Players!PN19)","v":2},2,"-",2,{"$f":"ResultsCalc(Players!$E19,Players!$G19,Players!PP19,Players!PR19)","v":2},2,"-",2,{"$f":"ResultsCalc(Players!$E19,Players!$G19,Players!PT19,Players!PV19)","v":2},2,"-",0,{"$f":"ResultsCalc(Players!$E19,Players!$G19,Players!PX19,Players!PZ19)","v":0},2,"-",2,{"$f":"ResultsCalc(Players!$E19,Players!$G19,Players!QB19,Players!QD19)","v":2},0,"-",3,{"$f":"ResultsCalc(Players!$E19,Players!$G19,Players!QF19,Players!QH19)","v":4},1,"-",2,{"$f":"ResultsCalc(Players!$E19,Players!$G19,Players!QJ19,Players!QL19)","v":13},null,28,null,13,28]
["2021-06-17",18,"Netherlands","Austria",2,"-",0,2,"-",0,{"$f":"ResultsCalc(Players!$E20,Players!$G20,Players!H20,Players!J20)","v":12},0,"-",1,{"$f":"ResultsCalc(Players!$E20,Players!$G20,Players!L20,Players!N20)","v":0},1,"-",1,{"$f":"ResultsCalc(Players!$E20,Players!$G20,Players!P20,Players!R20)","v":0},1,"-",0,{"$f":"ResultsCalc(Players!$E20,Players!$G20,Players!T20,Players!V20)","v":6},2,"-",2,{"$f":"ResultsCalc(Players!$E20,Players!$G20,Players!X20,Players!Z20)","v":2},1,"-",0,{"$f":"ResultsCalc(Players!$E20,Players!$G20,Players!AB20,Players!AD20)","v":6},3,"-",2,{"$f":"ResultsCalc(Players!$E20,Players!$G20,Players!AF20,Players!AH20)","v":4},3,"-",0,{"$f":"ResultsCalc(Players!$E20,Players!$G20,Players!AJ20,Players!AL20)","v":6},3,"-",0,{"$f":"ResultsCalc(Players!$E20,Players!$G20,Players!AN20,Players!AP20)","v":6},2,"-",0,{"$f":"ResultsCalc(Players!$E20,Players!$G20,Players!AR20,Players!AT20)","v":12},2,"-",1,{"$f":"ResultsCalc(Players!$E20,Players!$G20,Players!AV20,Players!AX20)","v":6},1,"-",0,{"$f":"ResultsCalc(Players!$E20,Players!$G20,Players!AZ20,Players!BB20)","v":6},2,"-",1,{"$f":"ResultsCalc(Players!$E20,Players!$G20,Players!BD20,Players!BF20)","v":6},1,"-",3,{"$f":"ResultsCalc(Players!$E20,Players!$G20,Players!BH20,Players!BJ20)","v":0},1,"-",1,{"$f":"ResultsCalc(Players!$E20,Players!$G20,Players!BL20,Players!BN20)","v":0},2,"-",1,{"$f":"ResultsCalc(Players!$E20,Players!$G20,Players!BP20,Players!BR20)","v":6},3,"-",0,{"$f":"ResultsCalc(Players!$E20,Players!$G20,Players!BT20,Players!BV20)","v":6},2,"-",0,{"$f":"ResultsCalc(Players!$E20,Players!$G20,Players!BX20,Players!BZ20)","v":12},1,"-",0,{"$f":"ResultsCalc(Players!$E20,Players!$G20,Players!CB20,Players!CD20)","v":6},3,"-",0,{"$f":"ResultsCalc(Players!$E20,Players!$G20,Players!CF20,Players!CH20)","v":6},1,"-",1,{"$f":"ResultsCalc(Players!$E20,Players!$G20,Players!CJ20,Players!CL20)","v":0},2,"-",2,{"$f":"ResultsCalc(Players!$E20,Players!$G20,Players!CN20,Players!CP20)","v":2},1,"-",1,{"$f":"ResultsCalc(Players!$E20,Players!$G20,Players!CR20,Players!CT20)","v":0},2,"-",0,{"$f":"ResultsCalc(Players!$E20,Players!$G20,Players!CV20,Players!CX20)","v":12},2,"-",0,{"$f":"ResultsCalc(Players!$E20,Players!$G20,Players!CZ20,Players!DB20)","v":12},3,"-",0,{"$f":"ResultsCalc(Players!$E20,Players!$G20,Players!DD20,Players!DF20)","v":6},3,"-",0,{"$f":"ResultsCalc(Players!$E20,Players!$G20,Players!DH20,Players!DJ20)","v":6},2,"-",0,{"$f":"ResultsCalc(Players!$E20,Players!$G20,Players!DL20,Players!DN20)","v":12},1,"-",0,{"$f":"ResultsCalc(Players!$E20,Players!$G20,Players!DP20,Players!DR20)","v":6},3,"-",0,{"$f":"ResultsCalc(Players!$E20,Players!$G20,Players!DT20,Players!DV20)","v":6},3,"-",0,{"$f":"ResultsCalc(Players!$E20,Players!$G20,Players!DX20,Players!DZ20)","v":6},2,"-",1,{"$f":"ResultsCalc(Players!$E20,Players!$G20,Players!EB20,Players!ED20)","v":6},1,"-",2,{"$f":"ResultsCalc(Players!$E20,Players!$G20,Players!EF20,Players!EH20)","v":0},0,"-",1,{"$f":"ResultsCalc(Players!$E20,Players!$G20,Players!EJ20,Players!EL20)","v":0},2,"-",0,{"$f":"ResultsCalc(Players!$E20,Players!$G20,Players!EN20,Players!EP20)","v":12},2,"-",0,{"$f":"ResultsCalc(Players!$E20,Players!$G20,Players!ER20,Players!ET20)","v":12},2,"-",1,{"$f":"ResultsCalc(Players!$E20,Players!$G20,Players!EV20,Players!EX20)","v":6},2,"-",1,{"$f":"ResultsCalc(Players!$E20,Players!$G20,Players!EZ20,Players!FB20)","v":6},1,"-",0,{"$f":"ResultsCalc(Players!$E20,Players!$G20,Players!FD20,Players!FF20)","v":6},2,"-",1,{"$f":"ResultsCalc(Players!$E20,Players!$G20,Players!FH20,Players!FJ20)","v":6},2,"-",0,{"$f":"ResultsCalc(Players!$E20,Players!$G20,Players!FL20,Players!FN20)","v":12},1,"-",3,{"$f":"ResultsCalc(Players!$E20,Players!$G20,Players!FP20,Players!FR20)","v":0},1,"-",1,{"$f":"ResultsCalc(Players!$E20,Players!$G20,Players!FT20,Players!FV20)","v":0},2,"-",0,{"$f":"ResultsCalc(Players!$E20,Players!$G20,Players!FX20,Players!FZ20)","v":12},4,"-",2,{"$f":"ResultsCalc(Players!$E20,Players!$G20,Players!GB20,Players!GD20)","v":6},1,"-",0,{"$f":"ResultsCalc(Players!$E20,Players!$G20,Players!GF20,Players!GH20)","v":6},2,"-",0,{"$f":"ResultsCalc(Players!$E20,Players!$G20,Players!GJ20,Players!GL20)","v":12},4,"-",1,{"$f":"ResultsCalc(Players!$E20,Players!$G20,Players!GN20,Players!GP20)","v":4},1,"-",0,{"$f":"ResultsCalc(Players!$E20,Players!$G20,Players!GR20,Players!GT20)","v":6},1,"-",1,{"$f":"ResultsCalc(Players!$E20,Players!$G20,Players!GV20,Players!GX20)","v":0},2,"-",0,{"$f":"ResultsCalc(Players!$E20,Players!$G20,Players!GZ20,Players!HB20)","v":12},1,"-",2,{"$f":"ResultsCalc(Players!$E20,Players!$G20,Players!HD20,Players!HF20)","v":0},1,"-",1,{"$f":"ResultsCalc(Players!$E20,Players!$G20,Players!HH20,Players!HJ20)","v":0},1,"-",1,{"$f":"ResultsCalc(Players!$E20,Players!$G20,Players!HL20,Players!HN20)","v":0},3,"-",2,{"$f":"ResultsCalc(Players!$E20,Players!$G20,Players!HP20,Players!HR20)","v":4},2,"-",0,{"$f":"ResultsCalc(Players!$E20,Players!$G20,Players!HT20,Players!HV20)","v":12},2,"-",1,{"$f":"ResultsCalc(Players!$E20,Players!$G20,Players!HX20,Players!HZ20)","v":6},2,"-",1,{"$f":"ResultsCalc(Players!$E20,Players!$G20,Players!IB20,Players!ID20)","v":6},2,"-",0,{"$f":"ResultsCalc(Players!$E20,Players!$G20,Players!IF20,Players!IH20)","v":12},2,"-",0,{"$f":"ResultsCalc(Players!$E20,Players!$G20,Players!IJ20,Players!IL20)","v":12},3,"-",1,{"$f":"ResultsCalc(Players!$E20,Players!$G20,Players!IN20,Players!IP20)","v":6},0,"-",0,{"$f":"ResultsCalc(Players!$E20,Players!$G20,Players!IR20,Players!IT20)","v":2},3,"-",0,{"$f":"ResultsCalc(Players!$E20,Players!$G20,Players!IV20,Players!IX20)","v":6},2,"-",1,{"$f":"ResultsCalc(Players!$E20,Players!$G20,Players!IZ20,Players!JB20)","v":6},1,"-",0,{"$f":"ResultsCalc(Players!$E20,Players!$G20,Players!JD20,Players!JF20)","v":6},2,"-",1,{"$f":"ResultsCalc(Players!$E20,Players!$G20,Players!JH20,Players!JJ20)","v":6},1,"-",0,{"$f":"ResultsCalc(Players!$E20,Players!$G20,Players!JL20,Players!JN20)","v":6},2,"-",2,{"$f":"ResultsCalc(Players!$E20,Players!$G20,Players!JP20,Players!JR20)","v":2},3,"-",2,{"$f":"ResultsCalc(Players!$E20,Players!$G20,Players!JT20,Players!JV20)","v":4},2,"-",0,{"$f":"ResultsCalc(Players!$E20,Players!$G20,Players!JX20,Players!JZ20)","v":12},2,"-",0,{"$f":"ResultsCalc(Players!$E20,Players!$G20,Players!KB20,Players!KD20)","v":12},1,"-",0,{"$f":"ResultsCalc(Players!$E20,Players!$G20,Players!KF20,Players!KH20)","v":6},3,"-",1,{"$f":"ResultsCalc(Players!$E20,Players!$G20,Players!KJ20,Players!KL20)","v":6},2,"-",1,{"$f":"ResultsCalc(Players!$E20,Players!$G20,Players!KN20,Players!KP20)","v":6},2,"-",0,{"$f":"ResultsCalc(Players!$E20,Players!$G20,Players!KR20,Players!KT20)","v":12},2,"-",1,{"$f":"ResultsCalc(Players!$E20,Players!$G20,Players!KV20,Players!KX20)","v":6},1,"-",0,{"$f":"ResultsCalc(Players!$E20,Players!$G20,Players!KZ20,Players!LB20)","v":6},1,"-",0,{"$f":"ResultsCalc(Players!$E20,Players!$G20,Players!LD20,Players!LF20)","v":6},1,"-",0,{"$f":"ResultsCalc(Players!$E20,Players!$G20,Players!LH20,Players!LJ20)","v":6},2,"-",1,{"$f":"ResultsCalc(Players!$E20,Players!$G20,Players!LL20,Players!LN20)","v":6},2,"-",2,{"$f":"ResultsCalc(Players!$E20,Players!$G20,Players!LP20,Players!LR20)","v":2},2,"-",1,{"$f":"ResultsCalc(Players!$E20,Players!$G20,Players!LT20,Players!LV20)","v":6},3,"-",3,{"$f":"ResultsCalc(Players!$E20,Players!$G20,Players!LX20,Players!LZ20)","v":0},0,"-",0,{"$f":"ResultsCalc(Players!$E20,Players!$G20,Players!MB20,Players!MD20)","v":2},2,"-",1,{"$f":"ResultsCalc(Players!$E20,Players!$G20,Players!MF20,Players!MH20)","v":6},2,"-",0,{"$f":"ResultsCalc(Players!$E20,Players!$G20,Players!MJ20,Players!ML20)","v":12},2,"-",0,{"$f":"ResultsCalc(Players!$E20,Players!$G20,Players!MN20,Players!MP20)","v":12},2,"-",0,{"$f":"ResultsCalc(Players!$E20,Players!$G20,Players!MR20,Players!MT20)","v":12},3,"-",2,{"$f":"ResultsCalc(Players!$E20,Players!$G20,Players!MV20,Players!MX20)","v":4},1,"-",1,{"$f":"ResultsCalc(Players!$E20,Players!$G20,Players!MZ20,Players!NB20)","v":0},3,"-",1,{"$f":"ResultsCalc(Players!$E20,Players!$G20,Players!ND20,Players!NF20)","v":6},0,"-",0,{"$f":"ResultsCalc(Players!$E20,Players!$G20,Players!NH20,Players!NJ20)","v":2},1,"-",0,{"$f":"ResultsCalc(Players!$E20,Players!$G20,Players!NL20,Players!NN20)","v":6},2,"-",2,{"$f":"ResultsCalc(Players!$E20,Players!$G20,Players!NP20,Players!NR20)","v":2},2,"-",0,{"$f":"ResultsCalc(Players!$E20,Players!$G20,Players!NT20,Players!NV20)","v":12},1,"-",0,{"$f":"ResultsCalc(Players!$E20,Players!$G20,Players!NX20,Players!NZ20)","v":6},0,"-",0,{"$f":"ResultsCalc(Players!$E20,Players!$G20,Players!OB20,Players!OD20)","v":2},2,"-",0,{"$f":"ResultsCalc(Players!$E20,Players!$G20,Players!OF20,Players!OH20)","v":12},2,"-",0,{"$f":"ResultsCalc(Players!$E20,Players!$G20,Players!OJ20,Players!OL20)","v":12},1,"-",0,{"$f":"ResultsCalc(Players!$E20,Players!$G20,Players!ON20,Players!OP20)","v":6},2,"-",0,{"$f":"ResultsCalc(Players!$E20,Players!$G20,Players!OR20,Players!OT20)","v":12},2,"-",2,{"$f":"ResultsCalc(Players!$E20,Players!$G20,Players!OV20,Players!OX20)","v":2},2,"-",1,{"$f":"ResultsCalc(Players!$E20,Players!$G20,Players!OZ20,Players!PB20)","v":6},2,"-",0,{"$f":"ResultsCalc(Players!$E20,Players!$G20,Players!PD20,Players!PF20)","v":12},3,"-",1,{"$f":"ResultsCalc(Players!$E20,Players!$G20,Players!PH20,Players!PJ20)","v":6},3,"-",3,{"$f":"ResultsCalc(Players!$E20,Players!$G20,Players!PL20,Players!PN20)","v":0},1,"-",2,{"$f":"ResultsCalc(Players!$E20,Players!$G20,Players!PP20,Players!PR20)","v":0},1,"-",2,{"$f":"ResultsCalc(Players!$E20,Players!$G20,Players!PT20,Players!PV20)","v":0},1,"-",2,{"$f":"ResultsCalc(Players!$E20,Players!$G20,Players!PX20,Players!PZ20)","v":0},3,"-",1,{"$f":"ResultsCalc(Players!$E20,Players!$G20,Players!QB20,Players!QD20)","v":6},2,"-",0,{"$f":"ResultsCalc(Players!$E20,Players!$G20,Players!QF20,Players!QH20)","v":12},1,"-",0,{"$f":"ResultsCalc(Players!$E20,Players!$G20,Players!QJ20,Players!QL20)","v":6},null,27,null,12,27]
["2021-06-18",19,"Sweden","Slovakia",1,"-",0,1,"-",0,{"$f":"ResultsCalc(Players!$E21,Players!$G21,Players!H21,Players!J21)","v":11},1,"-",0,{"$f":"ResultsCalc(Players!$E21,Players!$G21,Players!L21,Players!N21)","v":11},1,"-",1,{"$f":"ResultsCalc(Players!$E21,Players!$G21,Players!P21,Players!R21)","v":2},0,"-",1,{"$f":"ResultsCalc(Players!$E21,Players!$G21,Players!T21,Players!V21)","v":0},1,"-",1,{"$f":"ResultsCalc(Players!$E21,Players!$G21,Players!X21,Players!Z21)","v":2},2,"-",2,{"$f":"ResultsCalc(Players!$E21,Players!$G21,Players!AB21,Players!AD21)","v":0},3,"-",2,{"$f":"ResultsCalc(Players!$E21,Players!$G21,Players!AF21,Players!AH21)","v":6},2,"-",1,{"$f":"ResultsCalc(Players!$E21,Players!$G21,Players!AJ21,Players!AL21)","v":6},1,"-",2,{"$f":"ResultsCalc(Players!$E21,Players!$G21,Players!AN21,Players!AP21)","v":2},1,"-",0,{"$f":"ResultsCalc(Players!$E21,Players!$G21,Players!AR21,Players!AT21)","v":11},3,"-",2,{"$f":"ResultsCalc(Players!$E21,Players!$G21,Players!AV21,Players!AX21)","v":6},1,"-",1,{"$f":"ResultsCalc(Players!$E21,Players!$G21,Players!AZ21,Players!BB21)","v":2},2,"-",1,{"$f":"ResultsCalc(Players!$E21,Players!$G21,Players!BD21,Players!BF21)","v":6},2,"-",1,{"$f":"ResultsCalc(Players!$E21,Players!$G21,Players!BH21,Players!BJ21)","v":6},1,"-",0,{"$f":"ResultsCalc(Players!$E21,Players!$G21,Players!BL21,Players!BN21)","v":11},2,"-",2,{"$f":"ResultsCalc(Players!$E21,Players!$G21,Players!BP21,Players!BR21)","v":0},2,"-",2,{"$f":"ResultsCalc(Players!$E21,Players!$G21,Players!BT21,Players!BV21)","v":0},2,"-",1,{"$f":"ResultsCalc(Players!$E21,Players!$G21,Players!BX21,Players!BZ21)","v":6},1,"-",0,{"$f":"ResultsCalc(Players!$E21,Players!$G21,Players!CB21,Players!CD21)","v":11},3,"-",2,{"$f":"ResultsCalc(Players!$E21,Players!$G21,Players!CF21,Players!CH21)","v":6},2,"-",0,{"$f":"ResultsCalc(Players!$E21,Players!$G21,Players!CJ21,Players!CL21)","v":6},2,"-",1,{"$f":"ResultsCalc(Players!$E21,Players!$G21,Players!CN21,Players!CP21)","v":6},2,"-",1,{"$f":"ResultsCalc(Players!$E21,Players!$G21,Players!CR21,Players!CT21)","v":6},2,"-",0,{"$f":"ResultsCalc(Players!$E21,Players!$G21,Players!CV21,Players!CX21)","v":6},1,"-",0,{"$f":"ResultsCalc(Players!$E21,Players!$G21,Players!CZ21,Players!DB21)","v":11},2,"-",0,{"$f":"ResultsCalc(Players!$E21,Players!$G21,Players!DD21,Players!DF21)","v":6},2,"-",2,{"$f":"ResultsCalc(Players!$E21,Players!$G21,Players!DH21,Players!DJ21)","v":0},2,"-",0,{"$f":"ResultsCalc(Players!$E21,Players!$G21,Players!DL21,Players!DN21)","v":6},1,"-",1,{"$f":"ResultsCalc(Players!$E21,Players!$G21,Players!DP21,Players!DR21)","v":2},1,"-",0,{"$f":"ResultsCalc(Players!$E21,Players!$G21,Players!DT21,Players!DV21)","v":11},2,"-",0,{"$f":"ResultsCalc(Players!$E21,Players!$G21,Players!DX21,Players!DZ21)","v":6},1,"-",2,{"$f":"ResultsCalc(Players!$E21,Players!$G21,Players!EB21,Players!ED21)","v":2},0,"-",1,{"$f":"ResultsCalc(Players!$E21,Players!$G21,Players!EF21,Players!EH21)","v":0},1,"-",0,{"$f":"ResultsCalc(Players!$E21,Players!$G21,Players!EJ21,Players!EL21)","v":11},0,"-",0,{"$f":"ResultsCalc(Players!$E21,Players!$G21,Players!EN21,Players!EP21)","v":2},1,"-",0,{"$f":"ResultsCalc(Players!$E21,Players!$G21,Players!ER21,Players!ET21)","v":11},1,"-",1,{"$f":"ResultsCalc(Players!$E21,Players!$G21,Players!EV21,Players!EX21)","v":2},1,"-",1,{"$f":"ResultsCalc(Players!$E21,Players!$G21,Players!EZ21,Players!FB21)","v":2},1,"-",1,{"$f":"ResultsCalc(Players!$E21,Players!$G21,Players!FD21,Players!FF21)","v":2},1,"-",1,{"$f":"ResultsCalc(Players!$E21,Players!$G21,Players!FH21,Players!FJ21)","v":2},2,"-",1,{"$f":"ResultsCalc(Players!$E21,Players!$G21,Players!FL21,Players!FN21)","v":6},2,"-",1,{"$f":"ResultsCalc(Players!$E21,Players!$G21,Players!FP21,Players!FR21)","v":6},3,"-",1,{"$f":"ResultsCalc(Players!$E21,Players!$G21,Players!FT21,Players!FV21)","v":4},1,"-",0,{"$f":"ResultsCalc(Players!$E21,Players!$G21,Players!FX21,Players!FZ21)","v":11},0,"-",0,{"$f":"ResultsCalc(Players!$E21,Players!$G21,Players!GB21,Players!GD21)","v":2},1,"-",0,{"$f":"ResultsCalc(Players!$E21,Players!$G21,Players!GF21,Players!GH21)","v":11},2,"-",1,{"$f":"ResultsCalc(Players!$E21,Players!$G21,Players!GJ21,Players!GL21)","v":6},2,"-",1,{"$f":"ResultsCalc(Players!$E21,Players!$G21,Players!GN21,Players!GP21)","v":6},1,"-",0,{"$f":"ResultsCalc(Players!$E21,Players!$G21,Players!GR21,Players!GT21)","v":11},2,"-",1,{"$f":"ResultsCalc(Players!$E21,Players!$G21,Players!GV21,Players!GX21)","v":6},0,"-",0,{"$f":"ResultsCalc(Players!$E21,Players!$G21,Players!GZ21,Players!HB21)","v":2},1,"-",0,{"$f":"ResultsCalc(Players!$E21,Players!$G21,Players!HD21,Players!HF21)","v":11},1,"-",0,{"$f":"ResultsCalc(Players!$E21,Players!$G21,Players!HH21,Players!HJ21)","v":11},2,"-",0,{"$f":"ResultsCalc(Players!$E21,Players!$G21,Players!HL21,Players!HN21)","v":6},2,"-",1,{"$f":"ResultsCalc(Players!$E21,Players!$G21,Players!HP21,Players!HR21)","v":6},2,"-",0,{"$f":"ResultsCalc(Players!$E21,Players!$G21,Players!HT21,Players!HV21)","v":6},1,"-",0,{"$f":"ResultsCalc(Players!$E21,Players!$G21,Players!HX21,Players!HZ21)","v":11},1,"-",1,{"$f":"ResultsCalc(Players!$E21,Players!$G21,Players!IB21,Players!ID21)","v":2},1,"-",1,{"$f":"ResultsCalc(Players!$E21,Players!$G21,Players!IF21,Players!IH21)","v":2},3,"-",0,{"$f":"ResultsCalc(Players!$E21,Players!$G21,Players!IJ21,Players!IL21)","v":6},2,"-",1,{"$f":"ResultsCalc(Players!$E21,Players!$G21,Players!IN21,Players!IP21)","v":6},1,"-",0,{"$f":"ResultsCalc(Players!$E21,Players!$G21,Players!IR21,Players!IT21)","v":11},1,"-",1,{"$f":"ResultsCalc(Players!$E21,Players!$G21,Players!IV21,Players!IX21)","v":2},2,"-",0,{"$f":"ResultsCalc(Players!$E21,Players!$G21,Players!IZ21,Players!JB21)","v":6},2,"-",1,{"$f":"ResultsCalc(Players!$E21,Players!$G21,Players!JD21,Players!JF21)","v":6},0,"-",0,{"$f":"ResultsCalc(Players!$E21,Players!$G21,Players!JH21,Players!JJ21)","v":2},1,"-",0,{"$f":"ResultsCalc(Players!$E21,Players!$G21,Players!JL21,Players!JN21)","v":11},1,"-",1,{"$f":"ResultsCalc(Players!$E21,Players!$G21,Players!JP21,Players!JR21)","v":2},1,"-",0,{"$f":"ResultsCalc(Players!$E21,Players!$G21,Players!JT21,Players!JV21)","v":11},1,"-",0,{"$f":"ResultsCalc(Players!$E21,Players!$G21,Players!JX21,Players!JZ21)","v":11},1,"-",0,{"$f":"ResultsCalc(Players!$E21,Players!$G21,Players!KB21,Players!KD21)","v":11},2,"-",0,{"$f":"ResultsCalc(Players!$E21,Players!$G21,Players!KF21,Players!KH21)","v":6},1,"-",0,{"$f":"ResultsCalc(Players!$E21,Players!$G21,Players!KJ21,Players!KL21)","v":11},2,"-",0,{"$f":"ResultsCalc(Players!$E21,Players!$G21,Players!KN21,Players!KP21)","v":6},2,"-",0,{"$f":"ResultsCalc(Players!$E21,Players!$G21,Players!KR21,Players!KT21)","v":6},2,"-",1,{"$f":"ResultsCalc(Players!$E21,Players!$G21,Players!KV21,Players!KX21)","v":6},1,"-",0,{"$f":"ResultsCalc(Players!$E21,Players!$G21,Players!KZ21,Players!LB21)","v":11},1,"-",0,{"$f":"ResultsCalc(Players!$E21,Players!$G21,Players!LD21,Players!LF21)","v":11},1,"-",0,{"$f":"ResultsCalc(Players!$E21,Players!$G21,Players!LH21,Players!LJ21)","v":11},2,"-",0,{"$f":"ResultsCalc(Players!$E21,Players!$G21,Players!LL21,Players!LN21)","v":6},0,"-",1,{"$f":"ResultsCalc(Players!$E21,Players!$G21,Players!LP21,Players!LR21)","v":0},2,"-",1,{"$f":"ResultsCalc(Players!$E21,Players!$G21,Players!LT21,Players!LV21)","v":6},2,"-",1,{"$f":"ResultsCalc(Players!$E21,Players!$G21,Players!LX21,Players!LZ21)","v":6},1,"-",0,{"$f":"ResultsCalc(Players!$E21,Players!$G21,Players!MB21,Players!MD21)","v":11},0,"-",0,{"$f":"ResultsCalc(Players!$E21,Players!$G21,Players!MF21,Players!MH21)","v":2},1,"-",2,{"$f":"ResultsCalc(Players!$E21,Players!$G21,Players!MJ21,Players!ML21)","v":2},0,"-",0,{"$f":"ResultsCalc(Players!$E21,Players!$G21,Players!MN21,Players!MP21)","v":2},2,"-",1,{"$f":"ResultsCalc(Players!$E21,Players!$G21,Players!MR21,Players!MT21)","v":6},2,"-",1,{"$f":"ResultsCalc(Players!$E21,Players!$G21,Players!MV21,Players!MX21)","v":6},2,"-",0,{"$f":"ResultsCalc(Players!$E21,Players!$G21,Players!MZ21,Players!NB21)","v":6},2,"-",0,{"$f":"ResultsCalc(Players!$E21,Players!$G21,Players!ND21,Players!NF21)","v":6},1,"-",2,{"$f":"ResultsCalc(Players!$E21,Players!$G21,Players!NH21,Players!NJ21)","v":2},2,"-",2,{"$f":"ResultsCalc(Players!$E21,Players!$G21,Players!NL21,Players!NN21)","v":0},0,"-",0,{"$f":"ResultsCalc(Players!$E21,Players!$G21,Players!NP21,Players!NR21)","v":2},1,"-",0,{"$f":"ResultsCalc(Players!$E21,Players!$G21,Players!NT21,Players!NV21)","v":11},1,"-",0,{"$f":"ResultsCalc(Players!$E21,Players!$G21,Players!NX21,Players!NZ21)","v":11},1,"-",0,{"$f":"ResultsCalc(Players!$E21,Players!$G21,Players!OB21,Players!OD21)","v":11},1,"-",0,{"$f":"ResultsCalc(Players!$E21,Players!$G21,Players!OF21,Players!OH21)","v":11},2,"-",1,{"$f":"ResultsCalc(Players!$E21,Players!$G21,Players!OJ21,Players!OL21)","v":6},1,"-",2,{"$f":"ResultsCalc(Players!$E21,Players!$G21,Players!ON21,Players!OP21)","v":2},1,"-",0,{"$f":"ResultsCalc(Players!$E21,Players!$G21,Players!OR21,Players!OT21)","v":11},3,"-",0,{"$f":"ResultsCalc(Players!$E21,Players!$G21,Players!OV21,Players!OX21)","v":6},1,"-",1,{"$f":"ResultsCalc(Players!$E21,Players!$G21,Players!OZ21,Players!PB21)","v":2},2,"-",2,{"$f":"ResultsCalc(Players!$E21,Players!$G21,Players!PD21,Players!PF21)","v":0},2,"-",2,{"$f":"ResultsCalc(Players!$E21,Players!$G21,Players!PH21,Players!PJ21)","v":0},3,"-",1,{"$f":"ResultsCalc(Players!$E21,Players!$G21,Players!PL21,Players!PN21)","v":4},2,"-",1,{"$f":"ResultsCalc(Players!$E21,Players!$G21,Players!PP21,Players!PR21)","v":6},1,"-",1,{"$f":"ResultsCalc(Players!$E21,Players!$G21,Players!PT21,Players!PV21)","v":2},0,"-",0,{"$f":"ResultsCalc(Players!$E21,Players!$G21,Players!PX21,Players!PZ21)","v":2},2,"-",0,{"$f":"ResultsCalc(Players!$E21,Players!$G21,Players!QB21,Players!QD21)","v":6},2,"-",0,{"$f":"ResultsCalc(Players!$E21,Players!$G21,Players!QF21,Players!QH21)","v":6},1,"-",0,{"$f":"ResultsCalc(Players!$E21,Players!$G21,Players!QJ21,Players!QL21)","v":11},null,31,null,11,31]
["2021-06-18",20,"Croatia","Czech Republic",1,"-",1,2,"-",0,{"$f":"ResultsCalc(Players!$E22,Players!$G22,Players!H22,Players!J22)","v":0},1,"-",1,{"$f":"ResultsCalc(Players!$E22,Players!$G22,Players!L22,Players!N22)","v":12},2,"-",1,{"$f":"ResultsCalc(Players!$E22,Players!$G22,Players!P22,Players!R22)","v":2},3,"-",1,{"$f":"ResultsCalc(Players!$E22,Players!$G22,Players!T22,Players!V22)","v":2},1,"-",2,{"$f":"ResultsCalc(Players!$E22,Players!$G22,Players!X22,Players!Z22)","v":2},1,"-",1,{"$f":"ResultsCalc(Players!$E22,Players!$G22,Players!AB22,Players!AD22)","v":12},1,"-",1,{"$f":"ResultsCalc(Players!$E22,Players!$G22,Players!AF22,Players!AH22)","v":12},2,"-",0,{"$f":"ResultsCalc(Players!$E22,Players!$G22,Players!AJ22,Players!AL22)","v":0},1,"-",2,{"$f":"ResultsCalc(Players!$E22,Players!$G22,Players!AN22,Players!AP22)","v":2},1,"-",0,{"$f":"ResultsCalc(Players!$E22,Players!$G22,Players!AR22,Players!AT22)","v":2},2,"-",2,{"$f":"ResultsCalc(Players!$E22,Players!$G22,Players!AV22,Players!AX22)","v":6},2,"-",0,{"$f":"ResultsCalc(Players!$E22,Players!$G22,Players!AZ22,Players!BB22)","v":0},2,"-",1,{"$f":"ResultsCalc(Players!$E22,Players!$G22,Players!BD22,Players!BF22)","v":2},2,"-",2,{"$f":"ResultsCalc(Players!$E22,Players!$G22,Players!BH22,Players!BJ22)","v":6},1,"-",0,{"$f":"ResultsCalc(Players!$E22,Players!$G22,Players!BL22,Players!BN22)","v":2},2,"-",1,{"$f":"ResultsCalc(Players!$E22,Players!$G22,Players!BP22,Players!BR22)","v":2},3,"-",2,{"$f":"ResultsCalc(Players!$E22,Players!$G22,Players!BT22,Players!BV22)","v":0},2,"-",2,{"$f":"ResultsCalc(Players!$E22,Players!$G22,Players!BX22,Players!BZ22)","v":6},2,"-",1,{"$f":"ResultsCalc(Players!$E22,Players!$G22,Players!CB22,Players!CD22)","v":2},1,"-",2,{"$f":"ResultsCalc(Players!$E22,Players!$G22,Players!CF22,Players!CH22)","v":2},1,"-",0,{"$f":"ResultsCalc(Players!$E22,Players!$G22,Players!CJ22,Players!CL22)","v":2},1,"-",0,{"$f":"ResultsCalc(Players!$E22,Players!$G22,Players!CN22,Players!CP22)","v":2},1,"-",1,{"$f":"ResultsCalc(Players!$E22,Players!$G22,Players!CR22,Players!CT22)","v":12},2,"-",0,{"$f":"ResultsCalc(Players!$E22,Players!$G22,Players!CV22,Players!CX22)","v":0},1,"-",1,{"$f":"ResultsCalc(Players!$E22,Players!$G22,Players!CZ22,Players!DB22)","v":12},1,"-",1,{"$f":"ResultsCalc(Players!$E22,Players!$G22,Players!DD22,Players!DF22)","v":12},1,"-",1,{"$f":"ResultsCalc(Players!$E22,Players!$G22,Players!DH22,Players!DJ22)","v":12},2,"-",1,{"$f":"ResultsCalc(Players!$E22,Players!$G22,Players!DL22,Players!DN22)","v":2},0,"-",0,{"$f":"ResultsCalc(Players!$E22,Players!$G22,Players!DP22,Players!DR22)","v":6},2,"-",1,{"$f":"ResultsCalc(Players!$E22,Players!$G22,Players!DT22,Players!DV22)","v":2},1,"-",0,{"$f":"ResultsCalc(Players!$E22,Players!$G22,Players!DX22,Players!DZ22)","v":2},2,"-",1,{"$f":"ResultsCalc(Players!$E22,Players!$G22,Players!EB22,Players!ED22)","v":2},3,"-",1,{"$f":"ResultsCalc(Players!$E22,Players!$G22,Players!EF22,Players!EH22)","v":2},2,"-",1,{"$f":"ResultsCalc(Players!$E22,Players!$G22,Players!EJ22,Players!EL22)","v":2},2,"-",0,{"$f":"ResultsCalc(Players!$E22,Players!$G22,Players!EN22,Players!EP22)","v":0},2,"-",1,{"$f":"ResultsCalc(Players!$E22,Players!$G22,Players!ER22,Players!ET22)","v":2},1,"-",2,{"$f":"ResultsCalc(Players!$E22,Players!$G22,Players!EV22,Players!EX22)","v":2},1,"-",1,{"$f":"ResultsCalc(Players!$E22,Players!$G22,Players!EZ22,Players!FB22)","v":12},1,"-",1,{"$f":"ResultsCalc(Players!$E22,Players!$G22,Players!FD22,Players!FF22)","v":12},3,"-",0,{"$f":"ResultsCalc(Players!$E22,Players!$G22,Players!FH22,Players!FJ22)","v":0},2,"-",0,{"$f":"ResultsCalc(Players!$E22,Players!$G22,Players!FL22,Players!FN22)","v":0},3,"-",2,{"$f":"ResultsCalc(Players!$E22,Players!$G22,Players!FP22,Players!FR22)","v":0},2,"-",0,{"$f":"ResultsCalc(Players!$E22,Players!$G22,Players!FT22,Players!FV22)","v":0},2,"-",1,{"$f":"ResultsCalc(Players!$E22,Players!$G22,Players!FX22,Players!FZ22)","v":2},2,"-",2,{"$f":"ResultsCalc(Players!$E22,Players!$G22,Players!GB22,Players!GD22)","v":6},0,"-",0,{"$f":"ResultsCalc(Players!$E22,Players!$G22,Players!GF22,Players!GH22)","v":6},2,"-",0,{"$f":"ResultsCalc(Players!$E22,Players!$G22,Players!GJ22,Players!GL22)","v":0},3,"-",0,{"$f":"ResultsCalc(Players!$E22,Players!$G22,Players!GN22,Players!GP22)","v":0},1,"-",1,{"$f":"ResultsCalc(Players!$E22,Players!$G22,Players!GR22,Players!GT22)","v":12},2,"-",0,{"$f":"ResultsCalc(Players!$E22,Players!$G22,Players!GV22,Players!GX22)","v":0},2,"-",0,{"$f":"ResultsCalc(Players!$E22,Players!$G22,Players!GZ22,Players!HB22)","v":0},0,"-",2,{"$f":"ResultsCalc(Players!$E22,Players!$G22,Players!HD22,Players!HF22)","v":0},0,"-",1,{"$f":"ResultsCalc(Players!$E22,Players!$G22,Players!HH22,Players!HJ22)","v":2},2,"-",1,{"$f":"ResultsCalc(Players!$E22,Players!$G22,Players!HL22,Players!HN22)","v":2},2,"-",1,{"$f":"ResultsCalc(Players!$E22,Players!$G22,Players!HP22,Players!HR22)","v":2},2,"-",1,{"$f":"ResultsCalc(Players!$E22,Players!$G22,Players!HT22,Players!HV22)","v":2},2,"-",1,{"$f":"ResultsCalc(Players!$E22,Players!$G22,Players!HX22,Players!HZ22)","v":2},2,"-",1,{"$f":"ResultsCalc(Players!$E22,Players!$G22,Players!IB22,Players!ID22)","v":2},2,"-",1,{"$f":"ResultsCalc(Players!$E22,Players!$G22,Players!IF22,Players!IH22)","v":2},3,"-",2,{"$f":"ResultsCalc(Players!$E22,Players!$G22,Players!IJ22,Players!IL22)","v":0},3,"-",2,{"$f":"ResultsCalc(Players!$E22,Players!$G22,Players!IN22,Players!IP22)","v":0},2,"-",1,{"$f":"ResultsCalc(Players!$E22,Players!$G22,Players!IR22,Players!IT22)","v":2},2,"-",0,{"$f":"ResultsCalc(Players!$E22,Players!$G22,Players!IV22,Players!IX22)","v":0},3,"-",1,{"$f":"ResultsCalc(Players!$E22,Players!$G22,Players!IZ22,Players!JB22)","v":2},4,"-",0,{"$f":"ResultsCalc(Players!$E22,Players!$G22,Players!JD22,Players!JF22)","v":0},0,"-",1,{"$f":"ResultsCalc(Players!$E22,Players!$G22,Players!JH22,Players!JJ22)","v":2},1,"-",1,{"$f":"ResultsCalc(Players!$E22,Players!$G22,Players!JL22,Players!JN22)","v":12},1,"-",2,{"$f":"ResultsCalc(Players!$E22,Players!$G22,Players!JP22,Players!JR22)","v":2},2,"-",1,{"$f":"ResultsCalc(Players!$E22,Players!$G22,Players!JT22,Players!JV22)","v":2},1,"-",1,{"$f":"ResultsCalc(Players!$E22,Players!$G22,Players!JX22,Players!JZ22)","v":12},2,"-",0,{"$f":"ResultsCalc(Players!$E22,Players!$G22,Players!KB22,Players!KD22)","v":0},0,"-",3,{"$f":"ResultsCalc(Players!$E22,Players!$G22,Players!KF22,Players!KH22)","v":0},1,"-",0,{"$f":"ResultsCalc(Players!$E22,Players!$G22,Players!KJ22,Players!KL22)","v":2},1,"-",0,{"$f":"ResultsCalc(Players!$E22,Players!$G22,Players!KN22,Players!KP22)","v":2},1,"-",0,{"$f":"ResultsCalc(Players!$E22,Players!$G22,Players!KR22,Players!KT22)","v":2},3,"-",2,{"$f":"ResultsCalc(Players!$E22,Players!$G22,Players!KV22,Players!KX22)","v":0},2,"-",0,{"$f":"ResultsCalc(Players!$E22,Players!$G22,Players!KZ22,Players!LB22)","v":0},1,"-",1,{"$f":"ResultsCalc(Players!$E22,Players!$G22,Players!LD22,Players!LF22)","v":12},2,"-",1,{"$f":"ResultsCalc(Players!$E22,Players!$G22,Players!LH22,Players!LJ22)","v":2},2,"-",1,{"$f":"ResultsCalc(Players!$E22,Players!$G22,Players!LL22,Players!LN22)","v":2},1,"-",1,{"$f":"ResultsCalc(Players!$E22,Players!$G22,Players!LP22,Players!LR22)","v":12},1,"-",0,{"$f":"ResultsCalc(Players!$E22,Players!$G22,Players!LT22,Players!LV22)","v":2},2,"-",2,{"$f":"ResultsCalc(Players!$E22,Players!$G22,Players!LX22,Players!LZ22)","v":6},1,"-",0,{"$f":"ResultsCalc(Players!$E22,Players!$G22,Players!MB22,Players!MD22)","v":2},1,"-",1,{"$f":"ResultsCalc(Players!$E22,Players!$G22,Players!MF22,Players!MH22)","v":12},2,"-",1,{"$f":"ResultsCalc(Players!$E22,Players!$G22,Players!MJ22,Players!ML22)","v":2},2,"-",1,{"$f":"ResultsCalc(Players!$E22,Players!$G22,Players!MN22,Players!MP22)","v":2},2,"-",1,{"$f":"ResultsCalc(Players!$E22,Players!$G22,Players!MR22,Players!MT22)","v":2},3,"-",2,{"$f":"ResultsCalc(Players!$E22,Players!$G22,Players!MV22,Players!MX22)","v":0},1,"-",0,{"$f":"ResultsCalc(Players!$E22,Players!$G22,Players!MZ22,Players!NB22)","v":2},4,"-",3,{"$f":"ResultsCalc(Players!$E22,Players!$G22,Players!ND22,Players!NF22)","v":0},1,"-",1,{"$f":"ResultsCalc(Players!$E22,Players!$G22,Players!NH22,Players!NJ22)","v":12},3,"-",0,{"$f":"ResultsCalc(Players!$E22,Players!$G22,Players!NL22,Players!NN22)","v":0},3,"-",1,{"$f":"ResultsCalc(Players!$E22,Players!$G22,Players!NP22,Players!NR22)","v":2},3,"-",0,{"$f":"ResultsCalc(Players!$E22,Players!$G22,Players!NT22,Players!NV22)","v":0},2,"-",0,{"$f":"ResultsCalc(Players!$E22,Players!$G22,Players!NX22,Players!NZ22)","v":0},1,"-",0,{"$f":"ResultsCalc(Players!$E22,Players!$G22,Players!OB22,Players!OD22)","v":2},2,"-",1,{"$f":"ResultsCalc(Players!$E22,Players!$G22,Players!OF22,Players!OH22)","v":2},3,"-",2,{"$f":"ResultsCalc(Players!$E22,Players!$G22,Players!OJ22,Players!OL22)","v":0},1,"-",0,{"$f":"ResultsCalc(Players!$E22,Players!$G22,Players!ON22,Players!OP22)","v":2},4,"-",0,{"$f":"ResultsCalc(Players!$E22,Players!$G22,Players!OR22,Players!OT22)","v":0},2,"-",1,{"$f":"ResultsCalc(Players!$E22,Players!$G22,Players!OV22,Players!OX22)","v":2},3,"-",2,{"$f":"ResultsCalc(Players!$E22,Players!$G22,Players!OZ22,Players!PB22)","v":0},2,"-",0,{"$f":"ResultsCalc(Players!$E22,Players!$G22,Players!PD22,Players!PF22)","v":0},0,"-",1,{"$f":"ResultsCalc(Players!$E22,Players!$G22,Players!PH22,Players!PJ22)","v":2},2,"-",4,{"$f":"ResultsCalc(Players!$E22,Players!$G22,Players!PL22,Players!PN22)","v":0},2,"-",2,{"$f":"ResultsCalc(Players!$E22,Players!$G22,Players!PP22,Players!PR22)","v":6},1,"-",2,{"$f":"ResultsCalc(Players!$E22,Players!$G22,Players!PT22,Players!PV22)","v":2},1,"-",1,{"$f":"ResultsCalc(Players!$E22,Players!$G22,Players!PX22,Players!PZ22)","v":12},1,"-",0,{"$f":"ResultsCalc(Players!$E22,Players!$G22,Players!QB22,Players!QD22)","v":2},2,"-",2,{"$f":"ResultsCalc(Players!$E22,Players!$G22,Players!QF22,Players!QH22)","v":6},1,"-",0,{"$f":"ResultsCalc(Players!$E22,Players!$G22,Players!QJ22,Players!QL22)","v":2},null,17,null,12,17]
["2021-06-18",21,"England","Scotland",0,"-",0,3,"-",1,{"$f":"ResultsCalc(Players!$E23,Players!$G23,Players!H23,Players!J23)","v":0},2,"-",0,{"$f":"ResultsCalc(Players!$E23,Players!$G23,Players!L23,Players!N23)","v":2},3,"-",0,{"$f":"ResultsCalc(Players!$E23,Players!$G23,Players!P23,Players!R23)","v":2},4,"-",1,{"$f":"ResultsCalc(Players!$E23,Players!$G23,Players!T23,Players!V23)","v":0},3,"-",0,{"$f":"ResultsCalc(Players!$E23,Players!$G23,Players!X23,Players!Z23)","v":2},2,"-",1,{"$f":"ResultsCalc(Players!$E23,Players!$G23,Players!AB23,Players!AD23)","v":0},2,"-",0,{"$f":"ResultsCalc(Players!$E23,Players!$G23,Players!AF23,Players!AH23)","v":2},3,"-",0,{"$f":"ResultsCalc(Players!$E23,Players!$G23,Players!AJ23,Players!AL23)","v":2},2,"-",1,{"$f":"ResultsCalc(Players!$E23,Players!$G23,Players!AN23,Players!AP23)","v":0},3,"-",0,{"$f":"ResultsCalc(Players!$E23,Players!$G23,Players!AR23,Players!AT23)","v":2},3,"-",1,{"$f":"ResultsCalc(Players!$E23,Players!$G23,Players!AV23,Players!AX23)","v":0},3,"-",2,{"$f":"ResultsCalc(Players!$E23,Players!$G23,Players!AZ23,Players!BB23)","v":0},1,"-",2,{"$f":"ResultsCalc(Players!$E23,Players!$G23,Players!BD23,Players!BF23)","v":0},1,"-",1,{"$f":"ResultsCalc(Players!$E23,Players!$G23,Players!BH23,Players!BJ23)","v":6},2,"-",1,{"$f":"ResultsCalc(Players!$E23,Players!$G23,Players!BL23,Players!BN23)","v":0},3,"-",1,{"$f":"ResultsCalc(Players!$E23,Players!$G23,Players!BP23,Players!BR23)","v":0},3,"-",1,{"$f":"ResultsCalc(Players!$E23,Players!$G23,Players!BT23,Players!BV23)","v":0},3,"-",1,{"$f":"ResultsCalc(Players!$E23,Players!$G23,Players!BX23,Players!BZ23)","v":0},1,"-",0,{"$f":"ResultsCalc(Players!$E23,Players!$G23,Players!CB23,Players!CD23)","v":2},2,"-",0,{"$f":"ResultsCalc(Players!$E23,Players!$G23,Players!CF23,Players!CH23)","v":2},3,"-",2,{"$f":"ResultsCalc(Players!$E23,Players!$G23,Players!CJ23,Players!CL23)","v":0},2,"-",2,{"$f":"ResultsCalc(Players!$E23,Players!$G23,Players!CN23,Players!CP23)","v":6},2,"-",0,{"$f":"ResultsCalc(Players!$E23,Players!$G23,Players!CR23,Players!CT23)","v":2},3,"-",1,{"$f":"ResultsCalc(Players!$E23,Players!$G23,Players!CV23,Players!CX23)","v":0},2,"-",0,{"$f":"ResultsCalc(Players!$E23,Players!$G23,Players!CZ23,Players!DB23)","v":2},2,"-",1,{"$f":"ResultsCalc(Players!$E23,Players!$G23,Players!DD23,Players!DF23)","v":0},2,"-",0,{"$f":"ResultsCalc(Players!$E23,Players!$G23,Players!DH23,Players!DJ23)","v":2},2,"-",0,{"$f":"ResultsCalc(Players!$E23,Players!$G23,Players!DL23,Players!DN23)","v":2},2,"-",2,{"$f":"ResultsCalc(Players!$E23,Players!$G23,Players!DP23,Players!DR23)","v":6},2,"-",0,{"$f":"ResultsCalc(Players!$E23,Players!$G23,Players!DT23,Players!DV23)","v":2},4,"-",0,{"$f":"ResultsCalc(Players!$E23,Players!$G23,Players!DX23,Players!DZ23)","v":2},4,"-",1,{"$f":"ResultsCalc(Players!$E23,Players!$G23,Players!EB23,Players!ED23)","v":0},2,"-",2,{"$f":"ResultsCalc(Players!$E23,Players!$G23,Players!EF23,Players!EH23)","v":6},3,"-",0,{"$f":"ResultsCalc(Players!$E23,Players!$G23,Players!EJ23,Players!EL23)","v":2},0,"-",1,{"$f":"ResultsCalc(Players!$E23,Players!$G23,Players!EN23,Players!EP23)","v":2},3,"-",1,{"$f":"ResultsCalc(Players!$E23,Players!$G23,Players!ER23,Players!ET23)","v":0},3,"-",0,{"$f":"ResultsCalc(Players!$E23,Players!$G23,Players!EV23,Players!EX23)","v":2},3,"-",2,{"$f":"ResultsCalc(Players!$E23,Players!$G23,Players!EZ23,Players!FB23)","v":0},2,"-",1,{"$f":"ResultsCalc(Players!$E23,Players!$G23,Players!FD23,Players!FF23)","v":0},1,"-",1,{"$f":"ResultsCalc(Players!$E23,Players!$G23,Players!FH23,Players!FJ23)","v":6},2,"-",0,{"$f":"ResultsCalc(Players!$E23,Players!$G23,Players!FL23,Players!FN23)","v":2},1,"-",3,{"$f":"ResultsCalc(Players!$E23,Players!$G23,Players!FP23,Players!FR23)","v":0},4,"-",0,{"$f":"ResultsCalc(Players!$E23,Players!$G23,Players!FT23,Players!FV23)","v":2},3,"-",1,{"$f":"ResultsCalc(Players!$E23,Players!$G23,Players!FX23,Players!FZ23)","v":0},1,"-",0,{"$f":"ResultsCalc(Players!$E23,Players!$G23,Players!GB23,Players!GD23)","v":2},1,"-",1,{"$f":"ResultsCalc(Players!$E23,Players!$G23,Players!GF23,Players!GH23)","v":6},2,"-",1,{"$f":"ResultsCalc(Players!$E23,Players!$G23,Players!GJ23,Players!GL23)","v":0},3,"-",1,{"$f":"ResultsCalc(Players!$E23,Players!$G23,Players!GN23,Players!GP23)","v":0},2,"-",0,{"$f":"ResultsCalc(Players!$E23,Players!$G23,Players!GR23,Players!GT23)","v":2},3,"-",1,{"$f":"ResultsCalc(Players!$E23,Players!$G23,Players!GV23,Players!GX23)","v":0},3,"-",0,{"$f":"ResultsCalc(Players!$E23,Players!$G23,Players!GZ23,Players!HB23)","v":2},4,"-",0,{"$f":"ResultsCalc(Players!$E23,Players!$G23,Players!HD23,Players!HF23)","v":2},2,"-",1,{"$f":"ResultsCalc(Players!$E23,Players!$G23,Players!HH23,Players!HJ23)","v":0},2,"-",0,{"$f":"ResultsCalc(Players!$E23,Players!$G23,Players!HL23,Players!HN23)","v":2},2,"-",1,{"$f":"ResultsCalc(Players!$E23,Players!$G23,Players!HP23,Players!HR23)","v":0},2,"-",0,{"$f":"ResultsCalc(Players!$E23,Players!$G23,Players!HT23,Players!HV23)","v":2},1,"-",7,{"$f":"ResultsCalc(Players!$E23,Players!$G23,Players!HX23,Players!HZ23)","v":0},3,"-",1,{"$f":"ResultsCalc(Players!$E23,Players!$G23,Players!IB23,Players!ID23)","v":0},2,"-",0,{"$f":"ResultsCalc(Players!$E23,Players!$G23,Players!IF23,Players!IH23)","v":2},4,"-",1,{"$f":"ResultsCalc(Players!$E23,Players!$G23,Players!IJ23,Players!IL23)","v":0},1,"-",3,{"$f":"ResultsCalc(Players!$E23,Players!$G23,Players!IN23,Players!IP23)","v":0},4,"-",1,{"$f":"ResultsCalc(Players!$E23,Players!$G23,Players!IR23,Players!IT23)","v":0},3,"-",1,{"$f":"ResultsCalc(Players!$E23,Players!$G23,Players!IV23,Players!IX23)","v":0},2,"-",1,{"$f":"ResultsCalc(Players!$E23,Players!$G23,Players!IZ23,Players!JB23)","v":0},1,"-",0,{"$f":"ResultsCalc(Players!$E23,Players!$G23,Players!JD23,Players!JF23)","v":2},1,"-",1,{"$f":"ResultsCalc(Players!$E23,Players!$G23,Players!JH23,Players!JJ23)","v":6},1,"-",2,{"$f":"ResultsCalc(Players!$E23,Players!$G23,Players!JL23,Players!JN23)","v":0},1,"-",1,{"$f":"ResultsCalc(Players!$E23,Players!$G23,Players!JP23,Players!JR23)","v":6},1,"-",1,{"$f":"ResultsCalc(Players!$E23,Players!$G23,Players!JT23,Players!JV23)","v":6},2,"-",0,{"$f":"ResultsCalc(Players!$E23,Players!$G23,Players!JX23,Players!JZ23)","v":2},3,"-",1,{"$f":"ResultsCalc(Players!$E23,Players!$G23,Players!KB23,Players!KD23)","v":0},3,"-",0,{"$f":"ResultsCalc(Players!$E23,Players!$G23,Players!KF23,Players!KH23)","v":2},3,"-",0,{"$f":"ResultsCalc(Players!$E23,Players!$G23,Players!KJ23,Players!KL23)","v":2},2,"-",0,{"$f":"ResultsCalc(Players!$E23,Players!$G23,Players!KN23,Players!KP23)","v":2},3,"-",1,{"$f":"ResultsCalc(Players!$E23,Players!$G23,Players!KR23,Players!KT23)","v":0},2,"-",0,{"$f":"ResultsCalc(Players!$E23,Players!$G23,Players!KV23,Players!KX23)","v":2},2,"-",0,{"$f":"ResultsCalc(Players!$E23,Players!$G23,Players!KZ23,Players!LB23)","v":2},2,"-",1,{"$f":"ResultsCalc(Players!$E23,Players!$G23,Players!LD23,Players!LF23)","v":0},4,"-",1,{"$f":"ResultsCalc(Players!$E23,Players!$G23,Players!LH23,Players!LJ23)","v":0},3,"-",1,{"$f":"ResultsCalc(Players!$E23,Players!$G23,Players!LL23,Players!LN23)","v":0},2,"-",0,{"$f":"ResultsCalc(Players!$E23,Players!$G23,Players!LP23,Players!LR23)","v":2},1,"-",1,{"$f":"ResultsCalc(Players!$E23,Players!$G23,Players!LT23,Players!LV23)","v":6},1,"-",2,{"$f":"ResultsCalc(Players!$E23,Players!$G23,Players!LX23,Players!LZ23)","v":0},1,"-",1,{"$f":"ResultsCalc(Players!$E23,Players!$G23,Players!MB23,Players!MD23)","v":6},2,"-",1,{"$f":"ResultsCalc(Players!$E23,Players!$G23,Players!MF23,Players!MH23)","v":0},3,"-",1,{"$f":"ResultsCalc(Players!$E23,Players!$G23,Players!MJ23,Players!ML23)","v":0},3,"-",0,{"$f":"ResultsCalc(Players!$E23,Players!$G23,Players!MN23,Players!MP23)","v":2},4,"-",1,{"$f":"ResultsCalc(Players!$E23,Players!$G23,Players!MR23,Players!MT23)","v":0},2,"-",0,{"$f":"ResultsCalc(Players!$E23,Players!$G23,Players!MV23,Players!MX23)","v":2},2,"-",1,{"$f":"ResultsCalc(Players!$E23,Players!$G23,Players!MZ23,Players!NB23)","v":0},2,"-",1,{"$f":"ResultsCalc(Players!$E23,Players!$G23,Players!ND23,Players!NF23)","v":0},1,"-",0,{"$f":"ResultsCalc(Players!$E23,Players!$G23,Players!NH23,Players!NJ23)","v":2},2,"-",0,{"$f":"ResultsCalc(Players!$E23,Players!$G23,Players!NL23,Players!NN23)","v":2},3,"-",2,{"$f":"ResultsCalc(Players!$E23,Players!$G23,Players!NP23,Players!NR23)","v":0},2,"-",0,{"$f":"ResultsCalc(Players!$E23,Players!$G23,Players!NT23,Players!NV23)","v":2},4,"-",0,{"$f":"ResultsCalc(Players!$E23,Players!$G23,Players!NX23,Players!NZ23)","v":2},2,"-",1,{"$f":"ResultsCalc(Players!$E23,Players!$G23,Players!OB23,Players!OD23)","v":0},2,"-",0,{"$f":"ResultsCalc(Players!$E23,Players!$G23,Players!OF23,Players!OH23)","v":2},2,"-",0,{"$f":"ResultsCalc(Players!$E23,Players!$G23,Players!OJ23,Players!OL23)","v":2},1,"-",1,{"$f":"ResultsCalc(Players!$E23,Players!$G23,Players!ON23,Players!OP23)","v":6},4,"-",0,{"$f":"ResultsCalc(Players!$E23,Players!$G23,Players!OR23,Players!OT23)","v":2},2,"-",0,{"$f":"ResultsCalc(Players!$E23,Players!$G23,Players!OV23,Players!OX23)","v":2},3,"-",2,{"$f":"ResultsCalc(Players!$E23,Players!$G23,Players!OZ23,Players!PB23)","v":0},3,"-",1,{"$f":"ResultsCalc(Players!$E23,Players!$G23,Players!PD23,Players!PF23)","v":0},2,"-",1,{"$f":"ResultsCalc(Players!$E23,Players!$G23,Players!PH23,Players!PJ23)","v":0},4,"-",3,{"$f":"ResultsCalc(Players!$E23,Players!$G23,Players!PL23,Players!PN23)","v":0},2,"-",1,{"$f":"ResultsCalc(Players!$E23,Players!$G23,Players!PP23,Players!PR23)","v":0},2,"-",0,{"$f":"ResultsCalc(Players!$E23,Players!$G23,Players!PT23,Players!PV23)","v":2},1,"-",2,{"$f":"ResultsCalc(Players!$E23,Players!$G23,Players!PX23,Players!PZ23)","v":0},3,"-",0,{"$f":"ResultsCalc(Players!$E23,Players!$G23,Players!QB23,Players!QD23)","v":2},2,"-",2,{"$f":"ResultsCalc(Players!$E23,Players!$G23,Players!QF23,Players!QH23)","v":6},2,"-",1,{"$f":"ResultsCalc(Players!$E23,Players!$G23,Players!QJ23,Players!QL23)","v":0},null,0,null,7,1]
["2021-06-19",22,"Hungary","France",1,"-",1,1,"-",1,{"$f":"ResultsCalc(Players!$E24,Players!$G24,Players!H24,Players!J24)","v":12},0,"-",2,{"$f":"ResultsCalc(Players!$E24,Players!$G24,Players!L24,Players!N24)","v":0},0,"-",2,{"$f":"ResultsCalc(Players!$E24,Players!$G24,Players!P24,Players!R24)","v":0},1,"-",5,{"$f":"ResultsCalc(Players!$E24,Players!$G24,Players!T24,Players!V24)","v":2},1,"-",3,{"$f":"ResultsCalc(Players!$E24,Players!$G24,Players!X24,Players!Z24)","v":2},0,"-",4,{"$f":"ResultsCalc(Players!$E24,Players!$G24,Players!AB24,Players!AD24)","v":0},1,"-",3,{"$f":"ResultsCalc(Players!$E24,Players!$G24,Players!AF24,Players!AH24)","v":2},0,"-",4,{"$f":"ResultsCalc(Players!$E24,Players!$G24,Players!AJ24,Players!AL24)","v":0},0,"-",2,{"$f":"ResultsCalc(Players!$E24,Players!$G24,Players!AN24,Players!AP24)","v":0},0,"-",1,{"$f":"ResultsCalc(Players!$E24,Players!$G24,Players!AR24,Players!AT24)","v":2},1,"-",2,{"$f":"ResultsCalc(Players!$E24,Players!$G24,Players!AV24,Players!AX24)","v":2},0,"-",4,{"$f":"ResultsCalc(Players!$E24,Players!$G24,Players!AZ24,Players!BB24)","v":0},1,"-",2,{"$f":"ResultsCalc(Players!$E24,Players!$G24,Players!BD24,Players!BF24)","v":2},2,"-",1,{"$f":"ResultsCalc(Players!$E24,Players!$G24,Players!BH24,Players!BJ24)","v":2},0,"-",2,{"$f":"ResultsCalc(Players!$E24,Players!$G24,Players!BL24,Players!BN24)","v":0},1,"-",3,{"$f":"ResultsCalc(Players!$E24,Players!$G24,Players!BP24,Players!BR24)","v":2},0,"-",3,{"$f":"ResultsCalc(Players!$E24,Players!$G24,Players!BT24,Players!BV24)","v":0},0,"-",3,{"$f":"ResultsCalc(Players!$E24,Players!$G24,Players!BX24,Players!BZ24)","v":0},0,"-",2,{"$f":"ResultsCalc(Players!$E24,Players!$G24,Players!CB24,Players!CD24)","v":0},1,"-",2,{"$f":"ResultsCalc(Players!$E24,Players!$G24,Players!CF24,Players!CH24)","v":2},0,"-",3,{"$f":"ResultsCalc(Players!$E24,Players!$G24,Players!CJ24,Players!CL24)","v":0},0,"-",3,{"$f":"ResultsCalc(Players!$E24,Players!$G24,Players!CN24,Players!CP24)","v":0},0,"-",2,{"$f":"ResultsCalc(Players!$E24,Players!$G24,Players!CR24,Players!CT24)","v":0},0,"-",3,{"$f":"ResultsCalc(Players!$E24,Players!$G24,Players!CV24,Players!CX24)","v":0},0,"-",3,{"$f":"ResultsCalc(Players!$E24,Players!$G24,Players!CZ24,Players!DB24)","v":0},0,"-",3,{"$f":"ResultsCalc(Players!$E24,Players!$G24,Players!DD24,Players!DF24)","v":0},0,"-",3,{"$f":"ResultsCalc(Players!$E24,Players!$G24,Players!DH24,Players!DJ24)","v":0},0,"-",3,{"$f":"ResultsCalc(Players!$E24,Players!$G24,Players!DL24,Players!DN24)","v":0},0,"-",2,{"$f":"ResultsCalc(Players!$E24,Players!$G24,Players!DP24,Players!DR24)","v":0},0,"-",3,{"$f":"ResultsCalc(Players!$E24,Players!$G24,Players!DT24,Players!DV24)","v":0},0,"-",3,{"$f":"ResultsCalc(Players!$E24,Players!$G24,Players!DX24,Players!DZ24)","v":0},1,"-",2,{"$f":"ResultsCalc(Players!$E24,Players!$G24,Players!EB24,Players!ED24)","v":2},0,"-",2,{"$f":"ResultsCalc(Players!$E24,Players!$G24,Players!EF24,Players!EH24)","v":0},0,"-",2,{"$f":"ResultsCalc(Players!$E24,Players!$G24,Players!EJ24,Players!EL24)","v":0},0,"-",3,{"$f":"ResultsCalc(Players!$E24,Players!$G24,Players!EN24,Players!EP24)","v":0},0,"-",4,{"$f":"ResultsCalc(Players!$E24,Players!$G24,Players!ER24,Players!ET24)","v":0},0,"-",2,{"$f":"ResultsCalc(Players!$E24,Players!$G24,Players!EV24,Players!EX24)","v":0},0,"-",2,{"$f":"ResultsCalc(Players!$E24,Players!$G24,Players!EZ24,Players!FB24)","v":0},0,"-",2,{"$f":"ResultsCalc(Players!$E24,Players!$G24,Players!FD24,Players!FF24)","v":0},1,"-",2,{"$f":"ResultsCalc(Players!$E24,Players!$G24,Players!FH24,Players!FJ24)","v":2},0,"-",3,{"$f":"ResultsCalc(Players!$E24,Players!$G24,Players!FL24,Players!FN24)","v":0},2,"-",1,{"$f":"ResultsCalc(Players!$E24,Players!$G24,Players!FP24,Players!FR24)","v":2},0,"-",4,{"$f":"ResultsCalc(Players!$E24,Players!$G24,Players!FT24,Players!FV24)","v":0},1,"-",4,{"$f":"ResultsCalc(Players!$E24,Players!$G24,Players!FX24,Players!FZ24)","v":2},3,"-",3,{"$f":"ResultsCalc(Players!$E24,Players!$G24,Players!GB24,Players!GD24)","v":6},0,"-",2,{"$f":"ResultsCalc(Players!$E24,Players!$G24,Players!GF24,Players!GH24)","v":0},0,"-",3,{"$f":"ResultsCalc(Players!$E24,Players!$G24,Players!GJ24,Players!GL24)","v":0},0,"-",4,{"$f":"ResultsCalc(Players!$E24,Players!$G24,Players!GN24,Players!GP24)","v":0},0,"-",4,{"$f":"ResultsCalc(Players!$E24,Players!$G24,Players!GR24,Players!GT24)","v":0},0,"-",4,{"$f":"ResultsCalc(Players!$E24,Players!$G24,Players!GV24,Players!GX24)","v":0},0,"-",4,{"$f":"ResultsCalc(Players!$E24,Players!$G24,Players!GZ24,Players!HB24)","v":0},0,"-",3,{"$f":"ResultsCalc(Players!$E24,Players!$G24,Players!HD24,Players!HF24)","v":0},2,"-",3,{"$f":"ResultsCalc(Players!$E24,Players!$G24,Players!HH24,Players!HJ24)","v":0},0,"-",3,{"$f":"ResultsCalc(Players!$E24,Players!$G24,Players!HL24,Players!HN24)","v":0},0,"-",2,{"$f":"ResultsCalc(Players!$E24,Players!$G24,Players!HP24,Players!HR24)","v":0},0,"-",4,{"$f":"ResultsCalc(Players!$E24,Players!$G24,Players!HT24,Players!HV24)","v":0},0,"-",2,{"$f":"ResultsCalc(Players!$E24,Players!$G24,Players!HX24,Players!HZ24)","v":0},1,"-",3,{"$f":"ResultsCalc(Players!$E24,Players!$G24,Players!IB24,Players!ID24)","v":2},1,"-",2,{"$f":"ResultsCalc(Players!$E24,Players!$G24,Players!IF24,Players!IH24)","v":2},0,"-",3,{"$f":"ResultsCalc(Players!$E24,Players!$G24,Players!IJ24,Players!IL24)","v":0},1,"-",2,{"$f":"ResultsCalc(Players!$E24,Players!$G24,Players!IN24,Players!IP24)","v":2},2,"-",5,{"$f":"ResultsCalc(Players!$E24,Players!$G24,Players!IR24,Players!IT24)","v":0},0,"-",3,{"$f":"ResultsCalc(Players!$E24,Players!$G24,Players!IV24,Players!IX24)","v":0},0,"-",5,{"$f":"ResultsCalc(Players!$E24,Players!$G24,Players!IZ24,Players!JB24)","v":0},0,"-",1,{"$f":"ResultsCalc(Players!$E24,Players!$G24,Players!JD24,Players!JF24)","v":2},1,"-",2,{"$f":"ResultsCalc(Players!$E24,Players!$G24,Players!JH24,Players!JJ24)","v":2},1,"-",2,{"$f":"ResultsCalc(Players!$E24,Players!$G24,Players!JL24,Players!JN24)","v":2},1,"-",3,{"$f":"ResultsCalc(Players!$E24,Players!$G24,Players!JP24,Players!JR24)","v":2},1,"-",2,{"$f":"ResultsCalc(Players!$E24,Players!$G24,Players!JT24,Players!JV24)","v":2},0,"-",3,{"$f":"ResultsCalc(Players!$E24,Players!$G24,Players!JX24,Players!JZ24)","v":0},0,"-",3,{"$f":"ResultsCalc(Players!$E24,Players!$G24,Players!KB24,Players!KD24)","v":0},1,"-",4,{"$f":"ResultsCalc(Players!$E24,Players!$G24,Players!KF24,Players!KH24)","v":2},1,"-",2,{"$f":"ResultsCalc(Players!$E24,Players!$G24,Players!KJ24,Players!KL24)","v":2},0,"-",3,{"$f":"ResultsCalc(Players!$E24,Players!$G24,Players!KN24,Players!KP24)","v":0},0,"-",2,{"$f":"ResultsCalc(Players!$E24,Players!$G24,Players!KR24,Players!KT24)","v":0},2,"-",5,{"$f":"ResultsCalc(Players!$E24,Players!$G24,Players!KV24,Players!KX24)","v":0},0,"-",3,{"$f":"ResultsCalc(Players!$E24,Players!$G24,Players!KZ24,Players!LB24)","v":0},2,"-",2,{"$f":"ResultsCalc(Players!$E24,Players!$G24,Players!LD24,Players!LF24)","v":6},1,"-",3,{"$f":"ResultsCalc(Players!$E24,Players!$G24,Players!LH24,Players!LJ24)","v":2},0,"-",3,{"$f":"ResultsCalc(Players!$E24,Players!$G24,Players!LL24,Players!LN24)","v":0},1,"-",2,{"$f":"ResultsCalc(Players!$E24,Players!$G24,Players!LP24,Players!LR24)","v":2},1,"-",3,{"$f":"ResultsCalc(Players!$E24,Players!$G24,Players!LT24,Players!LV24)","v":2},1,"-",3,{"$f":"ResultsCalc(Players!$E24,Players!$G24,Players!LX24,Players!LZ24)","v":2},0,"-",1,{"$f":"ResultsCalc(Players!$E24,Players!$G24,Players!MB24,Players!MD24)","v":2},0,"-",2,{"$f":"ResultsCalc(Players!$E24,Players!$G24,Players!MF24,Players!MH24)","v":0},0,"-",3,{"$f":"ResultsCalc(Players!$E24,Players!$G24,Players!MJ24,Players!ML24)","v":0},0,"-",2,{"$f":"ResultsCalc(Players!$E24,Players!$G24,Players!MN24,Players!MP24)","v":0},0,"-",5,{"$f":"ResultsCalc(Players!$E24,Players!$G24,Players!MR24,Players!MT24)","v":0},1,"-",3,{"$f":"ResultsCalc(Players!$E24,Players!$G24,Players!MV24,Players!MX24)","v":2},0,"-",3,{"$f":"ResultsCalc(Players!$E24,Players!$G24,Players!MZ24,Players!NB24)","v":0},0,"-",4,{"$f":"ResultsCalc(Players!$E24,Players!$G24,Players!ND24,Players!NF24)","v":0},0,"-",2,{"$f":"ResultsCalc(Players!$E24,Players!$G24,Players!NH24,Players!NJ24)","v":0},0,"-",2,{"$f":"ResultsCalc(Players!$E24,Players!$G24,Players!NL24,Players!NN24)","v":0},1,"-",5,{"$f":"ResultsCalc(Players!$E24,Players!$G24,Players!NP24,Players!NR24)","v":2},1,"-",4,{"$f":"ResultsCalc(Players!$E24,Players!$G24,Players!NT24,Players!NV24)","v":2},0,"-",3,{"$f":"ResultsCalc(Players!$E24,Players!$G24,Players!NX24,Players!NZ24)","v":0},0,"-",2,{"$f":"ResultsCalc(Players!$E24,Players!$G24,Players!OB24,Players!OD24)","v":0},0,"-",4,{"$f":"ResultsCalc(Players!$E24,Players!$G24,Players!OF24,Players!OH24)","v":0},0,"-",3,{"$f":"ResultsCalc(Players!$E24,Players!$G24,Players!OJ24,Players!OL24)","v":0},0,"-",1,{"$f":"ResultsCalc(Players!$E24,Players!$G24,Players!ON24,Players!OP24)","v":2},0,"-",5,{"$f":"ResultsCalc(Players!$E24,Players!$G24,Players!OR24,Players!OT24)","v":0},1,"-",4,{"$f":"ResultsCalc(Players!$E24,Players!$G24,Players!OV24,Players!OX24)","v":2},1,"-",4,{"$f":"ResultsCalc(Players!$E24,Players!$G24,Players!OZ24,Players!PB24)","v":2},1,"-",4,{"$f":"ResultsCalc(Players!$E24,Players!$G24,Players!PD24,Players!PF24)","v":2},1,"-",1,{"$f":"ResultsCalc(Players!$E24,Players!$G24,Players!PH24,Players!PJ24)","v":12},2,"-",1,{"$f":"ResultsCalc(Players!$E24,Players!$G24,Players!PL24,Players!PN24)","v":2},2,"-",2,{"$f":"ResultsCalc(Players!$E24,Players!$G24,Players!PP24,Players!PR24)","v":6},2,"-",3,{"$f":"ResultsCalc(Players!$E24,Players!$G24,Players!PT24,Players!PV24)","v":0},2,"-",0,{"$f":"ResultsCalc(Players!$E24,Players!$G24,Players!PX24,Players!PZ24)","v":0},1,"-",2,{"$f":"ResultsCalc(Players!$E24,Players!$G24,Players!QB24,Players!QD24)","v":2},0,"-",3,{"$f":"ResultsCalc(Players!$E24,Players!$G24,Players!QF24,Players!QH24)","v":0},1,"-",2,{"$f":"ResultsCalc(Players!$E24,Players!$G24,Players!QJ24,Players!QL24)","v":2},null,2,null,12,2]
["2021-06-19",23,"Portugal","Germany",2,"-",4,1,"-",2,{"$f":"ResultsCalc(Players!$E25,Players!$G25,Players!H25,Players!J25)","v":4},1,"-",0,{"$f":"ResultsCalc(Players!$E25,Players!$G25,Players!L25,Players!N25)","v":0},0,"-",1,{"$f":"ResultsCalc(Players!$E25,Players!$G25,Players!P25,Players!R25)","v":4},3,"-",1,{"$f":"ResultsCalc(Players!$E25,Players!$G25,Players!T25,Players!V25)","v":0},2,"-",2,{"$f":"ResultsCalc(Players!$E25,Players!$G25,Players!X25,Players!Z25)","v":2},0,"-",1,{"$f":"ResultsCalc(Players!$E25,Players!$G25,Players!AB25,Players!AD25)","v":4},3,"-",2,{"$f":"ResultsCalc(Players!$E25,Players!$G25,Players!AF25,Players!AH25)","v":0},1,"-",1,{"$f":"ResultsCalc(Players!$E25,Players!$G25,Players!AJ25,Players!AL25)","v":0},1,"-",2,{"$f":"ResultsCalc(Players!$E25,Players!$G25,Players!AN25,Players!AP25)","v":4},1,"-",2,{"$f":"ResultsCalc(Players!$E25,Players!$G25,Players!AR25,Players!AT25)","v":4},3,"-",3,{"$f":"ResultsCalc(Players!$E25,Players!$G25,Players!AV25,Players!AX25)","v":0},2,"-",2,{"$f":"ResultsCalc(Players!$E25,Players!$G25,Players!AZ25,Players!BB25)","v":2},2,"-",2,{"$f":"ResultsCalc(Players!$E25,Players!$G25,Players!BD25,Players!BF25)","v":2},2,"-",2,{"$f":"ResultsCalc(Players!$E25,Players!$G25,Players!BH25,Players!BJ25)","v":2},1,"-",1,{"$f":"ResultsCalc(Players!$E25,Players!$G25,Players!BL25,Players!BN25)","v":0},3,"-",3,{"$f":"ResultsCalc(Players!$E25,Players!$G25,Players!BP25,Players!BR25)","v":0},1,"-",3,{"$f":"ResultsCalc(Players!$E25,Players!$G25,Players!BT25,Players!BV25)","v":6},2,"-",2,{"$f":"ResultsCalc(Players!$E25,Players!$G25,Players!BX25,Players!BZ25)","v":2},1,"-",2,{"$f":"ResultsCalc(Players!$E25,Players!$G25,Players!CB25,Players!CD25)","v":4},3,"-",2,{"$f":"ResultsCalc(Players!$E25,Players!$G25,Players!CF25,Players!CH25)","v":0},2,"-",1,{"$f":"ResultsCalc(Players!$E25,Players!$G25,Players!CJ25,Players!CL25)","v":2},1,"-",1,{"$f":"ResultsCalc(Players!$E25,Players!$G25,Players!CN25,Players!CP25)","v":0},0,"-",1,{"$f":"ResultsCalc(Players!$E25,Players!$G25,Players!CR25,Players!CT25)","v":4},1,"-",3,{"$f":"ResultsCalc(Players!$E25,Players!$G25,Players!CV25,Players!CX25)","v":6},1,"-",1,{"$f":"ResultsCalc(Players!$E25,Players!$G25,Players!CZ25,Players!DB25)","v":0},1,"-",1,{"$f":"ResultsCalc(Players!$E25,Players!$G25,Players!DD25,Players!DF25)","v":0},2,"-",3,{"$f":"ResultsCalc(Players!$E25,Players!$G25,Players!DH25,Players!DJ25)","v":6},2,"-",1,{"$f":"ResultsCalc(Players!$E25,Players!$G25,Players!DL25,Players!DN25)","v":2},1,"-",1,{"$f":"ResultsCalc(Players!$E25,Players!$G25,Players!DP25,Players!DR25)","v":0},1,"-",2,{"$f":"ResultsCalc(Players!$E25,Players!$G25,Players!DT25,Players!DV25)","v":4},2,"-",2,{"$f":"ResultsCalc(Players!$E25,Players!$G25,Players!DX25,Players!DZ25)","v":2},1,"-",2,{"$f":"ResultsCalc(Players!$E25,Players!$G25,Players!EB25,Players!ED25)","v":4},2,"-",1,{"$f":"ResultsCalc(Players!$E25,Players!$G25,Players!EF25,Players!EH25)","v":2},2,"-",1,{"$f":"ResultsCalc(Players!$E25,Players!$G25,Players!EJ25,Players!EL25)","v":2},1,"-",1,{"$f":"ResultsCalc(Players!$E25,Players!$G25,Players!EN25,Players!EP25)","v":0},1,"-",2,{"$f":"ResultsCalc(Players!$E25,Players!$G25,Players!ER25,Players!ET25)","v":4},2,"-",1,{"$f":"ResultsCalc(Players!$E25,Players!$G25,Players!EV25,Players!EX25)","v":2},3,"-",4,{"$f":"ResultsCalc(Players!$E25,Players!$G25,Players!EZ25,Players!FB25)","v":6},1,"-",1,{"$f":"ResultsCalc(Players!$E25,Players!$G25,Players!FD25,Players!FF25)","v":0},2,"-",1,{"$f":"ResultsCalc(Players!$E25,Players!$G25,Players!FH25,Players!FJ25)","v":2},2,"-",2,{"$f":"ResultsCalc(Players!$E25,Players!$G25,Players!FL25,Players!FN25)","v":2},2,"-",2,{"$f":"ResultsCalc(Players!$E25,Players!$G25,Players!FP25,Players!FR25)","v":2},2,"-",2,{"$f":"ResultsCalc(Players!$E25,Players!$G25,Players!FT25,Players!FV25)","v":2},2,"-",3,{"$f":"ResultsCalc(Players!$E25,Players!$G25,Players!FX25,Players!FZ25)","v":6},2,"-",3,{"$f":"ResultsCalc(Players!$E25,Players!$G25,Players!GB25,Players!GD25)","v":6},2,"-",1,{"$f":"ResultsCalc(Players!$E25,Players!$G25,Players!GF25,Players!GH25)","v":2},1,"-",2,{"$f":"ResultsCalc(Players!$E25,Players!$G25,Players!GJ25,Players!GL25)","v":4},2,"-",3,{"$f":"ResultsCalc(Players!$E25,Players!$G25,Players!GN25,Players!GP25)","v":6},2,"-",1,{"$f":"ResultsCalc(Players!$E25,Players!$G25,Players!GR25,Players!GT25)","v":2},2,"-",3,{"$f":"ResultsCalc(Players!$E25,Players!$G25,Players!GV25,Players!GX25)","v":6},3,"-",2,{"$f":"ResultsCalc(Players!$E25,Players!$G25,Players!GZ25,Players!HB25)","v":0},2,"-",2,{"$f":"ResultsCalc(Players!$E25,Players!$G25,Players!HD25,Players!HF25)","v":2},2,"-",3,{"$f":"ResultsCalc(Players!$E25,Players!$G25,Players!HH25,Players!HJ25)","v":6},2,"-",2,{"$f":"ResultsCalc(Players!$E25,Players!$G25,Players!HL25,Players!HN25)","v":2},2,"-",2,{"$f":"ResultsCalc(Players!$E25,Players!$G25,Players!HP25,Players!HR25)","v":2},2,"-",2,{"$f":"ResultsCalc(Players!$E25,Players!$G25,Players!HT25,Players!HV25)","v":2},1,"-",0,{"$f":"ResultsCalc(Players!$E25,Players!$G25,Players!HX25,Players!HZ25)","v":0},1,"-",2,{"$f":"ResultsCalc(Players!$E25,Players!$G25,Players!IB25,Players!ID25)","v":4},2,"-",1,{"$f":"ResultsCalc(Players!$E25,Players!$G25,Players!IF25,Players!IH25)","v":2},3,"-",4,{"$f":"ResultsCalc(Players!$E25,Players!$G25,Players!IJ25,Players!IL25)","v":6},2,"-",2,{"$f":"ResultsCalc(Players!$E25,Players!$G25,Players!IN25,Players!IP25)","v":2},3,"-",3,{"$f":"ResultsCalc(Players!$E25,Players!$G25,Players!IR25,Players!IT25)","v":0},2,"-",1,{"$f":"ResultsCalc(Players!$E25,Players!$G25,Players!IV25,Players!IX25)","v":2},2,"-",1,{"$f":"ResultsCalc(Players!$E25,Players!$G25,Players!IZ25,Players!JB25)","v":2},1,"-",2,{"$f":"ResultsCalc(Players!$E25,Players!$G25,Players!JD25,Players!JF25)","v":4},1,"-",2,{"$f":"ResultsCalc(Players!$E25,Players!$G25,Players!JH25,Players!JJ25)","v":4},1,"-",2,{"$f":"ResultsCalc(Players!$E25,Players!$G25,Players!JL25,Players!JN25)","v":4},3,"-",3,{"$f":"ResultsCalc(Players!$E25,Players!$G25,Players!JP25,Players!JR25)","v":0},3,"-",3,{"$f":"ResultsCalc(Players!$E25,Players!$G25,Players!JT25,Players!JV25)","v":0},2,"-",2,{"$f":"ResultsCalc(Players!$E25,Players!$G25,Players!JX25,Players!JZ25)","v":2},3,"-",3,{"$f":"ResultsCalc(Players!$E25,Players!$G25,Players!KB25,Players!KD25)","v":0},2,"-",3,{"$f":"ResultsCalc(Players!$E25,Players!$G25,Players!KF25,Players!KH25)","v":6},2,"-",2,{"$f":"ResultsCalc(Players!$E25,Players!$G25,Players!KJ25,Players!KL25)","v":2},2,"-",2,{"$f":"ResultsCalc(Players!$E25,Players!$G25,Players!KN25,Players!KP25)","v":2},1,"-",2,{"$f":"ResultsCalc(Players!$E25,Players!$G25,Players!KR25,Players!KT25)","v":4},2,"-",1,{"$f":"ResultsCalc(Players!$E25,Players!$G25,Players!KV25,Players!KX25)","v":2},1,"-",0,{"$f":"ResultsCalc(Players!$E25,Players!$G25,Players!KZ25,Players!LB25)","v":0},2,"-",2,{"$f":"ResultsCalc(Players!$E25,Players!$G25,Players!LD25,Players!LF25)","v":2},2,"-",2,{"$f":"ResultsCalc(Players!$E25,Players!$G25,Players!LH25,Players!LJ25)","v":2},1,"-",2,{"$f":"ResultsCalc(Players!$E25,Players!$G25,Players!LL25,Players!LN25)","v":4},1,"-",1,{"$f":"ResultsCalc(Players!$E25,Players!$G25,Players!LP25,Players!LR25)","v":0},2,"-",2,{"$f":"ResultsCalc(Players!$E25,Players!$G25,Players!LT25,Players!LV25)","v":2},3,"-",1,{"$f":"ResultsCalc(Players!$E25,Players!$G25,Players!LX25,Players!LZ25)","v":0},0,"-",0,{"$f":"ResultsCalc(Players!$E25,Players!$G25,Players!MB25,Players!MD25)","v":0},1,"-",1,{"$f":"ResultsCalc(Players!$E25,Players!$G25,Players!MF25,Players!MH25)","v":0},2,"-",2,{"$f":"ResultsCalc(Players!$E25,Players!$G25,Players!MJ25,Players!ML25)","v":2},1,"-",2,{"$f":"ResultsCalc(Players!$E25,Players!$G25,Players!MN25,Players!MP25)","v":4},2,"-",3,{"$f":"ResultsCalc(Players!$E25,Players!$G25,Players!MR25,Players!MT25)","v":6},2,"-",2,{"$f":"ResultsCalc(Players!$E25,Players!$G25,Players!MV25,Players!MX25)","v":2},2,"-",3,{"$f":"ResultsCalc(Players!$E25,Players!$G25,Players!MZ25,Players!NB25)","v":6},3,"-",1,{"$f":"ResultsCalc(Players!$E25,Players!$G25,Players!ND25,Players!NF25)","v":0},2,"-",2,{"$f":"ResultsCalc(Players!$E25,Players!$G25,Players!NH25,Players!NJ25)","v":2},1,"-",2,{"$f":"ResultsCalc(Players!$E25,Players!$G25,Players!NL25,Players!NN25)","v":4},2,"-",2,{"$f":"ResultsCalc(Players!$E25,Players!$G25,Players!NP25,Players!NR25)","v":2},3,"-",3,{"$f":"ResultsCalc(Players!$E25,Players!$G25,Players!NT25,Players!NV25)","v":0},1,"-",1,{"$f":"ResultsCalc(Players!$E25,Players!$G25,Players!NX25,Players!NZ25)","v":0},1,"-",1,{"$f":"ResultsCalc(Players!$E25,Players!$G25,Players!OB25,Players!OD25)","v":0},2,"-",2,{"$f":"ResultsCalc(Players!$E25,Players!$G25,Players!OF25,Players!OH25)","v":2},2,"-",1,{"$f":"ResultsCalc(Players!$E25,Players!$G25,Players!OJ25,Players!OL25)","v":2},1,"-",1,{"$f":"ResultsCalc(Players!$E25,Players!$G25,Players!ON25,Players!OP25)","v":0},1,"-",1,{"$f":"ResultsCalc(Players!$E25,Players!$G25,Players!OR25,Players!OT25)","v":0},3,"-",4,{"$f":"ResultsCalc(Players!$E25,Players!$G25,Players!OV25,Players!OX25)","v":6},3,"-",3,{"$f":"ResultsCalc(Players!$E25,Players!$G25,Players!OZ25,Players!PB25)","v":0},2,"-",3,{"$f":"ResultsCalc(Players!$E25,Players!$G25,Players!PD25,Players!PF25)","v":6},2,"-",2,{"$f":"ResultsCalc(Players!$E25,Players!$G25,Players!PH25,Players!PJ25)","v":2},2,"-",6,{"$f":"ResultsCalc(Players!$E25,Players!$G25,Players!PL25,Players!PN25)","v":6},2,"-",2,{"$f":"ResultsCalc(Players!$E25,Players!$G25,Players!PP25,Players!PR25)","v":2},2,"-",3,{"$f":"ResultsCalc(Players!$E25,Players!$G25,Players!PT25,Players!PV25)","v":6},1,"-",1,{"$f":"ResultsCalc(Players!$E25,Players!$G25,Players!PX25,Players!PZ25)","v":0},1,"-",1,{"$f":"ResultsCalc(Players!$E25,Players!$G25,Players!QB25,Players!QD25)","v":0},3,"-",2,{"$f":"ResultsCalc(Players!$E25,Players!$G25,Players!QF25,Players!QH25)","v":0},2,"-",2,{"$f":"ResultsCalc(Players!$E25,Players!$G25,Players!QJ25,Players!QL25)","v":2},null,0,null,6,18]
["2021-06-19",24,"Spain","Poland",1,"-",1,1,"-",1,{"$f":"ResultsCalc(Players!$E26,Players!$G26,Players!H26,Players!J26)","v":12},2,"-",1,{"$f":"ResultsCalc(Players!$E26,Players!$G26,Players!L26,Players!N26)","v":2},2,"-",1,{"$f":"ResultsCalc(Players!$E26,Players!$G26,Players!P26,Players!R26)","v":2},2,"-",2,{"$f":"ResultsCalc(Players!$E26,Players!$G26,Players!T26,Players!V26)","v":6},3,"-",0,{"$f":"ResultsCalc(Players!$E26,Players!$G26,Players!X26,Players!Z26)","v":0},3,"-",2,{"$f":"ResultsCalc(Players!$E26,Players!$G26,Players!AB26,Players!AD26)","v":0},3,"-",1,{"$f":"ResultsCalc(Players!$E26,Players!$G26,Players!AF26,Players!AH26)","v":2},2,"-",0,{"$f":"ResultsCalc(Players!$E26,Players!$G26,Players!AJ26,Players!AL26)","v":0},3,"-",1,{"$f":"ResultsCalc(Players!$E26,Players!$G26,Players!AN26,Players!AP26)","v":2},2,"-",1,{"$f":"ResultsCalc(Players!$E26,Players!$G26,Players!AR26,Players!AT26)","v":2},2,"-",1,{"$f":"ResultsCalc(Players!$E26,Players!$G26,Players!AV26,Players!AX26)","v":2},2,"-",1,{"$f":"ResultsCalc(Players!$E26,Players!$G26,Players!AZ26,Players!BB26)","v":2},3,"-",1,{"$f":"ResultsCalc(Players!$E26,Players!$G26,Players!BD26,Players!BF26)","v":2},2,"-",1,{"$f":"ResultsCalc(Players!$E26,Players!$G26,Players!BH26,Players!BJ26)","v":2},2,"-",1,{"$f":"ResultsCalc(Players!$E26,Players!$G26,Players!BL26,Players!BN26)","v":2},2,"-",1,{"$f":"ResultsCalc(Players!$E26,Players!$G26,Players!BP26,Players!BR26)","v":2},3,"-",1,{"$f":"ResultsCalc(Players!$E26,Players!$G26,Players!BT26,Players!BV26)","v":2},3,"-",1,{"$f":"ResultsCalc(Players!$E26,Players!$G26,Players!BX26,Players!BZ26)","v":2},2,"-",1,{"$f":"ResultsCalc(Players!$E26,Players!$G26,Players!CB26,Players!CD26)","v":2},2,"-",1,{"$f":"ResultsCalc(Players!$E26,Players!$G26,Players!CF26,Players!CH26)","v":2},2,"-",1,{"$f":"ResultsCalc(Players!$E26,Players!$G26,Players!CJ26,Players!CL26)","v":2},2,"-",2,{"$f":"ResultsCalc(Players!$E26,Players!$G26,Players!CN26,Players!CP26)","v":6},2,"-",1,{"$f":"ResultsCalc(Players!$E26,Players!$G26,Players!CR26,Players!CT26)","v":2},4,"-",1,{"$f":"ResultsCalc(Players!$E26,Players!$G26,Players!CV26,Players!CX26)","v":2},2,"-",1,{"$f":"ResultsCalc(Players!$E26,Players!$G26,Players!CZ26,Players!DB26)","v":2},1,"-",0,{"$f":"ResultsCalc(Players!$E26,Players!$G26,Players!DD26,Players!DF26)","v":2},2,"-",0,{"$f":"ResultsCalc(Players!$E26,Players!$G26,Players!DH26,Players!DJ26)","v":0},2,"-",2,{"$f":"ResultsCalc(Players!$E26,Players!$G26,Players!DL26,Players!DN26)","v":6},2,"-",1,{"$f":"ResultsCalc(Players!$E26,Players!$G26,Players!DP26,Players!DR26)","v":2},2,"-",1,{"$f":"ResultsCalc(Players!$E26,Players!$G26,Players!DT26,Players!DV26)","v":2},3,"-",0,{"$f":"ResultsCalc(Players!$E26,Players!$G26,Players!DX26,Players!DZ26)","v":0},2,"-",1,{"$f":"ResultsCalc(Players!$E26,Players!$G26,Players!EB26,Players!ED26)","v":2},1,"-",2,{"$f":"ResultsCalc(Players!$E26,Players!$G26,Players!EF26,Players!EH26)","v":2},1,"-",0,{"$f":"ResultsCalc(Players!$E26,Players!$G26,Players!EJ26,Players!EL26)","v":2},3,"-",0,{"$f":"ResultsCalc(Players!$E26,Players!$G26,Players!EN26,Players!EP26)","v":0},2,"-",1,{"$f":"ResultsCalc(Players!$E26,Players!$G26,Players!ER26,Players!ET26)","v":2},2,"-",1,{"$f":"ResultsCalc(Players!$E26,Players!$G26,Players!EV26,Players!EX26)","v":2},3,"-",1,{"$f":"ResultsCalc(Players!$E26,Players!$G26,Players!EZ26,Players!FB26)","v":2},2,"-",1,{"$f":"ResultsCalc(Players!$E26,Players!$G26,Players!FD26,Players!FF26)","v":2},2,"-",0,{"$f":"ResultsCalc(Players!$E26,Players!$G26,Players!FH26,Players!FJ26)","v":0},2,"-",1,{"$f":"ResultsCalc(Players!$E26,Players!$G26,Players!FL26,Players!FN26)","v":2},3,"-",2,{"$f":"ResultsCalc(Players!$E26,Players!$G26,Players!FP26,Players!FR26)","v":0},3,"-",0,{"$f":"ResultsCalc(Players!$E26,Players!$G26,Players!FT26,Players!FV26)","v":0},2,"-",0,{"$f":"ResultsCalc(Players!$E26,Players!$G26,Players!FX26,Players!FZ26)","v":0},2,"-",2,{"$f":"ResultsCalc(Players!$E26,Players!$G26,Players!GB26,Players!GD26)","v":6},1,"-",0,{"$f":"ResultsCalc(Players!$E26,Players!$G26,Players!GF26,Players!GH26)","v":2},2,"-",0,{"$f":"ResultsCalc(Players!$E26,Players!$G26,Players!GJ26,Players!GL26)","v":0},3,"-",0,{"$f":"ResultsCalc(Players!$E26,Players!$G26,Players!GN26,Players!GP26)","v":0},2,"-",0,{"$f":"ResultsCalc(Players!$E26,Players!$G26,Players!GR26,Players!GT26)","v":0},2,"-",1,{"$f":"ResultsCalc(Players!$E26,Players!$G26,Players!GV26,Players!GX26)","v":2},1,"-",0,{"$f":"ResultsCalc(Players!$E26,Players!$G26,Players!GZ26,Players!HB26)","v":2},3,"-",1,{"$f":"ResultsCalc(Players!$E26,Players!$G26,Players!HD26,Players!HF26)","v":2},2,"-",1,{"$f":"ResultsCalc(Players!$E26,Players!$G26,Players!HH26,Players!HJ26)","v":2},2,"-",1,{"$f":"ResultsCalc(Players!$E26,Players!$G26,Players!HL26,Players!HN26)","v":2},3,"-",1,{"$f":"ResultsCalc(Players!$E26,Players!$G26,Players!HP26,Players!HR26)","v":2},3,"-",1,{"$f":"ResultsCalc(Players!$E26,Players!$G26,Players!HT26,Players!HV26)","v":2},1,"-",0,{"$f":"ResultsCalc(Players!$E26,Players!$G26,Players!HX26,Players!HZ26)","v":2},3,"-",1,{"$f":"ResultsCalc(Players!$E26,Players!$G26,Players!IB26,Players!ID26)","v":2},2,"-",0,{"$f":"ResultsCalc(Players!$E26,Players!$G26,Players!IF26,Players!IH26)","v":0},2,"-",2,{"$f":"ResultsCalc(Players!$E26,Players!$G26,Players!IJ26,Players!IL26)","v":6},3,"-",2,{"$f":"ResultsCalc(Players!$E26,Players!$G26,Players!IN26,Players!IP26)","v":0},2,"-",3,{"$f":"ResultsCalc(Players!$E26,Players!$G26,Players!IR26,Players!IT26)","v":0},0,"-",0,{"$f":"ResultsCalc(Players!$E26,Players!$G26,Players!IV26,Players!IX26)","v":6},2,"-",1,{"$f":"ResultsCalc(Players!$E26,Players!$G26,Players!IZ26,Players!JB26)","v":2},1,"-",0,{"$f":"ResultsCalc(Players!$E26,Players!$G26,Players!JD26,Players!JF26)","v":2},2,"-",1,{"$f":"ResultsCalc(Players!$E26,Players!$G26,Players!JH26,Players!JJ26)","v":2},2,"-",1,{"$f":"ResultsCalc(Players!$E26,Players!$G26,Players!JL26,Players!JN26)","v":2},2,"-",1,{"$f":"ResultsCalc(Players!$E26,Players!$G26,Players!JP26,Players!JR26)","v":2},1,"-",0,{"$f":"ResultsCalc(Players!$E26,Players!$G26,Players!JT26,Players!JV26)","v":2},3,"-",1,{"$f":"ResultsCalc(Players!$E26,Players!$G26,Players!JX26,Players!JZ26)","v":2},3,"-",0,{"$f":"ResultsCalc(Players!$E26,Players!$G26,Players!KB26,Players!KD26)","v":0},1,"-",0,{"$f":"ResultsCalc(Players!$E26,Players!$G26,Players!KF26,Players!KH26)","v":2},2,"-",1,{"$f":"ResultsCalc(Players!$E26,Players!$G26,Players!KJ26,Players!KL26)","v":2},2,"-",1,{"$f":"ResultsCalc(Players!$E26,Players!$G26,Players!KN26,Players!KP26)","v":2},2,"-",0,{"$f":"ResultsCalc(Players!$E26,Players!$G26,Players!KR26,Players!KT26)","v":0},2,"-",2,{"$f":"ResultsCalc(Players!$E26,Players!$G26,Players!KV26,Players!KX26)","v":6},1,"-",0,{"$f":"ResultsCalc(Players!$E26,Players!$G26,Players!KZ26,Players!LB26)","v":2},3,"-",1,{"$f":"ResultsCalc(Players!$E26,Players!$G26,Players!LD26,Players!LF26)","v":2},3,"-",2,{"$f":"ResultsCalc(Players!$E26,Players!$G26,Players!LH26,Players!LJ26)","v":0},2,"-",1,{"$f":"ResultsCalc(Players!$E26,Players!$G26,Players!LL26,Players!LN26)","v":2},2,"-",1,{"$f":"ResultsCalc(Players!$E26,Players!$G26,Players!LP26,Players!LR26)","v":2},2,"-",1,{"$f":"ResultsCalc(Players!$E26,Players!$G26,Players!LT26,Players!LV26)","v":2},4,"-",1,{"$f":"ResultsCalc(Players!$E26,Players!$G26,Players!LX26,Players!LZ26)","v":2},0,"-",2,{"$f":"ResultsCalc(Players!$E26,Players!$G26,Players!MB26,Players!MD26)","v":0},2,"-",1,{"$f":"ResultsCalc(Players!$E26,Players!$G26,Players!MF26,Players!MH26)","v":2},2,"-",1,{"$f":"ResultsCalc(Players!$E26,Players!$G26,Players!MJ26,Players!ML26)","v":2},1,"-",1,{"$f":"ResultsCalc(Players!$E26,Players!$G26,Players!MN26,Players!MP26)","v":12},3,"-",1,{"$f":"ResultsCalc(Players!$E26,Players!$G26,Players!MR26,Players!MT26)","v":2},3,"-",1,{"$f":"ResultsCalc(Players!$E26,Players!$G26,Players!MV26,Players!MX26)","v":2},2,"-",0,{"$f":"ResultsCalc(Players!$E26,Players!$G26,Players!MZ26,Players!NB26)","v":0},1,"-",2,{"$f":"ResultsCalc(Players!$E26,Players!$G26,Players!ND26,Players!NF26)","v":2},3,"-",1,{"$f":"ResultsCalc(Players!$E26,Players!$G26,Players!NH26,Players!NJ26)","v":2},2,"-",0,{"$f":"ResultsCalc(Players!$E26,Players!$G26,Players!NL26,Players!NN26)","v":0},1,"-",1,{"$f":"ResultsCalc(Players!$E26,Players!$G26,Players!NP26,Players!NR26)","v":12},2,"-",0,{"$f":"ResultsCalc(Players!$E26,Players!$G26,Players!NT26,Players!NV26)","v":0},3,"-",1,{"$f":"ResultsCalc(Players!$E26,Players!$G26,Players!NX26,Players!NZ26)","v":2},1,"-",0,{"$f":"ResultsCalc(Players!$E26,Players!$G26,Players!OB26,Players!OD26)","v":2},2,"-",2,{"$f":"ResultsCalc(Players!$E26,Players!$G26,Players!OF26,Players!OH26)","v":6},0,"-",2,{"$f":"ResultsCalc(Players!$E26,Players!$G26,Players!OJ26,Players!OL26)","v":0},2,"-",1,{"$f":"ResultsCalc(Players!$E26,Players!$G26,Players!ON26,Players!OP26)","v":2},2,"-",0,{"$f":"ResultsCalc(Players!$E26,Players!$G26,Players!OR26,Players!OT26)","v":0},3,"-",2,{"$f":"ResultsCalc(Players!$E26,Players!$G26,Players!OV26,Players!OX26)","v":0},1,"-",0,{"$f":"ResultsCalc(Players!$E26,Players!$G26,Players!OZ26,Players!PB26)","v":2},1,"-",0,{"$f":"ResultsCalc(Players!$E26,Players!$G26,Players!PD26,Players!PF26)","v":2},3,"-",1,{"$f":"ResultsCalc(Players!$E26,Players!$G26,Players!PH26,Players!PJ26)","v":2},4,"-",5,{"$f":"ResultsCalc(Players!$E26,Players!$G26,Players!PL26,Players!PN26)","v":0},3,"-",1,{"$f":"ResultsCalc(Players!$E26,Players!$G26,Players!PP26,Players!PR26)","v":2},3,"-",1,{"$f":"ResultsCalc(Players!$E26,Players!$G26,Players!PT26,Players!PV26)","v":2},1,"-",2,{"$f":"ResultsCalc(Players!$E26,Players!$G26,Players!PX26,Players!PZ26)","v":2},2,"-",0,{"$f":"ResultsCalc(Players!$E26,Players!$G26,Players!QB26,Players!QD26)","v":0},2,"-",0,{"$f":"ResultsCalc(Players!$E26,Players!$G26,Players!QF26,Players!QH26)","v":0},2,"-",0,{"$f":"ResultsCalc(Players!$E26,Players!$G26,Players!QJ26,Players!QL26)","v":0},null,3,null,12,3]
["2021-06-20",25,"Italy","Wales",1,"-",0,2,"-",1,{"$f":"ResultsCalc(Players!$E27,Players!$G27,Players!H27,Players!J27)","v":6},1,"-",0,{"$f":"ResultsCalc(Players!$E27,Players!$G27,Players!L27,Players!N27)","v":11},2,"-",0,{"$f":"ResultsCalc(Players!$E27,Players!$G27,Players!P27,Players!R27)","v":6},2,"-",0,{"$f":"ResultsCalc(Players!$E27,Players!$G27,Players!T27,Players!V27)","v":6},2,"-",2,{"$f":"ResultsCalc(Players!$E27,Players!$G27,Players!X27,Players!Z27)","v":0},3,"-",1,{"$f":"ResultsCalc(Players!$E27,Players!$G27,Players!AB27,Players!AD27)","v":4},2,"-",0,{"$f":"ResultsCalc(Players!$E27,Players!$G27,Players!AF27,Players!AH27)","v":6},2,"-",1,{"$f":"ResultsCalc(Players!$E27,Players!$G27,Players!AJ27,Players!AL27)","v":6},2,"-",0,{"$f":"ResultsCalc(Players!$E27,Players!$G27,Players!AN27,Players!AP27)","v":6},2,"-",0,{"$f":"ResultsCalc(Players!$E27,Players!$G27,Players!AR27,Players!AT27)","v":6},1,"-",0,{"$f":"ResultsCalc(Players!$E27,Players!$G27,Players!AV27,Players!AX27)","v":11},3,"-",0,{"$f":"ResultsCalc(Players!$E27,Players!$G27,Players!AZ27,Players!BB27)","v":6},1,"-",0,{"$f":"ResultsCalc(Players!$E27,Players!$G27,Players!BD27,Players!BF27)","v":11},2,"-",0,{"$f":"ResultsCalc(Players!$E27,Players!$G27,Players!BH27,Players!BJ27)","v":6},1,"-",0,{"$f":"ResultsCalc(Players!$E27,Players!$G27,Players!BL27,Players!BN27)","v":11},2,"-",2,{"$f":"ResultsCalc(Players!$E27,Players!$G27,Players!BP27,Players!BR27)","v":0},2,"-",0,{"$f":"ResultsCalc(Players!$E27,Players!$G27,Players!BT27,Players!BV27)","v":6},2,"-",1,{"$f":"ResultsCalc(Players!$E27,Players!$G27,Players!BX27,Players!BZ27)","v":6},0,"-",0,{"$f":"ResultsCalc(Players!$E27,Players!$G27,Players!CB27,Players!CD27)","v":2},2,"-",0,{"$f":"ResultsCalc(Players!$E27,Players!$G27,Players!CF27,Players!CH27)","v":6},2,"-",0,{"$f":"ResultsCalc(Players!$E27,Players!$G27,Players!CJ27,Players!CL27)","v":6},2,"-",0,{"$f":"ResultsCalc(Players!$E27,Players!$G27,Players!CN27,Players!CP27)","v":6},1,"-",0,{"$f":"ResultsCalc(Players!$E27,Players!$G27,Players!CR27,Players!CT27)","v":11},2,"-",0,{"$f":"ResultsCalc(Players!$E27,Players!$G27,Players!CV27,Players!CX27)","v":6},2,"-",0,{"$f":"ResultsCalc(Players!$E27,Players!$G27,Players!CZ27,Players!DB27)","v":6},2,"-",1,{"$f":"ResultsCalc(Players!$E27,Players!$G27,Players!DD27,Players!DF27)","v":6},1,"-",1,{"$f":"ResultsCalc(Players!$E27,Players!$G27,Players!DH27,Players!DJ27)","v":2},1,"-",1,{"$f":"ResultsCalc(Players!$E27,Players!$G27,Players!DL27,Players!DN27)","v":2},2,"-",0,{"$f":"ResultsCalc(Players!$E27,Players!$G27,Players!DP27,Players!DR27)","v":6},1,"-",0,{"$f":"ResultsCalc(Players!$E27,Players!$G27,Players!DT27,Players!DV27)","v":11},5,"-",0,{"$f":"ResultsCalc(Players!$E27,Players!$G27,Players!DX27,Players!DZ27)","v":6},1,"-",1,{"$f":"ResultsCalc(Players!$E27,Players!$G27,Players!EB27,Players!ED27)","v":2},1,"-",1,{"$f":"ResultsCalc(Players!$E27,Players!$G27,Players!EF27,Players!EH27)","v":2},1,"-",0,{"$f":"ResultsCalc(Players!$E27,Players!$G27,Players!EJ27,Players!EL27)","v":11},2,"-",0,{"$f":"ResultsCalc(Players!$E27,Players!$G27,Players!EN27,Players!EP27)","v":6},2,"-",1,{"$f":"ResultsCalc(Players!$E27,Players!$G27,Players!ER27,Players!ET27)","v":6},2,"-",0,{"$f":"ResultsCalc(Players!$E27,Players!$G27,Players!EV27,Players!EX27)","v":6},2,"-",1,{"$f":"ResultsCalc(Players!$E27,Players!$G27,Players!EZ27,Players!FB27)","v":6},1,"-",1,{"$f":"ResultsCalc(Players!$E27,Players!$G27,Players!FD27,Players!FF27)","v":2},1,"-",0,{"$f":"ResultsCalc(Players!$E27,Players!$G27,Players!FH27,Players!FJ27)","v":11},3,"-",1,{"$f":"ResultsCalc(Players!$E27,Players!$G27,Players!FL27,Players!FN27)","v":4},1,"-",3,{"$f":"ResultsCalc(Players!$E27,Players!$G27,Players!FP27,Players!FR27)","v":2},3,"-",1,{"$f":"ResultsCalc(Players!$E27,Players!$G27,Players!FT27,Players!FV27)","v":4},3,"-",1,{"$f":"ResultsCalc(Players!$E27,Players!$G27,Players!FX27,Players!FZ27)","v":4},3,"-",0,{"$f":"ResultsCalc(Players!$E27,Players!$G27,Players!GB27,Players!GD27)","v":6},3,"-",3,{"$f":"ResultsCalc(Players!$E27,Players!$G27,Players!GF27,Players!GH27)","v":0},2,"-",1,{"$f":"ResultsCalc(Players!$E27,Players!$G27,Players!GJ27,Players!GL27)","v":6},4,"-",1,{"$f":"ResultsCalc(Players!$E27,Players!$G27,Players!GN27,Players!GP27)","v":4},1,"-",1,{"$f":"ResultsCalc(Players!$E27,Players!$G27,Players!GR27,Players!GT27)","v":2},2,"-",0,{"$f":"ResultsCalc(Players!$E27,Players!$G27,Players!GV27,Players!GX27)","v":6},2,"-",1,{"$f":"ResultsCalc(Players!$E27,Players!$G27,Players!GZ27,Players!HB27)","v":6},2,"-",1,{"$f":"ResultsCalc(Players!$E27,Players!$G27,Players!HD27,Players!HF27)","v":6},1,"-",1,{"$f":"ResultsCalc(Players!$E27,Players!$G27,Players!HH27,Players!HJ27)","v":2},3,"-",1,{"$f":"ResultsCalc(Players!$E27,Players!$G27,Players!HL27,Players!HN27)","v":4},2,"-",1,{"$f":"ResultsCalc(Players!$E27,Players!$G27,Players!HP27,Players!HR27)","v":6},2,"-",0,{"$f":"ResultsCalc(Players!$E27,Players!$G27,Players!HT27,Players!HV27)","v":6},1,"-",0,{"$f":"ResultsCalc(Players!$E27,Players!$G27,Players!HX27,Players!HZ27)","v":11},2,"-",0,{"$f":"ResultsCalc(Players!$E27,Players!$G27,Players!IB27,Players!ID27)","v":6},1,"-",0,{"$f":"ResultsCalc(Players!$E27,Players!$G27,Players!IF27,Players!IH27)","v":11},1,"-",1,{"$f":"ResultsCalc(Players!$E27,Players!$G27,Players!IJ27,Players!IL27)","v":2},1,"-",3,{"$f":"ResultsCalc(Players!$E27,Players!$G27,Players!IN27,Players!IP27)","v":2},1,"-",1,{"$f":"ResultsCalc(Players!$E27,Players!$G27,Players!IR27,Players!IT27)","v":2},3,"-",1,{"$f":"ResultsCalc(Players!$E27,Players!$G27,Players!IV27,Players!IX27)","v":4},3,"-",2,{"$f":"ResultsCalc(Players!$E27,Players!$G27,Players!IZ27,Players!JB27)","v":6},1,"-",0,{"$f":"ResultsCalc(Players!$E27,Players!$G27,Players!JD27,Players!JF27)","v":11},4,"-",0,{"$f":"ResultsCalc(Players!$E27,Players!$G27,Players!JH27,Players!JJ27)","v":6},3,"-",0,{"$f":"ResultsCalc(Players!$E27,Players!$G27,Players!JL27,Players!JN27)","v":6},1,"-",1,{"$f":"ResultsCalc(Players!$E27,Players!$G27,Players!JP27,Players!JR27)","v":2},2,"-",1,{"$f":"ResultsCalc(Players!$E27,Players!$G27,Players!JT27,Players!JV27)","v":6},2,"-",0,{"$f":"ResultsCalc(Players!$E27,Players!$G27,Players!JX27,Players!JZ27)","v":6},2,"-",1,{"$f":"ResultsCalc(Players!$E27,Players!$G27,Players!KB27,Players!KD27)","v":6},2,"-",0,{"$f":"ResultsCalc(Players!$E27,Players!$G27,Players!KF27,Players!KH27)","v":6},3,"-",1,{"$f":"ResultsCalc(Players!$E27,Players!$G27,Players!KJ27,Players!KL27)","v":4},2,"-",0,{"$f":"ResultsCalc(Players!$E27,Players!$G27,Players!KN27,Players!KP27)","v":6},3,"-",1,{"$f":"ResultsCalc(Players!$E27,Players!$G27,Players!KR27,Players!KT27)","v":4},3,"-",1,{"$f":"ResultsCalc(Players!$E27,Players!$G27,Players!KV27,Players!KX27)","v":4},2,"-",0,{"$f":"ResultsCalc(Players!$E27,Players!$G27,Players!KZ27,Players!LB27)","v":6},1,"-",1,{"$f":"ResultsCalc(Players!$E27,Players!$G27,Players!LD27,Players!LF27)","v":2},3,"-",0,{"$f":"ResultsCalc(Players!$E27,Players!$G27,Players!LH27,Players!LJ27)","v":6},2,"-",1,{"$f":"ResultsCalc(Players!$E27,Players!$G27,Players!LL27,Players!LN27)","v":6},2,"-",0,{"$f":"ResultsCalc(Players!$E27,Players!$G27,Players!LP27,Players!LR27)","v":6},2,"-",1,{"$f":"ResultsCalc(Players!$E27,Players!$G27,Players!LT27,Players!LV27)","v":6},3,"-",0,{"$f":"ResultsCalc(Players!$E27,Players!$G27,Players!LX27,Players!LZ27)","v":6},1,"-",1,{"$f":"ResultsCalc(Players!$E27,Players!$G27,Players!MB27,Players!MD27)","v":2},2,"-",1,{"$f":"ResultsCalc(Players!$E27,Players!$G27,Players!MF27,Players!MH27)","v":6},3,"-",1,{"$f":"ResultsCalc(Players!$E27,Players!$G27,Players!MJ27,Players!ML27)","v":4},2,"-",1,{"$f":"ResultsCalc(Players!$E27,Players!$G27,Players!MN27,Players!MP27)","v":6},1,"-",0,{"$f":"ResultsCalc(Players!$E27,Players!$G27,Players!MR27,Players!MT27)","v":11},2,"-",1,{"$f":"ResultsCalc(Players!$E27,Players!$G27,Players!MV27,Players!MX27)","v":6},3,"-",1,{"$f":"ResultsCalc(Players!$E27,Players!$G27,Players!MZ27,Players!NB27)","v":4},3,"-",0,{"$f":"ResultsCalc(Players!$E27,Players!$G27,Players!ND27,Players!NF27)","v":6},1,"-",0,{"$f":"ResultsCalc(Players!$E27,Players!$G27,Players!NH27,Players!NJ27)","v":11},2,"-",1,{"$f":"ResultsCalc(Players!$E27,Players!$G27,Players!NL27,Players!NN27)","v":6},3,"-",0,{"$f":"ResultsCalc(Players!$E27,Players!$G27,Players!NP27,Players!NR27)","v":6},2,"-",0,{"$f":"ResultsCalc(Players!$E27,Players!$G27,Players!NT27,Players!NV27)","v":6},2,"-",0,{"$f":"ResultsCalc(Players!$E27,Players!$G27,Players!NX27,Players!NZ27)","v":6},2,"-",0,{"$f":"ResultsCalc(Players!$E27,Players!$G27,Players!OB27,Players!OD27)","v":6},0,"-",0,{"$f":"ResultsCalc(Players!$E27,Players!$G27,Players!OF27,Players!OH27)","v":2},1,"-",1,{"$f":"ResultsCalc(Players!$E27,Players!$G27,Players!OJ27,Players!OL27)","v":2},0,"-",1,{"$f":"ResultsCalc(Players!$E27,Players!$G27,Players!ON27,Players!OP27)","v":0},2,"-",0,{"$f":"ResultsCalc(Players!$E27,Players!$G27,Players!OR27,Players!OT27)","v":6},5,"-",1,{"$f":"ResultsCalc(Players!$E27,Players!$G27,Players!OV27,Players!OX27)","v":4},1,"-",1,{"$f":"ResultsCalc(Players!$E27,Players!$G27,Players!OZ27,Players!PB27)","v":2},2,"-",0,{"$f":"ResultsCalc(Players!$E27,Players!$G27,Players!PD27,Players!PF27)","v":6},3,"-",0,{"$f":"ResultsCalc(Players!$E27,Players!$G27,Players!PH27,Players!PJ27)","v":6},4,"-",4,{"$f":"ResultsCalc(Players!$E27,Players!$G27,Players!PL27,Players!PN27)","v":0},2,"-",1,{"$f":"ResultsCalc(Players!$E27,Players!$G27,Players!PP27,Players!PR27)","v":6},3,"-",0,{"$f":"ResultsCalc(Players!$E27,Players!$G27,Players!PT27,Players!PV27)","v":6},1,"-",2,{"$f":"ResultsCalc(Players!$E27,Players!$G27,Players!PX27,Players!PZ27)","v":2},3,"-",1,{"$f":"ResultsCalc(Players!$E27,Players!$G27,Players!QB27,Players!QD27)","v":4},2,"-",1,{"$f":"ResultsCalc(Players!$E27,Players!$G27,Players!QF27,Players!QH27)","v":6},2,"-",1,{"$f":"ResultsCalc(Players!$E27,Players!$G27,Players!QJ27,Players!QL27)","v":6},null,13,null,11,13]
["2021-06-20",26,"Switzerland","Turkey",3,"-",1,1,"-",0,{"$f":"ResultsCalc(Players!$E28,Players!$G28,Players!H28,Players!J28)","v":4},2,"-",1,{"$f":"ResultsCalc(Players!$E28,Players!$G28,Players!L28,Players!N28)","v":6},1,"-",1,{"$f":"ResultsCalc(Players!$E28,Players!$G28,Players!P28,Players!R28)","v":2},2,"-",1,{"$f":"ResultsCalc(Players!$E28,Players!$G28,Players!T28,Players!V28)","v":6},2,"-",0,{"$f":"ResultsCalc(Players!$E28,Players!$G28,Players!X28,Players!Z28)","v":6},2,"-",2,{"$f":"ResultsCalc(Players!$E28,Players!$G28,Players!AB28,Players!AD28)","v":0},2,"-",1,{"$f":"ResultsCalc(Players!$E28,Players!$G28,Players!AF28,Players!AH28)","v":6},0,"-",1,{"$f":"ResultsCalc(Players!$E28,Players!$G28,Players!AJ28,Players!AL28)","v":2},1,"-",1,{"$f":"ResultsCalc(Players!$E28,Players!$G28,Players!AN28,Players!AP28)","v":2},0,"-",0,{"$f":"ResultsCalc(Players!$E28,Players!$G28,Players!AR28,Players!AT28)","v":0},0,"-",0,{"$f":"ResultsCalc(Players!$E28,Players!$G28,Players!AV28,Players!AX28)","v":0},1,"-",1,{"$f":"ResultsCalc(Players!$E28,Players!$G28,Players!AZ28,Players!BB28)","v":2},2,"-",1,{"$f":"ResultsCalc(Players!$E28,Players!$G28,Players!BD28,Players!BF28)","v":6},2,"-",1,{"$f":"ResultsCalc(Players!$E28,Players!$G28,Players!BH28,Players!BJ28)","v":6},2,"-",1,{"$f":"ResultsCalc(Players!$E28,Players!$G28,Players!BL28,Players!BN28)","v":6},0,"-",1,{"$f":"ResultsCalc(Players!$E28,Players!$G28,Players!BP28,Players!BR28)","v":2},1,"-",1,{"$f":"ResultsCalc(Players!$E28,Players!$G28,Players!BT28,Players!BV28)","v":2},2,"-",0,{"$f":"ResultsCalc(Players!$E28,Players!$G28,Players!BX28,Players!BZ28)","v":6},0,"-",1,{"$f":"ResultsCalc(Players!$E28,Players!$G28,Players!CB28,Players!CD28)","v":2},0,"-",0,{"$f":"ResultsCalc(Players!$E28,Players!$G28,Players!CF28,Players!CH28)","v":0},3,"-",2,{"$f":"ResultsCalc(Players!$E28,Players!$G28,Players!CJ28,Players!CL28)","v":6},2,"-",0,{"$f":"ResultsCalc(Players!$E28,Players!$G28,Players!CN28,Players!CP28)","v":6},1,"-",1,{"$f":"ResultsCalc(Players!$E28,Players!$G28,Players!CR28,Players!CT28)","v":2},1,"-",0,{"$f":"ResultsCalc(Players!$E28,Players!$G28,Players!CV28,Players!CX28)","v":4},1,"-",1,{"$f":"ResultsCalc(Players!$E28,Players!$G28,Players!CZ28,Players!DB28)","v":2},1,"-",1,{"$f":"ResultsCalc(Players!$E28,Players!$G28,Players!DD28,Players!DF28)","v":2},1,"-",0,{"$f":"ResultsCalc(Players!$E28,Players!$G28,Players!DH28,Players!DJ28)","v":4},2,"-",1,{"$f":"ResultsCalc(Players!$E28,Players!$G28,Players!DL28,Players!DN28)","v":6},0,"-",1,{"$f":"ResultsCalc(Players!$E28,Players!$G28,Players!DP28,Players!DR28)","v":2},2,"-",1,{"$f":"ResultsCalc(Players!$E28,Players!$G28,Players!DT28,Players!DV28)","v":6},3,"-",0,{"$f":"ResultsCalc(Players!$E28,Players!$G28,Players!DX28,Players!DZ28)","v":6},1,"-",2,{"$f":"ResultsCalc(Players!$E28,Players!$G28,Players!EB28,Players!ED28)","v":0},2,"-",1,{"$f":"ResultsCalc(Players!$E28,Players!$G28,Players!EF28,Players!EH28)","v":6},2,"-",0,{"$f":"ResultsCalc(Players!$E28,Players!$G28,Players!EJ28,Players!EL28)","v":6},1,"-",1,{"$f":"ResultsCalc(Players!$E28,Players!$G28,Players!EN28,Players!EP28)","v":2},0,"-",1,{"$f":"ResultsCalc(Players!$E28,Players!$G28,Players!ER28,Players!ET28)","v":2},1,"-",0,{"$f":"ResultsCalc(Players!$E28,Players!$G28,Players!EV28,Players!EX28)","v":4},2,"-",1,{"$f":"ResultsCalc(Players!$E28,Players!$G28,Players!EZ28,Players!FB28)","v":6},2,"-",1,{"$f":"ResultsCalc(Players!$E28,Players!$G28,Players!FD28,Players!FF28)","v":6},1,"-",0,{"$f":"ResultsCalc(Players!$E28,Players!$G28,Players!FH28,Players!FJ28)","v":4},2,"-",1,{"$f":"ResultsCalc(Players!$E28,Players!$G28,Players!FL28,Players!FN28)","v":6},2,"-",1,{"$f":"ResultsCalc(Players!$E28,Players!$G28,Players!FP28,Players!FR28)","v":6},2,"-",0,{"$f":"ResultsCalc(Players!$E28,Players!$G28,Players!FT28,Players!FV28)","v":6},1,"-",1,{"$f":"ResultsCalc(Players!$E28,Players!$G28,Players!FX28,Players!FZ28)","v":2},1,"-",1,{"$f":"ResultsCalc(Players!$E28,Players!$G28,Players!GB28,Players!GD28)","v":2},2,"-",1,{"$f":"ResultsCalc(Players!$E28,Players!$G28,Players!GF28,Players!GH28)","v":6},1,"-",0,{"$f":"ResultsCalc(Players!$E28,Players!$G28,Players!GJ28,Players!GL28)","v":4},2,"-",4,{"$f":"ResultsCalc(Players!$E28,Players!$G28,Players!GN28,Players!GP28)","v":0},0,"-",0,{"$f":"ResultsCalc(Players!$E28,Players!$G28,Players!GR28,Players!GT28)","v":0},3,"-",1,{"$f":"ResultsCalc(Players!$E28,Players!$G28,Players!GV28,Players!GX28)","v":14},1,"-",0,{"$f":"ResultsCalc(Players!$E28,Players!$G28,Players!GZ28,Players!HB28)","v":4},2,"-",0,{"$f":"ResultsCalc(Players!$E28,Players!$G28,Players!HD28,Players!HF28)","v":6},1,"-",0,{"$f":"ResultsCalc(Players!$E28,Players!$G28,Players!HH28,Players!HJ28)","v":4},2,"-",1,{"$f":"ResultsCalc(Players!$E28,Players!$G28,Players!HL28,Players!HN28)","v":6},2,"-",1,{"$f":"ResultsCalc(Players!$E28,Players!$G28,Players!HP28,Players!HR28)","v":6},1,"-",1,{"$f":"ResultsCalc(Players!$E28,Players!$G28,Players!HT28,Players!HV28)","v":2},0,"-",1,{"$f":"ResultsCalc(Players!$E28,Players!$G28,Players!HX28,Players!HZ28)","v":2},2,"-",0,{"$f":"ResultsCalc(Players!$E28,Players!$G28,Players!IB28,Players!ID28)","v":6},0,"-",1,{"$f":"ResultsCalc(Players!$E28,Players!$G28,Players!IF28,Players!IH28)","v":2},2,"-",2,{"$f":"ResultsCalc(Players!$E28,Players!$G28,Players!IJ28,Players!IL28)","v":0},2,"-",1,{"$f":"ResultsCalc(Players!$E28,Players!$G28,Players!IN28,Players!IP28)","v":6},0,"-",1,{"$f":"ResultsCalc(Players!$E28,Players!$G28,Players!IR28,Players!IT28)","v":2},0,"-",2,{"$f":"ResultsCalc(Players!$E28,Players!$G28,Players!IV28,Players!IX28)","v":0},0,"-",0,{"$f":"ResultsCalc(Players!$E28,Players!$G28,Players!IZ28,Players!JB28)","v":0},2,"-",1,{"$f":"ResultsCalc(Players!$E28,Players!$G28,Players!JD28,Players!JF28)","v":6},2,"-",0,{"$f":"ResultsCalc(Players!$E28,Players!$G28,Players!JH28,Players!JJ28)","v":6},1,"-",1,{"$f":"ResultsCalc(Players!$E28,Players!$G28,Players!JL28,Players!JN28)","v":2},2,"-",1,{"$f":"ResultsCalc(Players!$E28,Players!$G28,Players!JP28,Players!JR28)","v":6},1,"-",0,{"$f":"ResultsCalc(Players!$E28,Players!$G28,Players!JT28,Players!JV28)","v":4},1,"-",1,{"$f":"ResultsCalc(Players!$E28,Players!$G28,Players!JX28,Players!JZ28)","v":2},1,"-",1,{"$f":"ResultsCalc(Players!$E28,Players!$G28,Players!KB28,Players!KD28)","v":2},1,"-",0,{"$f":"ResultsCalc(Players!$E28,Players!$G28,Players!KF28,Players!KH28)","v":4},0,"-",0,{"$f":"ResultsCalc(Players!$E28,Players!$G28,Players!KJ28,Players!KL28)","v":0},0,"-",0,{"$f":"ResultsCalc(Players!$E28,Players!$G28,Players!KN28,Players!KP28)","v":0},1,"-",1,{"$f":"ResultsCalc(Players!$E28,Players!$G28,Players!KR28,Players!KT28)","v":2},1,"-",2,{"$f":"ResultsCalc(Players!$E28,Players!$G28,Players!KV28,Players!KX28)","v":0},0,"-",1,{"$f":"ResultsCalc(Players!$E28,Players!$G28,Players!KZ28,Players!LB28)","v":2},1,"-",0,{"$f":"ResultsCalc(Players!$E28,Players!$G28,Players!LD28,Players!LF28)","v":4},2,"-",1,{"$f":"ResultsCalc(Players!$E28,Players!$G28,Players!LH28,Players!LJ28)","v":6},1,"-",1,{"$f":"ResultsCalc(Players!$E28,Players!$G28,Players!LL28,Players!LN28)","v":2},1,"-",0,{"$f":"ResultsCalc(Players!$E28,Players!$G28,Players!LP28,Players!LR28)","v":4},1,"-",0,{"$f":"ResultsCalc(Players!$E28,Players!$G28,Players!LT28,Players!LV28)","v":4},1,"-",0,{"$f":"ResultsCalc(Players!$E28,Players!$G28,Players!LX28,Players!LZ28)","v":4},0,"-",0,{"$f":"ResultsCalc(Players!$E28,Players!$G28,Players!MB28,Players!MD28)","v":0},0,"-",0,{"$f":"ResultsCalc(Players!$E28,Players!$G28,Players!MF28,Players!MH28)","v":0},2,"-",1,{"$f":"ResultsCalc(Players!$E28,Players!$G28,Players!MJ28,Players!ML28)","v":6},1,"-",1,{"$f":"ResultsCalc(Players!$E28,Players!$G28,Players!MN28,Players!MP28)","v":2},3,"-",2,{"$f":"ResultsCalc(Players!$E28,Players!$G28,Players!MR28,Players!MT28)","v":6},2,"-",1,{"$f":"ResultsCalc(Players!$E28,Players!$G28,Players!MV28,Players!MX28)","v":6},3,"-",0,{"$f":"ResultsCalc(Players!$E28,Players!$G28,Players!MZ28,Players!NB28)","v":6},0,"-",0,{"$f":"ResultsCalc(Players!$E28,Players!$G28,Players!ND28,Players!NF28)","v":0},4,"-",0,{"$f":"ResultsCalc(Players!$E28,Players!$G28,Players!NH28,Players!NJ28)","v":4},0,"-",2,{"$f":"ResultsCalc(Players!$E28,Players!$G28,Players!NL28,Players!NN28)","v":0},3,"-",2,{"$f":"ResultsCalc(Players!$E28,Players!$G28,Players!NP28,Players!NR28)","v":6},1,"-",1,{"$f":"ResultsCalc(Players!$E28,Players!$G28,Players!NT28,Players!NV28)","v":2},1,"-",0,{"$f":"ResultsCalc(Players!$E28,Players!$G28,Players!NX28,Players!NZ28)","v":4},0,"-",0,{"$f":"ResultsCalc(Players!$E28,Players!$G28,Players!OB28,Players!OD28)","v":0},0,"-",1,{"$f":"ResultsCalc(Players!$E28,Players!$G28,Players!OF28,Players!OH28)","v":2},0,"-",0,{"$f":"ResultsCalc(Players!$E28,Players!$G28,Players!OJ28,Players!OL28)","v":0},2,"-",0,{"$f":"ResultsCalc(Players!$E28,Players!$G28,Players!ON28,Players!OP28)","v":6},2,"-",0,{"$f":"ResultsCalc(Players!$E28,Players!$G28,Players!OR28,Players!OT28)","v":6},3,"-",1,{"$f":"ResultsCalc(Players!$E28,Players!$G28,Players!OV28,Players!OX28)","v":14},1,"-",1,{"$f":"ResultsCalc(Players!$E28,Players!$G28,Players!OZ28,Players!PB28)","v":2},3,"-",2,{"$f":"ResultsCalc(Players!$E28,Players!$G28,Players!PD28,Players!PF28)","v":6},3,"-",1,{"$f":"ResultsCalc(Players!$E28,Players!$G28,Players!PH28,Players!PJ28)","v":14},2,"-",3,{"$f":"ResultsCalc(Players!$E28,Players!$G28,Players!PL28,Players!PN28)","v":0},1,"-",1,{"$f":"ResultsCalc(Players!$E28,Players!$G28,Players!PP28,Players!PR28)","v":2},2,"-",2,{"$f":"ResultsCalc(Players!$E28,Players!$G28,Players!PT28,Players!PV28)","v":0},0,"-",0,{"$f":"ResultsCalc(Players!$E28,Players!$G28,Players!PX28,Players!PZ28)","v":0},0,"-",0,{"$f":"ResultsCalc(Players!$E28,Players!$G28,Players!QB28,Players!QD28)","v":0},0,"-",0,{"$f":"ResultsCalc(Players!$E28,Players!$G28,Players!QF28,Players!QH28)","v":0},2,"-",1,{"$f":"ResultsCalc(Players!$E28,Players!$G28,Players!QJ28,Players!QL28)","v":6},null,3,null,14,3]
["2021-06-21",27,"Ukraine","Austria",0,"-",1,1,"-",0,{"$f":"ResultsCalc(Players!$E29,Players!$G29,Players!H29,Players!J29)","v":0},1,"-",2,{"$f":"ResultsCalc(Players!$E29,Players!$G29,Players!L29,Players!N29)","v":6},1,"-",2,{"$f":"ResultsCalc(Players!$E29,Players!$G29,Players!P29,Players!R29)","v":6},0,"-",1,{"$f":"ResultsCalc(Players!$E29,Players!$G29,Players!T29,Players!V29)","v":11},0,"-",1,{"$f":"ResultsCalc(Players!$E29,Players!$G29,Players!X29,Players!Z29)","v":11},2,"-",2,{"$f":"ResultsCalc(Players!$E29,Players!$G29,Players!AB29,Players!AD29)","v":0},0,"-",2,{"$f":"ResultsCalc(Players!$E29,Players!$G29,Players!AF29,Players!AH29)","v":6},1,"-",0,{"$f":"ResultsCalc(Players!$E29,Players!$G29,Players!AJ29,Players!AL29)","v":0},1,"-",0,{"$f":"ResultsCalc(Players!$E29,Players!$G29,Players!AN29,Players!AP29)","v":0},1,"-",1,{"$f":"ResultsCalc(Players!$E29,Players!$G29,Players!AR29,Players!AT29)","v":2},3,"-",3,{"$f":"ResultsCalc(Players!$E29,Players!$G29,Players!AV29,Players!AX29)","v":0},1,"-",0,{"$f":"ResultsCalc(Players!$E29,Players!$G29,Players!AZ29,Players!BB29)","v":0},2,"-",1,{"$f":"ResultsCalc(Players!$E29,Players!$G29,Players!BD29,Players!BF29)","v":2},1,"-",1,{"$f":"ResultsCalc(Players!$E29,Players!$G29,Players!BH29,Players!BJ29)","v":2},2,"-",2,{"$f":"ResultsCalc(Players!$E29,Players!$G29,Players!BL29,Players!BN29)","v":0},2,"-",0,{"$f":"ResultsCalc(Players!$E29,Players!$G29,Players!BP29,Players!BR29)","v":0},2,"-",1,{"$f":"ResultsCalc(Players!$E29,Players!$G29,Players!BT29,Players!BV29)","v":2},1,"-",1,{"$f":"ResultsCalc(Players!$E29,Players!$G29,Players!BX29,Players!BZ29)","v":2},0,"-",1,{"$f":"ResultsCalc(Players!$E29,Players!$G29,Players!CB29,Players!CD29)","v":11},2,"-",0,{"$f":"ResultsCalc(Players!$E29,Players!$G29,Players!CF29,Players!CH29)","v":0},2,"-",2,{"$f":"ResultsCalc(Players!$E29,Players!$G29,Players!CJ29,Players!CL29)","v":0},1,"-",1,{"$f":"ResultsCalc(Players!$E29,Players!$G29,Players!CN29,Players!CP29)","v":2},1,"-",0,{"$f":"ResultsCalc(Players!$E29,Players!$G29,Players!CR29,Players!CT29)","v":0},1,"-",1,{"$f":"ResultsCalc(Players!$E29,Players!$G29,Players!CV29,Players!CX29)","v":2},1,"-",1,{"$f":"ResultsCalc(Players!$E29,Players!$G29,Players!CZ29,Players!DB29)","v":2},0,"-",1,{"$f":"ResultsCalc(Players!$E29,Players!$G29,Players!DD29,Players!DF29)","v":11},0,"-",1,{"$f":"ResultsCalc(Players!$E29,Players!$G29,Players!DH29,Players!DJ29)","v":11},2,"-",1,{"$f":"ResultsCalc(Players!$E29,Players!$G29,Players!DL29,Players!DN29)","v":2},1,"-",1,{"$f":"ResultsCalc(Players!$E29,Players!$G29,Players!DP29,Players!DR29)","v":2},2,"-",1,{"$f":"ResultsCalc(Players!$E29,Players!$G29,Players!DT29,Players!DV29)","v":2},1,"-",2,{"$f":"ResultsCalc(Players!$E29,Players!$G29,Players!DX29,Players!DZ29)","v":6},1,"-",0,{"$f":"ResultsCalc(Players!$E29,Players!$G29,Players!EB29,Players!ED29)","v":0},1,"-",2,{"$f":"ResultsCalc(Players!$E29,Players!$G29,Players!EF29,Players!EH29)","v":6},1,"-",2,{"$f":"ResultsCalc(Players!$E29,Players!$G29,Players!EJ29,Players!EL29)","v":6},1,"-",1,{"$f":"ResultsCalc(Players!$E29,Players!$G29,Players!EN29,Players!EP29)","v":2},0,"-",1,{"$f":"ResultsCalc(Players!$E29,Players!$G29,Players!ER29,Players!ET29)","v":11},1,"-",1,{"$f":"ResultsCalc(Players!$E29,Players!$G29,Players!EV29,Players!EX29)","v":2},1,"-",0,{"$f":"ResultsCalc(Players!$E29,Players!$G29,Players!EZ29,Players!FB29)","v":0},1,"-",1,{"$f":"ResultsCalc(Players!$E29,Players!$G29,Players!FD29,Players!FF29)","v":2},1,"-",1,{"$f":"ResultsCalc(Players!$E29,Players!$G29,Players!FH29,Players!FJ29)","v":2},1,"-",1,{"$f":"ResultsCalc(Players!$E29,Players!$G29,Players!FL29,Players!FN29)","v":2},3,"-",2,{"$f":"ResultsCalc(Players!$E29,Players!$G29,Players!FP29,Players!FR29)","v":0},2,"-",2,{"$f":"ResultsCalc(Players!$E29,Players!$G29,Players!FT29,Players!FV29)","v":0},1,"-",0,{"$f":"ResultsCalc(Players!$E29,Players!$G29,Players!FX29,Players!FZ29)","v":0},2,"-",1,{"$f":"ResultsCalc(Players!$E29,Players!$G29,Players!GB29,Players!GD29)","v":2},1,"-",2,{"$f":"ResultsCalc(Players!$E29,Players!$G29,Players!GF29,Players!GH29)","v":6},0,"-",0,{"$f":"ResultsCalc(Players!$E29,Players!$G29,Players!GJ29,Players!GL29)","v":2},1,"-",0,{"$f":"ResultsCalc(Players!$E29,Players!$G29,Players!GN29,Players!GP29)","v":0},2,"-",0,{"$f":"ResultsCalc(Players!$E29,Players!$G29,Players!GR29,Players!GT29)","v":0},1,"-",2,{"$f":"ResultsCalc(Players!$E29,Players!$G29,Players!GV29,Players!GX29)","v":6},0,"-",2,{"$f":"ResultsCalc(Players!$E29,Players!$G29,Players!GZ29,Players!HB29)","v":6},1,"-",2,{"$f":"ResultsCalc(Players!$E29,Players!$G29,Players!HD29,Players!HF29)","v":6},1,"-",3,{"$f":"ResultsCalc(Players!$E29,Players!$G29,Players!HH29,Players!HJ29)","v":4},1,"-",1,{"$f":"ResultsCalc(Players!$E29,Players!$G29,Players!HL29,Players!HN29)","v":2},2,"-",2,{"$f":"ResultsCalc(Players!$E29,Players!$G29,Players!HP29,Players!HR29)","v":0},1,"-",1,{"$f":"ResultsCalc(Players!$E29,Players!$G29,Players!HT29,Players!HV29)","v":2},2,"-",1,{"$f":"ResultsCalc(Players!$E29,Players!$G29,Players!HX29,Players!HZ29)","v":2},1,"-",1,{"$f":"ResultsCalc(Players!$E29,Players!$G29,Players!IB29,Players!ID29)","v":2},1,"-",1,{"$f":"ResultsCalc(Players!$E29,Players!$G29,Players!IF29,Players!IH29)","v":2},2,"-",2,{"$f":"ResultsCalc(Players!$E29,Players!$G29,Players!IJ29,Players!IL29)","v":0},1,"-",0,{"$f":"ResultsCalc(Players!$E29,Players!$G29,Players!IN29,Players!IP29)","v":0},2,"-",2,{"$f":"ResultsCalc(Players!$E29,Players!$G29,Players!IR29,Players!IT29)","v":0},0,"-",0,{"$f":"ResultsCalc(Players!$E29,Players!$G29,Players!IV29,Players!IX29)","v":2},1,"-",1,{"$f":"ResultsCalc(Players!$E29,Players!$G29,Players!IZ29,Players!JB29)","v":2},0,"-",2,{"$f":"ResultsCalc(Players!$E29,Players!$G29,Players!JD29,Players!JF29)","v":6},0,"-",1,{"$f":"ResultsCalc(Players!$E29,Players!$G29,Players!JH29,Players!JJ29)","v":11},1,"-",1,{"$f":"ResultsCalc(Players!$E29,Players!$G29,Players!JL29,Players!JN29)","v":2},1,"-",1,{"$f":"ResultsCalc(Players!$E29,Players!$G29,Players!JP29,Players!JR29)","v":2},0,"-",1,{"$f":"ResultsCalc(Players!$E29,Players!$G29,Players!JT29,Players!JV29)","v":11},2,"-",1,{"$f":"ResultsCalc(Players!$E29,Players!$G29,Players!JX29,Players!JZ29)","v":2},2,"-",2,{"$f":"ResultsCalc(Players!$E29,Players!$G29,Players!KB29,Players!KD29)","v":0},1,"-",2,{"$f":"ResultsCalc(Players!$E29,Players!$G29,Players!KF29,Players!KH29)","v":6},1,"-",1,{"$f":"ResultsCalc(Players!$E29,Players!$G29,Players!KJ29,Players!KL29)","v":2},0,"-",1,{"$f":"ResultsCalc(Players!$E29,Players!$G29,Players!KN29,Players!KP29)","v":11},0,"-",0,{"$f":"ResultsCalc(Players!$E29,Players!$G29,Players!KR29,Players!KT29)","v":2},2,"-",1,{"$f":"ResultsCalc(Players!$E29,Players!$G29,Players!KV29,Players!KX29)","v":2},1,"-",0,{"$f":"ResultsCalc(Players!$E29,Players!$G29,Players!KZ29,Players!LB29)","v":0},0,"-",1,{"$f":"ResultsCalc(Players!$E29,Players!$G29,Players!LD29,Players!LF29)","v":11},1,"-",1,{"$f":"ResultsCalc(Players!$E29,Players!$G29,Players!LH29,Players!LJ29)","v":2},1,"-",1,{"$f":"ResultsCalc(Players!$E29,Players!$G29,Players!LL29,Players!LN29)","v":2},0,"-",1,{"$f":"ResultsCalc(Players!$E29,Players!$G29,Players!LP29,Players!LR29)","v":11},1,"-",1,{"$f":"ResultsCalc(Players!$E29,Players!$G29,Players!LT29,Players!LV29)","v":2},2,"-",2,{"$f":"ResultsCalc(Players!$E29,Players!$G29,Players!LX29,Players!LZ29)","v":0},0,"-",0,{"$f":"ResultsCalc(Players!$E29,Players!$G29,Players!MB29,Players!MD29)","v":2},0,"-",0,{"$f":"ResultsCalc(Players!$E29,Players!$G29,Players!MF29,Players!MH29)","v":2},1,"-",1,{"$f":"ResultsCalc(Players!$E29,Players!$G29,Players!MJ29,Players!ML29)","v":2},1,"-",1,{"$f":"ResultsCalc(Players!$E29,Players!$G29,Players!MN29,Players!MP29)","v":2},1,"-",1,{"$f":"ResultsCalc(Players!$E29,Players!$G29,Players!MR29,Players!MT29)","v":2},0,"-",2,{"$f":"ResultsCalc(Players!$E29,Players!$G29,Players!MV29,Players!MX29)","v":6},1,"-",1,{"$f":"ResultsCalc(Players!$E29,Players!$G29,Players!MZ29,Players!NB29)","v":2},0,"-",1,{"$f":"ResultsCalc(Players!$E29,Players!$G29,Players!ND29,Players!NF29)","v":11},1,"-",1,{"$f":"ResultsCalc(Players!$E29,Players!$G29,Players!NH29,Players!NJ29)","v":2},1,"-",1,{"$f":"ResultsCalc(Players!$E29,Players!$G29,Players!NL29,Players!NN29)","v":2},1,"-",1,{"$f":"ResultsCalc(Players!$E29,Players!$G29,Players!NP29,Players!NR29)","v":2},1,"-",1,{"$f":"ResultsCalc(Players!$E29,Players!$G29,Players!NT29,Players!NV29)","v":2},2,"-",0,{"$f":"ResultsCalc(Players!$E29,Players!$G29,Players!NX29,Players!NZ29)","v":0},0,"-",1,{"$f":"ResultsCalc(Players!$E29,Players!$G29,Players!OB29,Players!OD29)","v":11},3,"-",3,{"$f":"ResultsCalc(Players!$E29,Players!$G29,Players!OF29,Players!OH29)","v":0},0,"-",1,{"$f":"ResultsCalc(Players!$E29,Players!$G29,Players!OJ29,Players!OL29)","v":11},0,"-",0,{"$f":"ResultsCalc(Players!$E29,Players!$G29,Players!ON29,Players!OP29)","v":2},1,"-",1,{"$f":"ResultsCalc(Players!$E29,Players!$G29,Players!OR29,Players!OT29)","v":2},0,"-",2,{"$f":"ResultsCalc(Players!$E29,Players!$G29,Players!OV29,Players!OX29)","v":6},1,"-",1,{"$f":"ResultsCalc(Players!$E29,Players!$G29,Players!OZ29,Players!PB29)","v":2},1,"-",3,{"$f":"ResultsCalc(Players!$E29,Players!$G29,Players!PD29,Players!PF29)","v":4},1,"-",1,{"$f":"ResultsCalc(Players!$E29,Players!$G29,Players!PH29,Players!PJ29)","v":2},3,"-",2,{"$f":"ResultsCalc(Players!$E29,Players!$G29,Players!PL29,Players!PN29)","v":0},1,"-",2,{"$f":"ResultsCalc(Players!$E29,Players!$G29,Players!PP29,Players!PR29)","v":6},1,"-",1,{"$f":"ResultsCalc(Players!$E29,Players!$G29,Players!PT29,Players!PV29)","v":2},0,"-",0,{"$f":"ResultsCalc(Players!$E29,Players!$G29,Players!PX29,Players!PZ29)","v":2},1,"-",0,{"$f":"ResultsCalc(Players!$E29,Players!$G29,Players!QB29,Players!QD29)","v":0},1,"-",0,{"$f":"ResultsCalc(Players!$E29,Players!$G29,Players!QF29,Players!QH29)","v":0},0,"-",0,{"$f":"ResultsCalc(Players!$E29,Players!$G29,Players!QJ29,Players!QL29)","v":2},null,14,null,11,14]
["2021-06-21",28,"North Macedonia","Netherlands",0,"-",3,0,"-",4,{"$f":"ResultsCalc(Players!$E30,Players!$G30,Players!H30,Players!J30)","v":6},1,"-",2,{"$f":"ResultsCalc(Players!$E30,Players!$G30,Players!L30,Players!N30)","v":4},0,"-",1,{"$f":"ResultsCalc(Players!$E30,Players!$G30,Players!P30,Players!R30)","v":6},0,"-",3,{"$f":"ResultsCalc(Players!$E30,Players!$G30,Players!T30,Players!V30)","v":13},1,"-",4,{"$f":"ResultsCalc(Players!$E30,Players!$G30,Players!X30,Players!Z30)","v":6},0,"-",3,{"$f":"ResultsCalc(Players!$E30,Players!$G30,Players!AB30,Players!AD30)","v":13},1,"-",1,{"$f":"ResultsCalc(Players!$E30,Players!$G30,Players!AF30,Players!AH30)","v":0},0,"-",2,{"$f":"ResultsCalc(Players!$E30,Players!$G30,Players!AJ30,Players!AL30)","v":6},0,"-",2,{"$f":"ResultsCalc(Players!$E30,Players!$G30,Players!AN30,Players!AP30)","v":6},0,"-",2,{"$f":"ResultsCalc(Players!$E30,Players!$G30,Players!AR30,Players!AT30)","v":6},0,"-",0,{"$f":"ResultsCalc(Players!$E30,Players!$G30,Players!AV30,Players!AX30)","v":2},0,"-",2,{"$f":"ResultsCalc(Players!$E30,Players!$G30,Players!AZ30,Players!BB30)","v":6},1,"-",2,{"$f":"ResultsCalc(Players!$E30,Players!$G30,Players!BD30,Players!BF30)","v":4},1,"-",2,{"$f":"ResultsCalc(Players!$E30,Players!$G30,Players!BH30,Players!BJ30)","v":4},0,"-",2,{"$f":"ResultsCalc(Players!$E30,Players!$G30,Players!BL30,Players!BN30)","v":6},0,"-",4,{"$f":"ResultsCalc(Players!$E30,Players!$G30,Players!BP30,Players!BR30)","v":6},0,"-",1,{"$f":"ResultsCalc(Players!$E30,Players!$G30,Players!BT30,Players!BV30)","v":6},1,"-",2,{"$f":"ResultsCalc(Players!$E30,Players!$G30,Players!BX30,Players!BZ30)","v":4},1,"-",0,{"$f":"ResultsCalc(Players!$E30,Players!$G30,Players!CB30,Players!CD30)","v":0},0,"-",4,{"$f":"ResultsCalc(Players!$E30,Players!$G30,Players!CF30,Players!CH30)","v":6},0,"-",3,{"$f":"ResultsCalc(Players!$E30,Players!$G30,Players!CJ30,Players!CL30)","v":13},1,"-",2,{"$f":"ResultsCalc(Players!$E30,Players!$G30,Players!CN30,Players!CP30)","v":4},0,"-",2,{"$f":"ResultsCalc(Players!$E30,Players!$G30,Players!CR30,Players!CT30)","v":6},0,"-",3,{"$f":"ResultsCalc(Players!$E30,Players!$G30,Players!CV30,Players!CX30)","v":13},0,"-",2,{"$f":"ResultsCalc(Players!$E30,Players!$G30,Players!CZ30,Players!DB30)","v":6},0,"-",4,{"$f":"ResultsCalc(Players!$E30,Players!$G30,Players!DD30,Players!DF30)","v":6},1,"-",3,{"$f":"ResultsCalc(Players!$E30,Players!$G30,Players!DH30,Players!DJ30)","v":6},0,"-",3,{"$f":"ResultsCalc(Players!$E30,Players!$G30,Players!DL30,Players!DN30)","v":13},0,"-",2,{"$f":"ResultsCalc(Players!$E30,Players!$G30,Players!DP30,Players!DR30)","v":6},0,"-",2,{"$f":"ResultsCalc(Players!$E30,Players!$G30,Players!DT30,Players!DV30)","v":6},0,"-",6,{"$f":"ResultsCalc(Players!$E30,Players!$G30,Players!DX30,Players!DZ30)","v":6},0,"-",2,{"$f":"ResultsCalc(Players!$E30,Players!$G30,Players!EB30,Players!ED30)","v":6},1,"-",2,{"$f":"ResultsCalc(Players!$E30,Players!$G30,Players!EF30,Players!EH30)","v":4},1,"-",2,{"$f":"ResultsCalc(Players!$E30,Players!$G30,Players!EJ30,Players!EL30)","v":4},0,"-",0,{"$f":"ResultsCalc(Players!$E30,Players!$G30,Players!EN30,Players!EP30)","v":2},0,"-",5,{"$f":"ResultsCalc(Players!$E30,Players!$G30,Players!ER30,Players!ET30)","v":6},1,"-",4,{"$f":"ResultsCalc(Players!$E30,Players!$G30,Players!EV30,Players!EX30)","v":6},1,"-",4,{"$f":"ResultsCalc(Players!$E30,Players!$G30,Players!EZ30,Players!FB30)","v":6},0,"-",2,{"$f":"ResultsCalc(Players!$E30,Players!$G30,Players!FD30,Players!FF30)","v":6},1,"-",2,{"$f":"ResultsCalc(Players!$E30,Players!$G30,Players!FH30,Players!FJ30)","v":4},0,"-",3,{"$f":"ResultsCalc(Players!$E30,Players!$G30,Players!FL30,Players!FN30)","v":13},1,"-",3,{"$f":"ResultsCalc(Players!$E30,Players!$G30,Players!FP30,Players!FR30)","v":6},0,"-",3,{"$f":"ResultsCalc(Players!$E30,Players!$G30,Players!FT30,Players!FV30)","v":13},0,"-",3,{"$f":"ResultsCalc(Players!$E30,Players!$G30,Players!FX30,Players!FZ30)","v":13},1,"-",3,{"$f":"ResultsCalc(Players!$E30,Players!$G30,Players!GB30,Players!GD30)","v":6},0,"-",4,{"$f":"ResultsCalc(Players!$E30,Players!$G30,Players!GF30,Players!GH30)","v":6},0,"-",4,{"$f":"ResultsCalc(Players!$E30,Players!$G30,Players!GJ30,Players!GL30)","v":6},0,"-",5,{"$f":"ResultsCalc(Players!$E30,Players!$G30,Players!GN30,Players!GP30)","v":6},1,"-",3,{"$f":"ResultsCalc(Players!$E30,Players!$G30,Players!GR30,Players!GT30)","v":6},1,"-",3,{"$f":"ResultsCalc(Players!$E30,Players!$G30,Players!GV30,Players!GX30)","v":6},0,"-",3,{"$f":"ResultsCalc(Players!$E30,Players!$G30,Players!GZ30,Players!HB30)","v":13},1,"-",3,{"$f":"ResultsCalc(Players!$E30,Players!$G30,Players!HD30,Players!HF30)","v":6},2,"-",0,{"$f":"ResultsCalc(Players!$E30,Players!$G30,Players!HH30,Players!HJ30)","v":0},1,"-",3,{"$f":"ResultsCalc(Players!$E30,Players!$G30,Players!HL30,Players!HN30)","v":6},1,"-",3,{"$f":"ResultsCalc(Players!$E30,Players!$G30,Players!HP30,Players!HR30)","v":6},0,"-",4,{"$f":"ResultsCalc(Players!$E30,Players!$G30,Players!HT30,Players!HV30)","v":6},0,"-",2,{"$f":"ResultsCalc(Players!$E30,Players!$G30,Players!HX30,Players!HZ30)","v":6},0,"-",2,{"$f":"ResultsCalc(Players!$E30,Players!$G30,Players!IB30,Players!ID30)","v":6},0,"-",2,{"$f":"ResultsCalc(Players!$E30,Players!$G30,Players!IF30,Players!IH30)","v":6},0,"-",4,{"$f":"ResultsCalc(Players!$E30,Players!$G30,Players!IJ30,Players!IL30)","v":6},0,"-",3,{"$f":"ResultsCalc(Players!$E30,Players!$G30,Players!IN30,Players!IP30)","v":13},0,"-",3,{"$f":"ResultsCalc(Players!$E30,Players!$G30,Players!IR30,Players!IT30)","v":13},0,"-",3,{"$f":"ResultsCalc(Players!$E30,Players!$G30,Players!IV30,Players!IX30)","v":13},0,"-",3,{"$f":"ResultsCalc(Players!$E30,Players!$G30,Players!IZ30,Players!JB30)","v":13},0,"-",3,{"$f":"ResultsCalc(Players!$E30,Players!$G30,Players!JD30,Players!JF30)","v":13},1,"-",3,{"$f":"ResultsCalc(Players!$E30,Players!$G30,Players!JH30,Players!JJ30)","v":6},0,"-",2,{"$f":"ResultsCalc(Players!$E30,Players!$G30,Players!JL30,Players!JN30)","v":6},0,"-",3,{"$f":"ResultsCalc(Players!$E30,Players!$G30,Players!JP30,Players!JR30)","v":13},0,"-",2,{"$f":"ResultsCalc(Players!$E30,Players!$G30,Players!JT30,Players!JV30)","v":6},0,"-",2,{"$f":"ResultsCalc(Players!$E30,Players!$G30,Players!JX30,Players!JZ30)","v":6},1,"-",3,{"$f":"ResultsCalc(Players!$E30,Players!$G30,Players!KB30,Players!KD30)","v":6},0,"-",4,{"$f":"ResultsCalc(Players!$E30,Players!$G30,Players!KF30,Players!KH30)","v":6},0,"-",3,{"$f":"ResultsCalc(Players!$E30,Players!$G30,Players!KJ30,Players!KL30)","v":13},0,"-",2,{"$f":"ResultsCalc(Players!$E30,Players!$G30,Players!KN30,Players!KP30)","v":6},1,"-",3,{"$f":"ResultsCalc(Players!$E30,Players!$G30,Players!KR30,Players!KT30)","v":6},1,"-",4,{"$f":"ResultsCalc(Players!$E30,Players!$G30,Players!KV30,Players!KX30)","v":6},0,"-",3,{"$f":"ResultsCalc(Players!$E30,Players!$G30,Players!KZ30,Players!LB30)","v":13},1,"-",2,{"$f":"ResultsCalc(Players!$E30,Players!$G30,Players!LD30,Players!LF30)","v":4},0,"-",0,{"$f":"ResultsCalc(Players!$E30,Players!$G30,Players!LH30,Players!LJ30)","v":2},0,"-",5,{"$f":"ResultsCalc(Players!$E30,Players!$G30,Players!LL30,Players!LN30)","v":6},0,"-",2,{"$f":"ResultsCalc(Players!$E30,Players!$G30,Players!LP30,Players!LR30)","v":6},0,"-",2,{"$f":"ResultsCalc(Players!$E30,Players!$G30,Players!LT30,Players!LV30)","v":6},0,"-",4,{"$f":"ResultsCalc(Players!$E30,Players!$G30,Players!LX30,Players!LZ30)","v":6},1,"-",1,{"$f":"ResultsCalc(Players!$E30,Players!$G30,Players!MB30,Players!MD30)","v":0},0,"-",2,{"$f":"ResultsCalc(Players!$E30,Players!$G30,Players!MF30,Players!MH30)","v":6},0,"-",2,{"$f":"ResultsCalc(Players!$E30,Players!$G30,Players!MJ30,Players!ML30)","v":6},1,"-",3,{"$f":"ResultsCalc(Players!$E30,Players!$G30,Players!MN30,Players!MP30)","v":6},1,"-",3,{"$f":"ResultsCalc(Players!$E30,Players!$G30,Players!MR30,Players!MT30)","v":6},0,"-",4,{"$f":"ResultsCalc(Players!$E30,Players!$G30,Players!MV30,Players!MX30)","v":6},0,"-",2,{"$f":"ResultsCalc(Players!$E30,Players!$G30,Players!MZ30,Players!NB30)","v":6},0,"-",2,{"$f":"ResultsCalc(Players!$E30,Players!$G30,Players!ND30,Players!NF30)","v":6},0,"-",3,{"$f":"ResultsCalc(Players!$E30,Players!$G30,Players!NH30,Players!NJ30)","v":13},0,"-",1,{"$f":"ResultsCalc(Players!$E30,Players!$G30,Players!NL30,Players!NN30)","v":6},0,"-",2,{"$f":"ResultsCalc(Players!$E30,Players!$G30,Players!NP30,Players!NR30)","v":6},0,"-",3,{"$f":"ResultsCalc(Players!$E30,Players!$G30,Players!NT30,Players!NV30)","v":13},0,"-",4,{"$f":"ResultsCalc(Players!$E30,Players!$G30,Players!NX30,Players!NZ30)","v":6},0,"-",1,{"$f":"ResultsCalc(Players!$E30,Players!$G30,Players!OB30,Players!OD30)","v":6},0,"-",4,{"$f":"ResultsCalc(Players!$E30,Players!$G30,Players!OF30,Players!OH30)","v":6},0,"-",3,{"$f":"ResultsCalc(Players!$E30,Players!$G30,Players!OJ30,Players!OL30)","v":13},0,"-",1,{"$f":"ResultsCalc(Players!$E30,Players!$G30,Players!ON30,Players!OP30)","v":6},0,"-",3,{"$f":"ResultsCalc(Players!$E30,Players!$G30,Players!OR30,Players!OT30)","v":13},0,"-",5,{"$f":"ResultsCalc(Players!$E30,Players!$G30,Players!OV30,Players!OX30)","v":6},1,"-",3,{"$f":"ResultsCalc(Players!$E30,Players!$G30,Players!OZ30,Players!PB30)","v":6},0,"-",3,{"$f":"ResultsCalc(Players!$E30,Players!$G30,Players!PD30,Players!PF30)","v":13},1,"-",3,{"$f":"ResultsCalc(Players!$E30,Players!$G30,Players!PH30,Players!PJ30)","v":6},1,"-",5,{"$f":"ResultsCalc(Players!$E30,Players!$G30,Players!PL30,Players!PN30)","v":4},2,"-",3,{"$f":"ResultsCalc(Players!$E30,Players!$G30,Players!PP30,Players!PR30)","v":6},0,"-",2,{"$f":"ResultsCalc(Players!$E30,Players!$G30,Players!PT30,Players!PV30)","v":6},2,"-",0,{"$f":"ResultsCalc(Players!$E30,Players!$G30,Players!PX30,Players!PZ30)","v":0},0,"-",2,{"$f":"ResultsCalc(Players!$E30,Players!$G30,Players!QB30,Players!QD30)","v":6},0,"-",3,{"$f":"ResultsCalc(Players!$E30,Players!$G30,Players!QF30,Players!QH30)","v":13},0,"-",2,{"$f":"ResultsCalc(Players!$E30,Players!$G30,Players!QJ30,Players!QL30)","v":6},null,23,null,13,23]
["2021-06-21",29,"Finland","Belgium",0,"-",2,0,"-",5,{"$f":"ResultsCalc(Players!$E31,Players!$G31,Players!H31,Players!J31)","v":6},0,"-",2,{"$f":"ResultsCalc(Players!$E31,Players!$G31,Players!L31,Players!N31)","v":12},0,"-",3,{"$f":"ResultsCalc(Players!$E31,Players!$G31,Players!P31,Players!R31)","v":6},0,"-",2,{"$f":"ResultsCalc(Players!$E31,Players!$G31,Players!T31,Players!V31)","v":12},0,"-",2,{"$f":"ResultsCalc(Players!$E31,Players!$G31,Players!X31,Players!Z31)","v":12},0,"-",4,{"$f":"ResultsCalc(Players!$E31,Players!$G31,Players!AB31,Players!AD31)","v":6},0,"-",2,{"$f":"ResultsCalc(Players!$E31,Players!$G31,Players!AF31,Players!AH31)","v":12},1,"-",4,{"$f":"ResultsCalc(Players!$E31,Players!$G31,Players!AJ31,Players!AL31)","v":4},1,"-",1,{"$f":"ResultsCalc(Players!$E31,Players!$G31,Players!AN31,Players!AP31)","v":0},0,"-",2,{"$f":"ResultsCalc(Players!$E31,Players!$G31,Players!AR31,Players!AT31)","v":12},0,"-",4,{"$f":"ResultsCalc(Players!$E31,Players!$G31,Players!AV31,Players!AX31)","v":6},0,"-",2,{"$f":"ResultsCalc(Players!$E31,Players!$G31,Players!AZ31,Players!BB31)","v":12},0,"-",3,{"$f":"ResultsCalc(Players!$E31,Players!$G31,Players!BD31,Players!BF31)","v":6},1,"-",2,{"$f":"ResultsCalc(Players!$E31,Players!$G31,Players!BH31,Players!BJ31)","v":6},1,"-",3,{"$f":"ResultsCalc(Players!$E31,Players!$G31,Players!BL31,Players!BN31)","v":6},1,"-",4,{"$f":"ResultsCalc(Players!$E31,Players!$G31,Players!BP31,Players!BR31)","v":4},1,"-",3,{"$f":"ResultsCalc(Players!$E31,Players!$G31,Players!BT31,Players!BV31)","v":6},0,"-",2,{"$f":"ResultsCalc(Players!$E31,Players!$G31,Players!BX31,Players!BZ31)","v":12},1,"-",1,{"$f":"ResultsCalc(Players!$E31,Players!$G31,Players!CB31,Players!CD31)","v":0},0,"-",4,{"$f":"ResultsCalc(Players!$E31,Players!$G31,Players!CF31,Players!CH31)","v":6},0,"-",4,{"$f":"ResultsCalc(Players!$E31,Players!$G31,Players!CJ31,Players!CL31)","v":6},0,"-",3,{"$f":"ResultsCalc(Players!$E31,Players!$G31,Players!CN31,Players!CP31)","v":6},0,"-",2,{"$f":"ResultsCalc(Players!$E31,Players!$G31,Players!CR31,Players!CT31)","v":12},1,"-",3,{"$f":"ResultsCalc(Players!$E31,Players!$G31,Players!CV31,Players!CX31)","v":6},0,"-",3,{"$f":"ResultsCalc(Players!$E31,Players!$G31,Players!CZ31,Players!DB31)","v":6},0,"-",2,{"$f":"ResultsCalc(Players!$E31,Players!$G31,Players!DD31,Players!DF31)","v":12},0,"-",2,{"$f":"ResultsCalc(Players!$E31,Players!$G31,Players!DH31,Players!DJ31)","v":12},0,"-",2,{"$f":"ResultsCalc(Players!$E31,Players!$G31,Players!DL31,Players!DN31)","v":12},0,"-",3,{"$f":"ResultsCalc(Players!$E31,Players!$G31,Players!DP31,Players!DR31)","v":6},0,"-",2,{"$f":"ResultsCalc(Players!$E31,Players!$G31,Players!DT31,Players!DV31)","v":12},0,"-",3,{"$f":"ResultsCalc(Players!$E31,Players!$G31,Players!DX31,Players!DZ31)","v":6},0,"-",2,{"$f":"ResultsCalc(Players!$E31,Players!$G31,Players!EB31,Players!ED31)","v":12},2,"-",1,{"$f":"ResultsCalc(Players!$E31,Players!$G31,Players!EF31,Players!EH31)","v":0},1,"-",3,{"$f":"ResultsCalc(Players!$E31,Players!$G31,Players!EJ31,Players!EL31)","v":6},0,"-",2,{"$f":"ResultsCalc(Players!$E31,Players!$G31,Players!EN31,Players!EP31)","v":12},0,"-",4,{"$f":"ResultsCalc(Players!$E31,Players!$G31,Players!ER31,Players!ET31)","v":6},1,"-",2,{"$f":"ResultsCalc(Players!$E31,Players!$G31,Players!EV31,Players!EX31)","v":6},0,"-",2,{"$f":"ResultsCalc(Players!$E31,Players!$G31,Players!EZ31,Players!FB31)","v":12},1,"-",2,{"$f":"ResultsCalc(Players!$E31,Players!$G31,Players!FD31,Players!FF31)","v":6},1,"-",1,{"$f":"ResultsCalc(Players!$E31,Players!$G31,Players!FH31,Players!FJ31)","v":0},0,"-",3,{"$f":"ResultsCalc(Players!$E31,Players!$G31,Players!FL31,Players!FN31)","v":6},2,"-",1,{"$f":"ResultsCalc(Players!$E31,Players!$G31,Players!FP31,Players!FR31)","v":0},1,"-",4,{"$f":"ResultsCalc(Players!$E31,Players!$G31,Players!FT31,Players!FV31)","v":4},1,"-",4,{"$f":"ResultsCalc(Players!$E31,Players!$G31,Players!FX31,Players!FZ31)","v":4},1,"-",3,{"$f":"ResultsCalc(Players!$E31,Players!$G31,Players!GB31,Players!GD31)","v":6},1,"-",3,{"$f":"ResultsCalc(Players!$E31,Players!$G31,Players!GF31,Players!GH31)","v":6},0,"-",3,{"$f":"ResultsCalc(Players!$E31,Players!$G31,Players!GJ31,Players!GL31)","v":6},0,"-",2,{"$f":"ResultsCalc(Players!$E31,Players!$G31,Players!GN31,Players!GP31)","v":12},0,"-",2,{"$f":"ResultsCalc(Players!$E31,Players!$G31,Players!GR31,Players!GT31)","v":12},0,"-",1,{"$f":"ResultsCalc(Players!$E31,Players!$G31,Players!GV31,Players!GX31)","v":6},0,"-",3,{"$f":"ResultsCalc(Players!$E31,Players!$G31,Players!GZ31,Players!HB31)","v":6},1,"-",3,{"$f":"ResultsCalc(Players!$E31,Players!$G31,Players!HD31,Players!HF31)","v":6},1,"-",1,{"$f":"ResultsCalc(Players!$E31,Players!$G31,Players!HH31,Players!HJ31)","v":0},1,"-",2,{"$f":"ResultsCalc(Players!$E31,Players!$G31,Players!HL31,Players!HN31)","v":6},1,"-",2,{"$f":"ResultsCalc(Players!$E31,Players!$G31,Players!HP31,Players!HR31)","v":6},0,"-",3,{"$f":"ResultsCalc(Players!$E31,Players!$G31,Players!HT31,Players!HV31)","v":6},0,"-",2,{"$f":"ResultsCalc(Players!$E31,Players!$G31,Players!HX31,Players!HZ31)","v":12},0,"-",2,{"$f":"ResultsCalc(Players!$E31,Players!$G31,Players!IB31,Players!ID31)","v":12},0,"-",3,{"$f":"ResultsCalc(Players!$E31,Players!$G31,Players!IF31,Players!IH31)","v":6},1,"-",2,{"$f":"ResultsCalc(Players!$E31,Players!$G31,Players!IJ31,Players!IL31)","v":6},0,"-",2,{"$f":"ResultsCalc(Players!$E31,Players!$G31,Players!IN31,Players!IP31)","v":12},0,"-",3,{"$f":"ResultsCalc(Players!$E31,Players!$G31,Players!IR31,Players!IT31)","v":6},1,"-",2,{"$f":"ResultsCalc(Players!$E31,Players!$G31,Players!IV31,Players!IX31)","v":6},0,"-",2,{"$f":"ResultsCalc(Players!$E31,Players!$G31,Players!IZ31,Players!JB31)","v":12},0,"-",1,{"$f":"ResultsCalc(Players!$E31,Players!$G31,Players!JD31,Players!JF31)","v":6},1,"-",2,{"$f":"ResultsCalc(Players!$E31,Players!$G31,Players!JH31,Players!JJ31)","v":6},1,"-",3,{"$f":"ResultsCalc(Players!$E31,Players!$G31,Players!JL31,Players!JN31)","v":6},2,"-",3,{"$f":"ResultsCalc(Players!$E31,Players!$G31,Players!JP31,Players!JR31)","v":4},1,"-",2,{"$f":"ResultsCalc(Players!$E31,Players!$G31,Players!JT31,Players!JV31)","v":6},1,"-",4,{"$f":"ResultsCalc(Players!$E31,Players!$G31,Players!JX31,Players!JZ31)","v":4},0,"-",4,{"$f":"ResultsCalc(Players!$E31,Players!$G31,Players!KB31,Players!KD31)","v":6},0,"-",3,{"$f":"ResultsCalc(Players!$E31,Players!$G31,Players!KF31,Players!KH31)","v":6},0,"-",3,{"$f":"ResultsCalc(Players!$E31,Players!$G31,Players!KJ31,Players!KL31)","v":6},0,"-",1,{"$f":"ResultsCalc(Players!$E31,Players!$G31,Players!KN31,Players!KP31)","v":6},1,"-",2,{"$f":"ResultsCalc(Players!$E31,Players!$G31,Players!KR31,Players!KT31)","v":6},1,"-",5,{"$f":"ResultsCalc(Players!$E31,Players!$G31,Players!KV31,Players!KX31)","v":4},0,"-",2,{"$f":"ResultsCalc(Players!$E31,Players!$G31,Players!KZ31,Players!LB31)","v":12},1,"-",2,{"$f":"ResultsCalc(Players!$E31,Players!$G31,Players!LD31,Players!LF31)","v":6},0,"-",2,{"$f":"ResultsCalc(Players!$E31,Players!$G31,Players!LH31,Players!LJ31)","v":12},0,"-",3,{"$f":"ResultsCalc(Players!$E31,Players!$G31,Players!LL31,Players!LN31)","v":6},1,"-",2,{"$f":"ResultsCalc(Players!$E31,Players!$G31,Players!LP31,Players!LR31)","v":6},1,"-",2,{"$f":"ResultsCalc(Players!$E31,Players!$G31,Players!LT31,Players!LV31)","v":6},0,"-",4,{"$f":"ResultsCalc(Players!$E31,Players!$G31,Players!LX31,Players!LZ31)","v":6},0,"-",1,{"$f":"ResultsCalc(Players!$E31,Players!$G31,Players!MB31,Players!MD31)","v":6},0,"-",3,{"$f":"ResultsCalc(Players!$E31,Players!$G31,Players!MF31,Players!MH31)","v":6},0,"-",2,{"$f":"ResultsCalc(Players!$E31,Players!$G31,Players!MJ31,Players!ML31)","v":12},0,"-",2,{"$f":"ResultsCalc(Players!$E31,Players!$G31,Players!MN31,Players!MP31)","v":12},0,"-",4,{"$f":"ResultsCalc(Players!$E31,Players!$G31,Players!MR31,Players!MT31)","v":6},1,"-",2,{"$f":"ResultsCalc(Players!$E31,Players!$G31,Players!MV31,Players!MX31)","v":6},0,"-",2,{"$f":"ResultsCalc(Players!$E31,Players!$G31,Players!MZ31,Players!NB31)","v":12},0,"-",4,{"$f":"ResultsCalc(Players!$E31,Players!$G31,Players!ND31,Players!NF31)","v":6},0,"-",3,{"$f":"ResultsCalc(Players!$E31,Players!$G31,Players!NH31,Players!NJ31)","v":6},1,"-",2,{"$f":"ResultsCalc(Players!$E31,Players!$G31,Players!NL31,Players!NN31)","v":6},1,"-",2,{"$f":"ResultsCalc(Players!$E31,Players!$G31,Players!NP31,Players!NR31)","v":6},0,"-",4,{"$f":"ResultsCalc(Players!$E31,Players!$G31,Players!NT31,Players!NV31)","v":6},0,"-",1,{"$f":"ResultsCalc(Players!$E31,Players!$G31,Players!NX31,Players!NZ31)","v":6},0,"-",2,{"$f":"ResultsCalc(Players!$E31,Players!$G31,Players!OB31,Players!OD31)","v":12},1,"-",4,{"$f":"ResultsCalc(Players!$E31,Players!$G31,Players!OF31,Players!OH31)","v":4},0,"-",2,{"$f":"ResultsCalc(Players!$E31,Players!$G31,Players!OJ31,Players!OL31)","v":12},1,"-",2,{"$f":"ResultsCalc(Players!$E31,Players!$G31,Players!ON31,Players!OP31)","v":6},0,"-",4,{"$f":"ResultsCalc(Players!$E31,Players!$G31,Players!OR31,Players!OT31)","v":6},1,"-",4,{"$f":"ResultsCalc(Players!$E31,Players!$G31,Players!OV31,Players!OX31)","v":4},1,"-",5,{"$f":"ResultsCalc(Players!$E31,Players!$G31,Players!OZ31,Players!PB31)","v":4},0,"-",3,{"$f":"ResultsCalc(Players!$E31,Players!$G31,Players!PD31,Players!PF31)","v":6},1,"-",2,{"$f":"ResultsCalc(Players!$E31,Players!$G31,Players!PH31,Players!PJ31)","v":6},2,"-",6,{"$f":"ResultsCalc(Players!$E31,Players!$G31,Players!PL31,Players!PN31)","v":4},1,"-",3,{"$f":"ResultsCalc(Players!$E31,Players!$G31,Players!PP31,Players!PR31)","v":6},0,"-",1,{"$f":"ResultsCalc(Players!$E31,Players!$G31,Players!PT31,Players!PV31)","v":6},3,"-",0,{"$f":"ResultsCalc(Players!$E31,Players!$G31,Players!PX31,Players!PZ31)","v":0},0,"-",1,{"$f":"ResultsCalc(Players!$E31,Players!$G31,Players!QB31,Players!QD31)","v":6},0,"-",3,{"$f":"ResultsCalc(Players!$E31,Players!$G31,Players!QF31,Players!QH31)","v":6},1,"-",2,{"$f":"ResultsCalc(Players!$E31,Players!$G31,Players!QJ31,Players!QL31)","v":6},null,28,null,12,28]
["2021-06-21",30,"Russia","Denmark",1,"-",4,0,"-",1,{"$f":"ResultsCalc(Players!$E32,Players!$G32,Players!H32,Players!J32)","v":4},2,"-",2,{"$f":"ResultsCalc(Players!$E32,Players!$G32,Players!L32,Players!N32)","v":0},0,"-",2,{"$f":"ResultsCalc(Players!$E32,Players!$G32,Players!P32,Players!R32)","v":4},0,"-",1,{"$f":"ResultsCalc(Players!$E32,Players!$G32,Players!T32,Players!V32)","v":4},0,"-",2,{"$f":"ResultsCalc(Players!$E32,Players!$G32,Players!X32,Players!Z32)","v":4},1,"-",2,{"$f":"ResultsCalc(Players!$E32,Players!$G32,Players!AB32,Players!AD32)","v":6},1,"-",3,{"$f":"ResultsCalc(Players!$E32,Players!$G32,Players!AF32,Players!AH32)","v":6},1,"-",0,{"$f":"ResultsCalc(Players!$E32,Players!$G32,Players!AJ32,Players!AL32)","v":2},1,"-",2,{"$f":"ResultsCalc(Players!$E32,Players!$G32,Players!AN32,Players!AP32)","v":6},1,"-",1,{"$f":"ResultsCalc(Players!$E32,Players!$G32,Players!AR32,Players!AT32)","v":2},1,"-",1,{"$f":"ResultsCalc(Players!$E32,Players!$G32,Players!AV32,Players!AX32)","v":2},1,"-",1,{"$f":"ResultsCalc(Players!$E32,Players!$G32,Players!AZ32,Players!BB32)","v":2},2,"-",0,{"$f":"ResultsCalc(Players!$E32,Players!$G32,Players!BD32,Players!BF32)","v":0},1,"-",1,{"$f":"ResultsCalc(Players!$E32,Players!$G32,Players!BH32,Players!BJ32)","v":2},2,"-",1,{"$f":"ResultsCalc(Players!$E32,Players!$G32,Players!BL32,Players!BN32)","v":0},0,"-",0,{"$f":"ResultsCalc(Players!$E32,Players!$G32,Players!BP32,Players!BR32)","v":0},1,"-",2,{"$f":"ResultsCalc(Players!$E32,Players!$G32,Players!BT32,Players!BV32)","v":6},1,"-",1,{"$f":"ResultsCalc(Players!$E32,Players!$G32,Players!BX32,Players!BZ32)","v":2},2,"-",1,{"$f":"ResultsCalc(Players!$E32,Players!$G32,Players!CB32,Players!CD32)","v":0},3,"-",0,{"$f":"ResultsCalc(Players!$E32,Players!$G32,Players!CF32,Players!CH32)","v":0},1,"-",3,{"$f":"ResultsCalc(Players!$E32,Players!$G32,Players!CJ32,Players!CL32)","v":6},2,"-",1,{"$f":"ResultsCalc(Players!$E32,Players!$G32,Players!CN32,Players!CP32)","v":0},2,"-",1,{"$f":"ResultsCalc(Players!$E32,Players!$G32,Players!CR32,Players!CT32)","v":0},1,"-",1,{"$f":"ResultsCalc(Players!$E32,Players!$G32,Players!CV32,Players!CX32)","v":2},1,"-",2,{"$f":"ResultsCalc(Players!$E32,Players!$G32,Players!CZ32,Players!DB32)","v":6},1,"-",1,{"$f":"ResultsCalc(Players!$E32,Players!$G32,Players!DD32,Players!DF32)","v":2},1,"-",2,{"$f":"ResultsCalc(Players!$E32,Players!$G32,Players!DH32,Players!DJ32)","v":6},1,"-",1,{"$f":"ResultsCalc(Players!$E32,Players!$G32,Players!DL32,Players!DN32)","v":2},1,"-",1,{"$f":"ResultsCalc(Players!$E32,Players!$G32,Players!DP32,Players!DR32)","v":2},0,"-",1,{"$f":"ResultsCalc(Players!$E32,Players!$G32,Players!DT32,Players!DV32)","v":4},0,"-",2,{"$f":"ResultsCalc(Players!$E32,Players!$G32,Players!DX32,Players!DZ32)","v":4},2,"-",1,{"$f":"ResultsCalc(Players!$E32,Players!$G32,Players!EB32,Players!ED32)","v":0},1,"-",2,{"$f":"ResultsCalc(Players!$E32,Players!$G32,Players!EF32,Players!EH32)","v":6},2,"-",0,{"$f":"ResultsCalc(Players!$E32,Players!$G32,Players!EJ32,Players!EL32)","v":0},0,"-",0,{"$f":"ResultsCalc(Players!$E32,Players!$G32,Players!EN32,Players!EP32)","v":0},1,"-",1,{"$f":"ResultsCalc(Players!$E32,Players!$G32,Players!ER32,Players!ET32)","v":2},2,"-",2,{"$f":"ResultsCalc(Players!$E32,Players!$G32,Players!EV32,Players!EX32)","v":0},2,"-",2,{"$f":"ResultsCalc(Players!$E32,Players!$G32,Players!EZ32,Players!FB32)","v":0},1,"-",2,{"$f":"ResultsCalc(Players!$E32,Players!$G32,Players!FD32,Players!FF32)","v":6},3,"-",0,{"$f":"ResultsCalc(Players!$E32,Players!$G32,Players!FH32,Players!FJ32)","v":0},1,"-",1,{"$f":"ResultsCalc(Players!$E32,Players!$G32,Players!FL32,Players!FN32)","v":2},4,"-",2,{"$f":"ResultsCalc(Players!$E32,Players!$G32,Players!FP32,Players!FR32)","v":0},0,"-",0,{"$f":"ResultsCalc(Players!$E32,Players!$G32,Players!FT32,Players!FV32)","v":0},0,"-",2,{"$f":"ResultsCalc(Players!$E32,Players!$G32,Players!FX32,Players!FZ32)","v":4},2,"-",3,{"$f":"ResultsCalc(Players!$E32,Players!$G32,Players!GB32,Players!GD32)","v":4},1,"-",3,{"$f":"ResultsCalc(Players!$E32,Players!$G32,Players!GF32,Players!GH32)","v":6},0,"-",2,{"$f":"ResultsCalc(Players!$E32,Players!$G32,Players!GJ32,Players!GL32)","v":4},1,"-",2,{"$f":"ResultsCalc(Players!$E32,Players!$G32,Players!GN32,Players!GP32)","v":6},0,"-",1,{"$f":"ResultsCalc(Players!$E32,Players!$G32,Players!GR32,Players!GT32)","v":4},1,"-",1,{"$f":"ResultsCalc(Players!$E32,Players!$G32,Players!GV32,Players!GX32)","v":2},2,"-",1,{"$f":"ResultsCalc(Players!$E32,Players!$G32,Players!GZ32,Players!HB32)","v":0},2,"-",2,{"$f":"ResultsCalc(Players!$E32,Players!$G32,Players!HD32,Players!HF32)","v":0},1,"-",3,{"$f":"ResultsCalc(Players!$E32,Players!$G32,Players!HH32,Players!HJ32)","v":6},1,"-",1,{"$f":"ResultsCalc(Players!$E32,Players!$G32,Players!HL32,Players!HN32)","v":2},2,"-",2,{"$f":"ResultsCalc(Players!$E32,Players!$G32,Players!HP32,Players!HR32)","v":0},1,"-",2,{"$f":"ResultsCalc(Players!$E32,Players!$G32,Players!HT32,Players!HV32)","v":6},1,"-",2,{"$f":"ResultsCalc(Players!$E32,Players!$G32,Players!HX32,Players!HZ32)","v":6},1,"-",0,{"$f":"ResultsCalc(Players!$E32,Players!$G32,Players!IB32,Players!ID32)","v":2},2,"-",1,{"$f":"ResultsCalc(Players!$E32,Players!$G32,Players!IF32,Players!IH32)","v":0},1,"-",2,{"$f":"ResultsCalc(Players!$E32,Players!$G32,Players!IJ32,Players!IL32)","v":6},2,"-",2,{"$f":"ResultsCalc(Players!$E32,Players!$G32,Players!IN32,Players!IP32)","v":0},1,"-",2,{"$f":"ResultsCalc(Players!$E32,Players!$G32,Players!IR32,Players!IT32)","v":6},1,"-",2,{"$f":"ResultsCalc(Players!$E32,Players!$G32,Players!IV32,Players!IX32)","v":6},0,"-",1,{"$f":"ResultsCalc(Players!$E32,Players!$G32,Players!IZ32,Players!JB32)","v":4},0,"-",2,{"$f":"ResultsCalc(Players!$E32,Players!$G32,Players!JD32,Players!JF32)","v":4},0,"-",3,{"$f":"ResultsCalc(Players!$E32,Players!$G32,Players!JH32,Players!JJ32)","v":6},2,"-",1,{"$f":"ResultsCalc(Players!$E32,Players!$G32,Players!JL32,Players!JN32)","v":0},2,"-",1,{"$f":"ResultsCalc(Players!$E32,Players!$G32,Players!JP32,Players!JR32)","v":0},1,"-",2,{"$f":"ResultsCalc(Players!$E32,Players!$G32,Players!JT32,Players!JV32)","v":6},1,"-",1,{"$f":"ResultsCalc(Players!$E32,Players!$G32,Players!JX32,Players!JZ32)","v":2},2,"-",3,{"$f":"ResultsCalc(Players!$E32,Players!$G32,Players!KB32,Players!KD32)","v":4},0,"-",2,{"$f":"ResultsCalc(Players!$E32,Players!$G32,Players!KF32,Players!KH32)","v":4},1,"-",2,{"$f":"ResultsCalc(Players!$E32,Players!$G32,Players!KJ32,Players!KL32)","v":6},1,"-",1,{"$f":"ResultsCalc(Players!$E32,Players!$G32,Players!KN32,Players!KP32)","v":2},0,"-",2,{"$f":"ResultsCalc(Players!$E32,Players!$G32,Players!KR32,Players!KT32)","v":4},1,"-",2,{"$f":"ResultsCalc(Players!$E32,Players!$G32,Players!KV32,Players!KX32)","v":6},0,"-",1,{"$f":"ResultsCalc(Players!$E32,Players!$G32,Players!KZ32,Players!LB32)","v":4},1,"-",2,{"$f":"ResultsCalc(Players!$E32,Players!$G32,Players!LD32,Players!LF32)","v":6},0,"-",0,{"$f":"ResultsCalc(Players!$E32,Players!$G32,Players!LH32,Players!LJ32)","v":0},0,"-",2,{"$f":"ResultsCalc(Players!$E32,Players!$G32,Players!LL32,Players!LN32)","v":4},2,"-",1,{"$f":"ResultsCalc(Players!$E32,Players!$G32,Players!LP32,Players!LR32)","v":0},1,"-",2,{"$f":"ResultsCalc(Players!$E32,Players!$G32,Players!LT32,Players!LV32)","v":6},2,"-",1,{"$f":"ResultsCalc(Players!$E32,Players!$G32,Players!LX32,Players!LZ32)","v":0},0,"-",2,{"$f":"ResultsCalc(Players!$E32,Players!$G32,Players!MB32,Players!MD32)","v":4},1,"-",1,{"$f":"ResultsCalc(Players!$E32,Players!$G32,Players!MF32,Players!MH32)","v":2},4,"-",2,{"$f":"ResultsCalc(Players!$E32,Players!$G32,Players!MJ32,Players!ML32)","v":0},1,"-",0,{"$f":"ResultsCalc(Players!$E32,Players!$G32,Players!MN32,Players!MP32)","v":2},1,"-",1,{"$f":"ResultsCalc(Players!$E32,Players!$G32,Players!MR32,Players!MT32)","v":2},1,"-",1,{"$f":"ResultsCalc(Players!$E32,Players!$G32,Players!MV32,Players!MX32)","v":2},2,"-",1,{"$f":"ResultsCalc(Players!$E32,Players!$G32,Players!MZ32,Players!NB32)","v":0},1,"-",1,{"$f":"ResultsCalc(Players!$E32,Players!$G32,Players!ND32,Players!NF32)","v":2},1,"-",1,{"$f":"ResultsCalc(Players!$E32,Players!$G32,Players!NH32,Players!NJ32)","v":2},1,"-",1,{"$f":"ResultsCalc(Players!$E32,Players!$G32,Players!NL32,Players!NN32)","v":2},0,"-",2,{"$f":"ResultsCalc(Players!$E32,Players!$G32,Players!NP32,Players!NR32)","v":4},1,"-",1,{"$f":"ResultsCalc(Players!$E32,Players!$G32,Players!NT32,Players!NV32)","v":2},1,"-",1,{"$f":"ResultsCalc(Players!$E32,Players!$G32,Players!NX32,Players!NZ32)","v":2},1,"-",1,{"$f":"ResultsCalc(Players!$E32,Players!$G32,Players!OB32,Players!OD32)","v":2},0,"-",1,{"$f":"ResultsCalc(Players!$E32,Players!$G32,Players!OF32,Players!OH32)","v":4},0,"-",1,{"$f":"ResultsCalc(Players!$E32,Players!$G32,Players!OJ32,Players!OL32)","v":4},0,"-",0,{"$f":"ResultsCalc(Players!$E32,Players!$G32,Players!ON32,Players!OP32)","v":0},1,"-",1,{"$f":"ResultsCalc(Players!$E32,Players!$G32,Players!OR32,Players!OT32)","v":2},2,"-",2,{"$f":"ResultsCalc(Players!$E32,Players!$G32,Players!OV32,Players!OX32)","v":0},2,"-",1,{"$f":"ResultsCalc(Players!$E32,Players!$G32,Players!OZ32,Players!PB32)","v":0},2,"-",2,{"$f":"ResultsCalc(Players!$E32,Players!$G32,Players!PD32,Players!PF32)","v":0},3,"-",0,{"$f":"ResultsCalc(Players!$E32,Players!$G32,Players!PH32,Players!PJ32)","v":0},4,"-",3,{"$f":"ResultsCalc(Players!$E32,Players!$G32,Players!PL32,Players!PN32)","v":0},2,"-",2,{"$f":"ResultsCalc(Players!$E32,Players!$G32,Players!PP32,Players!PR32)","v":0},0,"-",1,{"$f":"ResultsCalc(Players!$E32,Players!$G32,Players!PT32,Players!PV32)","v":4},1,"-",1,{"$f":"ResultsCalc(Players!$E32,Players!$G32,Players!PX32,Players!PZ32)","v":2},1,"-",1,{"$f":"ResultsCalc(Players!$E32,Players!$G32,Players!QB32,Players!QD32)","v":2},0,"-",2,{"$f":"ResultsCalc(Players!$E32,Players!$G32,Players!QF32,Players!QH32)","v":4},1,"-",0,{"$f":"ResultsCalc(Players!$E32,Players!$G32,Players!QJ32,Players!QL32)","v":2},null,0,null,6,23]
["2021-06-22",31,"Czech Republic","England",0,"-",1,1,"-",3,{"$f":"ResultsCalc(Players!$E33,Players!$G33,Players!H33,Players!J33)","v":4},1,"-",2,{"$f":"ResultsCalc(Players!$E33,Players!$G33,Players!L33,Players!N33)","v":6},1,"-",1,{"$f":"ResultsCalc(Players!$E33,Players!$G33,Players!P33,Players!R33)","v":2},1,"-",3,{"$f":"ResultsCalc(Players!$E33,Players!$G33,Players!T33,Players!V33)","v":4},1,"-",2,{"$f":"ResultsCalc(Players!$E33,Players!$G33,Players!X33,Players!Z33)","v":6},0,"-",0,{"$f":"ResultsCalc(Players!$E33,Players!$G33,Players!AB33,Players!AD33)","v":2},1,"-",2,{"$f":"ResultsCalc(Players!$E33,Players!$G33,Players!AF33,Players!AH33)","v":6},1,"-",2,{"$f":"ResultsCalc(Players!$E33,Players!$G33,Players!AJ33,Players!AL33)","v":6},2,"-",2,{"$f":"ResultsCalc(Players!$E33,Players!$G33,Players!AN33,Players!AP33)","v":0},0,"-",1,{"$f":"ResultsCalc(Players!$E33,Players!$G33,Players!AR33,Players!AT33)","v":11},0,"-",0,{"$f":"ResultsCalc(Players!$E33,Players!$G33,Players!AV33,Players!AX33)","v":2},1,"-",2,{"$f":"ResultsCalc(Players!$E33,Players!$G33,Players!AZ33,Players!BB33)","v":6},1,"-",2,{"$f":"ResultsCalc(Players!$E33,Players!$G33,Players!BD33,Players!BF33)","v":6},1,"-",1,{"$f":"ResultsCalc(Players!$E33,Players!$G33,Players!BH33,Players!BJ33)","v":2},2,"-",3,{"$f":"ResultsCalc(Players!$E33,Players!$G33,Players!BL33,Players!BN33)","v":6},1,"-",2,{"$f":"ResultsCalc(Players!$E33,Players!$G33,Players!BP33,Players!BR33)","v":6},2,"-",2,{"$f":"ResultsCalc(Players!$E33,Players!$G33,Players!BT33,Players!BV33)","v":0},1,"-",2,{"$f":"ResultsCalc(Players!$E33,Players!$G33,Players!BX33,Players!BZ33)","v":6},1,"-",2,{"$f":"ResultsCalc(Players!$E33,Players!$G33,Players!CB33,Players!CD33)","v":6},2,"-",2,{"$f":"ResultsCalc(Players!$E33,Players!$G33,Players!CF33,Players!CH33)","v":0},1,"-",3,{"$f":"ResultsCalc(Players!$E33,Players!$G33,Players!CJ33,Players!CL33)","v":4},1,"-",2,{"$f":"ResultsCalc(Players!$E33,Players!$G33,Players!CN33,Players!CP33)","v":6},1,"-",2,{"$f":"ResultsCalc(Players!$E33,Players!$G33,Players!CR33,Players!CT33)","v":6},1,"-",2,{"$f":"ResultsCalc(Players!$E33,Players!$G33,Players!CV33,Players!CX33)","v":6},0,"-",1,{"$f":"ResultsCalc(Players!$E33,Players!$G33,Players!CZ33,Players!DB33)","v":11},2,"-",2,{"$f":"ResultsCalc(Players!$E33,Players!$G33,Players!DD33,Players!DF33)","v":0},1,"-",2,{"$f":"ResultsCalc(Players!$E33,Players!$G33,Players!DH33,Players!DJ33)","v":6},0,"-",2,{"$f":"ResultsCalc(Players!$E33,Players!$G33,Players!DL33,Players!DN33)","v":6},0,"-",2,{"$f":"ResultsCalc(Players!$E33,Players!$G33,Players!DP33,Players!DR33)","v":6},1,"-",3,{"$f":"ResultsCalc(Players!$E33,Players!$G33,Players!DT33,Players!DV33)","v":4},0,"-",3,{"$f":"ResultsCalc(Players!$E33,Players!$G33,Players!DX33,Players!DZ33)","v":6},1,"-",2,{"$f":"ResultsCalc(Players!$E33,Players!$G33,Players!EB33,Players!ED33)","v":6},2,"-",1,{"$f":"ResultsCalc(Players!$E33,Players!$G33,Players!EF33,Players!EH33)","v":2},1,"-",2,{"$f":"ResultsCalc(Players!$E33,Players!$G33,Players!EJ33,Players!EL33)","v":6},0,"-",2,{"$f":"ResultsCalc(Players!$E33,Players!$G33,Players!EN33,Players!EP33)","v":6},0,"-",2,{"$f":"ResultsCalc(Players!$E33,Players!$G33,Players!ER33,Players!ET33)","v":6},1,"-",2,{"$f":"ResultsCalc(Players!$E33,Players!$G33,Players!EV33,Players!EX33)","v":6},0,"-",1,{"$f":"ResultsCalc(Players!$E33,Players!$G33,Players!EZ33,Players!FB33)","v":11},1,"-",2,{"$f":"ResultsCalc(Players!$E33,Players!$G33,Players!FD33,Players!FF33)","v":6},0,"-",3,{"$f":"ResultsCalc(Players!$E33,Players!$G33,Players!FH33,Players!FJ33)","v":6},0,"-",3,{"$f":"ResultsCalc(Players!$E33,Players!$G33,Players!FL33,Players!FN33)","v":6},1,"-",1,{"$f":"ResultsCalc(Players!$E33,Players!$G33,Players!FP33,Players!FR33)","v":2},2,"-",3,{"$f":"ResultsCalc(Players!$E33,Players!$G33,Players!FT33,Players!FV33)","v":6},0,"-",3,{"$f":"ResultsCalc(Players!$E33,Players!$G33,Players!FX33,Players!FZ33)","v":6},1,"-",1,{"$f":"ResultsCalc(Players!$E33,Players!$G33,Players!GB33,Players!GD33)","v":2},1,"-",3,{"$f":"ResultsCalc(Players!$E33,Players!$G33,Players!GF33,Players!GH33)","v":4},1,"-",3,{"$f":"ResultsCalc(Players!$E33,Players!$G33,Players!GJ33,Players!GL33)","v":4},0,"-",2,{"$f":"ResultsCalc(Players!$E33,Players!$G33,Players!GN33,Players!GP33)","v":6},1,"-",3,{"$f":"ResultsCalc(Players!$E33,Players!$G33,Players!GR33,Players!GT33)","v":4},1,"-",1,{"$f":"ResultsCalc(Players!$E33,Players!$G33,Players!GV33,Players!GX33)","v":2},0,"-",4,{"$f":"ResultsCalc(Players!$E33,Players!$G33,Players!GZ33,Players!HB33)","v":6},2,"-",3,{"$f":"ResultsCalc(Players!$E33,Players!$G33,Players!HD33,Players!HF33)","v":6},1,"-",3,{"$f":"ResultsCalc(Players!$E33,Players!$G33,Players!HH33,Players!HJ33)","v":4},1,"-",4,{"$f":"ResultsCalc(Players!$E33,Players!$G33,Players!HL33,Players!HN33)","v":4},1,"-",2,{"$f":"ResultsCalc(Players!$E33,Players!$G33,Players!HP33,Players!HR33)","v":6},1,"-",2,{"$f":"ResultsCalc(Players!$E33,Players!$G33,Players!HT33,Players!HV33)","v":6},0,"-",2,{"$f":"ResultsCalc(Players!$E33,Players!$G33,Players!HX33,Players!HZ33)","v":6},1,"-",2,{"$f":"ResultsCalc(Players!$E33,Players!$G33,Players!IB33,Players!ID33)","v":6},2,"-",2,{"$f":"ResultsCalc(Players!$E33,Players!$G33,Players!IF33,Players!IH33)","v":0},1,"-",1,{"$f":"ResultsCalc(Players!$E33,Players!$G33,Players!IJ33,Players!IL33)","v":2},0,"-",1,{"$f":"ResultsCalc(Players!$E33,Players!$G33,Players!IN33,Players!IP33)","v":11},0,"-",3,{"$f":"ResultsCalc(Players!$E33,Players!$G33,Players!IR33,Players!IT33)","v":6},1,"-",2,{"$f":"ResultsCalc(Players!$E33,Players!$G33,Players!IV33,Players!IX33)","v":6},0,"-",2,{"$f":"ResultsCalc(Players!$E33,Players!$G33,Players!IZ33,Players!JB33)","v":6},0,"-",3,{"$f":"ResultsCalc(Players!$E33,Players!$G33,Players!JD33,Players!JF33)","v":6},2,"-",1,{"$f":"ResultsCalc(Players!$E33,Players!$G33,Players!JH33,Players!JJ33)","v":2},1,"-",2,{"$f":"ResultsCalc(Players!$E33,Players!$G33,Players!JL33,Players!JN33)","v":6},1,"-",2,{"$f":"ResultsCalc(Players!$E33,Players!$G33,Players!JP33,Players!JR33)","v":6},1,"-",2,{"$f":"ResultsCalc(Players!$E33,Players!$G33,Players!JT33,Players!JV33)","v":6},1,"-",2,{"$f":"ResultsCalc(Players!$E33,Players!$G33,Players!JX33,Players!JZ33)","v":6},0,"-",4,{"$f":"ResultsCalc(Players!$E33,Players!$G33,Players!KB33,Players!KD33)","v":6},0,"-",1,{"$f":"ResultsCalc(Players!$E33,Players!$G33,Players!KF33,Players!KH33)","v":11},0,"-",1,{"$f":"ResultsCalc(Players!$E33,Players!$G33,Players!KJ33,Players!KL33)","v":11},1,"-",2,{"$f":"ResultsCalc(Players!$E33,Players!$G33,Players!KN33,Players!KP33)","v":6},1,"-",2,{"$f":"ResultsCalc(Players!$E33,Players!$G33,Players!KR33,Players!KT33)","v":6},1,"-",4,{"$f":"ResultsCalc(Players!$E33,Players!$G33,Players!KV33,Players!KX33)","v":4},1,"-",3,{"$f":"ResultsCalc(Players!$E33,Players!$G33,Players!KZ33,Players!LB33)","v":4},1,"-",2,{"$f":"ResultsCalc(Players!$E33,Players!$G33,Players!LD33,Players!LF33)","v":6},2,"-",2,{"$f":"ResultsCalc(Players!$E33,Players!$G33,Players!LH33,Players!LJ33)","v":0},1,"-",1,{"$f":"ResultsCalc(Players!$E33,Players!$G33,Players!LL33,Players!LN33)","v":2},1,"-",2,{"$f":"ResultsCalc(Players!$E33,Players!$G33,Players!LP33,Players!LR33)","v":6},1,"-",2,{"$f":"ResultsCalc(Players!$E33,Players!$G33,Players!LT33,Players!LV33)","v":6},1,"-",3,{"$f":"ResultsCalc(Players!$E33,Players!$G33,Players!LX33,Players!LZ33)","v":4},0,"-",2,{"$f":"ResultsCalc(Players!$E33,Players!$G33,Players!MB33,Players!MD33)","v":6},0,"-",1,{"$f":"ResultsCalc(Players!$E33,Players!$G33,Players!MF33,Players!MH33)","v":11},1,"-",2,{"$f":"ResultsCalc(Players!$E33,Players!$G33,Players!MJ33,Players!ML33)","v":6},2,"-",3,{"$f":"ResultsCalc(Players!$E33,Players!$G33,Players!MN33,Players!MP33)","v":6},0,"-",2,{"$f":"ResultsCalc(Players!$E33,Players!$G33,Players!MR33,Players!MT33)","v":6},1,"-",3,{"$f":"ResultsCalc(Players!$E33,Players!$G33,Players!MV33,Players!MX33)","v":4},1,"-",2,{"$f":"ResultsCalc(Players!$E33,Players!$G33,Players!MZ33,Players!NB33)","v":6},0,"-",1,{"$f":"ResultsCalc(Players!$E33,Players!$G33,Players!ND33,Players!NF33)","v":11},1,"-",3,{"$f":"ResultsCalc(Players!$E33,Players!$G33,Players!NH33,Players!NJ33)","v":4},2,"-",3,{"$f":"ResultsCalc(Players!$E33,Players!$G33,Players!NL33,Players!NN33)","v":6},0,"-",3,{"$f":"ResultsCalc(Players!$E33,Players!$G33,Players!NP33,Players!NR33)","v":6},1,"-",2,{"$f":"ResultsCalc(Players!$E33,Players!$G33,Players!NT33,Players!NV33)","v":6},0,"-",3,{"$f":"ResultsCalc(Players!$E33,Players!$G33,Players!NX33,Players!NZ33)","v":6},0,"-",2,{"$f":"ResultsCalc(Players!$E33,Players!$G33,Players!OB33,Players!OD33)","v":6},0,"-",3,{"$f":"ResultsCalc(Players!$E33,Players!$G33,Players!OF33,Players!OH33)","v":6},1,"-",1,{"$f":"ResultsCalc(Players!$E33,Players!$G33,Players!OJ33,Players!OL33)","v":2},0,"-",2,{"$f":"ResultsCalc(Players!$E33,Players!$G33,Players!ON33,Players!OP33)","v":6},1,"-",3,{"$f":"ResultsCalc(Players!$E33,Players!$G33,Players!OR33,Players!OT33)","v":4},2,"-",4,{"$f":"ResultsCalc(Players!$E33,Players!$G33,Players!OV33,Players!OX33)","v":4},0,"-",3,{"$f":"ResultsCalc(Players!$E33,Players!$G33,Players!OZ33,Players!PB33)","v":6},0,"-",1,{"$f":"ResultsCalc(Players!$E33,Players!$G33,Players!PD33,Players!PF33)","v":11},1,"-",2,{"$f":"ResultsCalc(Players!$E33,Players!$G33,Players!PH33,Players!PJ33)","v":6},1,"-",2,{"$f":"ResultsCalc(Players!$E33,Players!$G33,Players!PL33,Players!PN33)","v":6},1,"-",3,{"$f":"ResultsCalc(Players!$E33,Players!$G33,Players!PP33,Players!PR33)","v":4},2,"-",3,{"$f":"ResultsCalc(Players!$E33,Players!$G33,Players!PT33,Players!PV33)","v":6},1,"-",0,{"$f":"ResultsCalc(Players!$E33,Players!$G33,Players!PX33,Players!PZ33)","v":0},1,"-",2,{"$f":"ResultsCalc(Players!$E33,Players!$G33,Players!QB33,Players!QD33)","v":6},0,"-",2,{"$f":"ResultsCalc(Players!$E33,Players!$G33,Players!QF33,Players!QH33)","v":6},0,"-",1,{"$f":"ResultsCalc(Players!$E33,Players!$G33,Players!QJ33,Players!QL33)","v":11},null,10,null,11,10]
["2021-06-22",32,"Croatia","Scotland",3,"-",1,2,"-",0,{"$f":"ResultsCalc(Players!$E34,Players!$G34,Players!H34,Players!J34)","v":6},2,"-",1,{"$f":"ResultsCalc(Players!$E34,Players!$G34,Players!L34,Players!N34)","v":6},2,"-",0,{"$f":"ResultsCalc(Players!$E34,Players!$G34,Players!P34,Players!R34)","v":6},3,"-",0,{"$f":"ResultsCalc(Players!$E34,Players!$G34,Players!T34,Players!V34)","v":6},0,"-",2,{"$f":"ResultsCalc(Players!$E34,Players!$G34,Players!X34,Players!Z34)","v":0},1,"-",0,{"$f":"ResultsCalc(Players!$E34,Players!$G34,Players!AB34,Players!AD34)","v":4},1,"-",0,{"$f":"ResultsCalc(Players!$E34,Players!$G34,Players!AF34,Players!AH34)","v":4},3,"-",1,{"$f":"ResultsCalc(Players!$E34,Players!$G34,Players!AJ34,Players!AL34)","v":14},1,"-",2,{"$f":"ResultsCalc(Players!$E34,Players!$G34,Players!AN34,Players!AP34)","v":0},1,"-",1,{"$f":"ResultsCalc(Players!$E34,Players!$G34,Players!AR34,Players!AT34)","v":2},1,"-",1,{"$f":"ResultsCalc(Players!$E34,Players!$G34,Players!AV34,Players!AX34)","v":2},1,"-",1,{"$f":"ResultsCalc(Players!$E34,Players!$G34,Players!AZ34,Players!BB34)","v":2},1,"-",1,{"$f":"ResultsCalc(Players!$E34,Players!$G34,Players!BD34,Players!BF34)","v":2},1,"-",0,{"$f":"ResultsCalc(Players!$E34,Players!$G34,Players!BH34,Players!BJ34)","v":4},2,"-",1,{"$f":"ResultsCalc(Players!$E34,Players!$G34,Players!BL34,Players!BN34)","v":6},3,"-",2,{"$f":"ResultsCalc(Players!$E34,Players!$G34,Players!BP34,Players!BR34)","v":6},3,"-",1,{"$f":"ResultsCalc(Players!$E34,Players!$G34,Players!BT34,Players!BV34)","v":14},2,"-",1,{"$f":"ResultsCalc(Players!$E34,Players!$G34,Players!BX34,Players!BZ34)","v":6},2,"-",0,{"$f":"ResultsCalc(Players!$E34,Players!$G34,Players!CB34,Players!CD34)","v":6},1,"-",0,{"$f":"ResultsCalc(Players!$E34,Players!$G34,Players!CF34,Players!CH34)","v":4},2,"-",1,{"$f":"ResultsCalc(Players!$E34,Players!$G34,Players!CJ34,Players!CL34)","v":6},2,"-",0,{"$f":"ResultsCalc(Players!$E34,Players!$G34,Players!CN34,Players!CP34)","v":6},2,"-",0,{"$f":"ResultsCalc(Players!$E34,Players!$G34,Players!CR34,Players!CT34)","v":6},3,"-",0,{"$f":"ResultsCalc(Players!$E34,Players!$G34,Players!CV34,Players!CX34)","v":6},1,"-",0,{"$f":"ResultsCalc(Players!$E34,Players!$G34,Players!CZ34,Players!DB34)","v":4},1,"-",1,{"$f":"ResultsCalc(Players!$E34,Players!$G34,Players!DD34,Players!DF34)","v":2},1,"-",2,{"$f":"ResultsCalc(Players!$E34,Players!$G34,Players!DH34,Players!DJ34)","v":0},1,"-",1,{"$f":"ResultsCalc(Players!$E34,Players!$G34,Players!DL34,Players!DN34)","v":2},1,"-",1,{"$f":"ResultsCalc(Players!$E34,Players!$G34,Players!DP34,Players!DR34)","v":2},1,"-",1,{"$f":"ResultsCalc(Players!$E34,Players!$G34,Players!DT34,Players!DV34)","v":2},2,"-",0,{"$f":"ResultsCalc(Players!$E34,Players!$G34,Players!DX34,Players!DZ34)","v":6},2,"-",0,{"$f":"ResultsCalc(Players!$E34,Players!$G34,Players!EB34,Players!ED34)","v":6},0,"-",1,{"$f":"ResultsCalc(Players!$E34,Players!$G34,Players!EF34,Players!EH34)","v":2},1,"-",0,{"$f":"ResultsCalc(Players!$E34,Players!$G34,Players!EJ34,Players!EL34)","v":4},2,"-",0,{"$f":"ResultsCalc(Players!$E34,Players!$G34,Players!EN34,Players!EP34)","v":6},2,"-",1,{"$f":"ResultsCalc(Players!$E34,Players!$G34,Players!ER34,Players!ET34)","v":6},2,"-",0,{"$f":"ResultsCalc(Players!$E34,Players!$G34,Players!EV34,Players!EX34)","v":6},2,"-",2,{"$f":"ResultsCalc(Players!$E34,Players!$G34,Players!EZ34,Players!FB34)","v":0},2,"-",2,{"$f":"ResultsCalc(Players!$E34,Players!$G34,Players!FD34,Players!FF34)","v":0},2,"-",1,{"$f":"ResultsCalc(Players!$E34,Players!$G34,Players!FH34,Players!FJ34)","v":6},2,"-",2,{"$f":"ResultsCalc(Players!$E34,Players!$G34,Players!FL34,Players!FN34)","v":0},2,"-",2,{"$f":"ResultsCalc(Players!$E34,Players!$G34,Players!FP34,Players!FR34)","v":0},1,"-",1,{"$f":"ResultsCalc(Players!$E34,Players!$G34,Players!FT34,Players!FV34)","v":2},2,"-",0,{"$f":"ResultsCalc(Players!$E34,Players!$G34,Players!FX34,Players!FZ34)","v":6},2,"-",1,{"$f":"ResultsCalc(Players!$E34,Players!$G34,Players!GB34,Players!GD34)","v":6},2,"-",0,{"$f":"ResultsCalc(Players!$E34,Players!$G34,Players!GF34,Players!GH34)","v":6},2,"-",1,{"$f":"ResultsCalc(Players!$E34,Players!$G34,Players!GJ34,Players!GL34)","v":6},2,"-",1,{"$f":"ResultsCalc(Players!$E34,Players!$G34,Players!GN34,Players!GP34)","v":6},2,"-",1,{"$f":"ResultsCalc(Players!$E34,Players!$G34,Players!GR34,Players!GT34)","v":6},1,"-",0,{"$f":"ResultsCalc(Players!$E34,Players!$G34,Players!GV34,Players!GX34)","v":4},2,"-",0,{"$f":"ResultsCalc(Players!$E34,Players!$G34,Players!GZ34,Players!HB34)","v":6},1,"-",1,{"$f":"ResultsCalc(Players!$E34,Players!$G34,Players!HD34,Players!HF34)","v":2},2,"-",1,{"$f":"ResultsCalc(Players!$E34,Players!$G34,Players!HH34,Players!HJ34)","v":6},2,"-",0,{"$f":"ResultsCalc(Players!$E34,Players!$G34,Players!HL34,Players!HN34)","v":6},2,"-",2,{"$f":"ResultsCalc(Players!$E34,Players!$G34,Players!HP34,Players!HR34)","v":0},2,"-",0,{"$f":"ResultsCalc(Players!$E34,Players!$G34,Players!HT34,Players!HV34)","v":6},2,"-",1,{"$f":"ResultsCalc(Players!$E34,Players!$G34,Players!HX34,Players!HZ34)","v":6},2,"-",1,{"$f":"ResultsCalc(Players!$E34,Players!$G34,Players!IB34,Players!ID34)","v":6},2,"-",0,{"$f":"ResultsCalc(Players!$E34,Players!$G34,Players!IF34,Players!IH34)","v":6},2,"-",1,{"$f":"ResultsCalc(Players!$E34,Players!$G34,Players!IJ34,Players!IL34)","v":6},3,"-",1,{"$f":"ResultsCalc(Players!$E34,Players!$G34,Players!IN34,Players!IP34)","v":14},2,"-",0,{"$f":"ResultsCalc(Players!$E34,Players!$G34,Players!IR34,Players!IT34)","v":6},2,"-",0,{"$f":"ResultsCalc(Players!$E34,Players!$G34,Players!IV34,Players!IX34)","v":6},3,"-",1,{"$f":"ResultsCalc(Players!$E34,Players!$G34,Players!IZ34,Players!JB34)","v":14},1,"-",1,{"$f":"ResultsCalc(Players!$E34,Players!$G34,Players!JD34,Players!JF34)","v":2},2,"-",2,{"$f":"ResultsCalc(Players!$E34,Players!$G34,Players!JH34,Players!JJ34)","v":0},2,"-",1,{"$f":"ResultsCalc(Players!$E34,Players!$G34,Players!JL34,Players!JN34)","v":6},2,"-",1,{"$f":"ResultsCalc(Players!$E34,Players!$G34,Players!JP34,Players!JR34)","v":6},1,"-",1,{"$f":"ResultsCalc(Players!$E34,Players!$G34,Players!JT34,Players!JV34)","v":2},1,"-",1,{"$f":"ResultsCalc(Players!$E34,Players!$G34,Players!JX34,Players!JZ34)","v":2},1,"-",1,{"$f":"ResultsCalc(Players!$E34,Players!$G34,Players!KB34,Players!KD34)","v":2},1,"-",0,{"$f":"ResultsCalc(Players!$E34,Players!$G34,Players!KF34,Players!KH34)","v":4},2,"-",0,{"$f":"ResultsCalc(Players!$E34,Players!$G34,Players!KJ34,Players!KL34)","v":6},2,"-",0,{"$f":"ResultsCalc(Players!$E34,Players!$G34,Players!KN34,Players!KP34)","v":6},1,"-",0,{"$f":"ResultsCalc(Players!$E34,Players!$G34,Players!KR34,Players!KT34)","v":4},3,"-",1,{"$f":"ResultsCalc(Players!$E34,Players!$G34,Players!KV34,Players!KX34)","v":14},2,"-",1,{"$f":"ResultsCalc(Players!$E34,Players!$G34,Players!KZ34,Players!LB34)","v":6},1,"-",1,{"$f":"ResultsCalc(Players!$E34,Players!$G34,Players!LD34,Players!LF34)","v":2},2,"-",1,{"$f":"ResultsCalc(Players!$E34,Players!$G34,Players!LH34,Players!LJ34)","v":6},1,"-",0,{"$f":"ResultsCalc(Players!$E34,Players!$G34,Players!LL34,Players!LN34)","v":4},2,"-",0,{"$f":"ResultsCalc(Players!$E34,Players!$G34,Players!LP34,Players!LR34)","v":6},0,"-",1,{"$f":"ResultsCalc(Players!$E34,Players!$G34,Players!LT34,Players!LV34)","v":2},2,"-",1,{"$f":"ResultsCalc(Players!$E34,Players!$G34,Players!LX34,Players!LZ34)","v":6},0,"-",0,{"$f":"ResultsCalc(Players!$E34,Players!$G34,Players!MB34,Players!MD34)","v":0},1,"-",0,{"$f":"ResultsCalc(Players!$E34,Players!$G34,Players!MF34,Players!MH34)","v":4},2,"-",0,{"$f":"ResultsCalc(Players!$E34,Players!$G34,Players!MJ34,Players!ML34)","v":6},2,"-",0,{"$f":"ResultsCalc(Players!$E34,Players!$G34,Players!MN34,Players!MP34)","v":6},2,"-",1,{"$f":"ResultsCalc(Players!$E34,Players!$G34,Players!MR34,Players!MT34)","v":6},3,"-",1,{"$f":"ResultsCalc(Players!$E34,Players!$G34,Players!MV34,Players!MX34)","v":14},2,"-",1,{"$f":"ResultsCalc(Players!$E34,Players!$G34,Players!MZ34,Players!NB34)","v":6},3,"-",1,{"$f":"ResultsCalc(Players!$E34,Players!$G34,Players!ND34,Players!NF34)","v":14},2,"-",1,{"$f":"ResultsCalc(Players!$E34,Players!$G34,Players!NH34,Players!NJ34)","v":6},2,"-",1,{"$f":"ResultsCalc(Players!$E34,Players!$G34,Players!NL34,Players!NN34)","v":6},2,"-",0,{"$f":"ResultsCalc(Players!$E34,Players!$G34,Players!NP34,Players!NR34)","v":6},3,"-",0,{"$f":"ResultsCalc(Players!$E34,Players!$G34,Players!NT34,Players!NV34)","v":6},4,"-",0,{"$f":"ResultsCalc(Players!$E34,Players!$G34,Players!NX34,Players!NZ34)","v":4},1,"-",1,{"$f":"ResultsCalc(Players!$E34,Players!$G34,Players!OB34,Players!OD34)","v":2},1,"-",1,{"$f":"ResultsCalc(Players!$E34,Players!$G34,Players!OF34,Players!OH34)","v":2},3,"-",0,{"$f":"ResultsCalc(Players!$E34,Players!$G34,Players!OJ34,Players!OL34)","v":6},1,"-",0,{"$f":"ResultsCalc(Players!$E34,Players!$G34,Players!ON34,Players!OP34)","v":4},2,"-",1,{"$f":"ResultsCalc(Players!$E34,Players!$G34,Players!OR34,Players!OT34)","v":6},3,"-",1,{"$f":"ResultsCalc(Players!$E34,Players!$G34,Players!OV34,Players!OX34)","v":14},1,"-",1,{"$f":"ResultsCalc(Players!$E34,Players!$G34,Players!OZ34,Players!PB34)","v":2},2,"-",1,{"$f":"ResultsCalc(Players!$E34,Players!$G34,Players!PD34,Players!PF34)","v":6},1,"-",1,{"$f":"ResultsCalc(Players!$E34,Players!$G34,Players!PH34,Players!PJ34)","v":2},4,"-",3,{"$f":"ResultsCalc(Players!$E34,Players!$G34,Players!PL34,Players!PN34)","v":4},3,"-",0,{"$f":"ResultsCalc(Players!$E34,Players!$G34,Players!PP34,Players!PR34)","v":6},2,"-",0,{"$f":"ResultsCalc(Players!$E34,Players!$G34,Players!PT34,Players!PV34)","v":6},0,"-",1,{"$f":"ResultsCalc(Players!$E34,Players!$G34,Players!PX34,Players!PZ34)","v":2},2,"-",1,{"$f":"ResultsCalc(Players!$E34,Players!$G34,Players!QB34,Players!QD34)","v":6},0,"-",3,{"$f":"ResultsCalc(Players!$E34,Players!$G34,Players!QF34,Players!QH34)","v":0},1,"-",1,{"$f":"ResultsCalc(Players!$E34,Players!$G34,Players!QJ34,Players!QL34)","v":2},null,8,null,14,8]
["2021-06-23",33,"Sweden","Poland",3,"-",2,0,"-",0,{"$f":"ResultsCalc(Players!$E35,Players!$G35,Players!H35,Players!J35)","v":0},1,"-",1,{"$f":"ResultsCalc(Players!$E35,Players!$G35,Players!L35,Players!N35)","v":0},1,"-",3,{"$f":"ResultsCalc(Players!$E35,Players!$G35,Players!P35,Players!R35)","v":0},1,"-",2,{"$f":"ResultsCalc(Players!$E35,Players!$G35,Players!T35,Players!V35)","v":2},1,"-",1,{"$f":"ResultsCalc(Players!$E35,Players!$G35,Players!X35,Players!Z35)","v":0},1,"-",1,{"$f":"ResultsCalc(Players!$E35,Players!$G35,Players!AB35,Players!AD35)","v":0},2,"-",1,{"$f":"ResultsCalc(Players!$E35,Players!$G35,Players!AF35,Players!AH35)","v":6},1,"-",2,{"$f":"ResultsCalc(Players!$E35,Players!$G35,Players!AJ35,Players!AL35)","v":2},1,"-",1,{"$f":"ResultsCalc(Players!$E35,Players!$G35,Players!AN35,Players!AP35)","v":0},1,"-",1,{"$f":"ResultsCalc(Players!$E35,Players!$G35,Players!AR35,Players!AT35)","v":0},0,"-",0,{"$f":"ResultsCalc(Players!$E35,Players!$G35,Players!AV35,Players!AX35)","v":0},2,"-",1,{"$f":"ResultsCalc(Players!$E35,Players!$G35,Players!AZ35,Players!BB35)","v":6},2,"-",0,{"$f":"ResultsCalc(Players!$E35,Players!$G35,Players!BD35,Players!BF35)","v":4},2,"-",1,{"$f":"ResultsCalc(Players!$E35,Players!$G35,Players!BH35,Players!BJ35)","v":6},1,"-",1,{"$f":"ResultsCalc(Players!$E35,Players!$G35,Players!BL35,Players!BN35)","v":0},2,"-",3,{"$f":"ResultsCalc(Players!$E35,Players!$G35,Players!BP35,Players!BR35)","v":0},2,"-",2,{"$f":"ResultsCalc(Players!$E35,Players!$G35,Players!BT35,Players!BV35)","v":2},1,"-",2,{"$f":"ResultsCalc(Players!$E35,Players!$G35,Players!BX35,Players!BZ35)","v":2},2,"-",2,{"$f":"ResultsCalc(Players!$E35,Players!$G35,Players!CB35,Players!CD35)","v":2},2,"-",1,{"$f":"ResultsCalc(Players!$E35,Players!$G35,Players!CF35,Players!CH35)","v":6},1,"-",1,{"$f":"ResultsCalc(Players!$E35,Players!$G35,Players!CJ35,Players!CL35)","v":0},1,"-",2,{"$f":"ResultsCalc(Players!$E35,Players!$G35,Players!CN35,Players!CP35)","v":2},0,"-",0,{"$f":"ResultsCalc(Players!$E35,Players!$G35,Players!CR35,Players!CT35)","v":0},2,"-",1,{"$f":"ResultsCalc(Players!$E35,Players!$G35,Players!CV35,Players!CX35)","v":6},1,"-",1,{"$f":"ResultsCalc(Players!$E35,Players!$G35,Players!CZ35,Players!DB35)","v":0},1,"-",1,{"$f":"ResultsCalc(Players!$E35,Players!$G35,Players!DD35,Players!DF35)","v":0},0,"-",2,{"$f":"ResultsCalc(Players!$E35,Players!$G35,Players!DH35,Players!DJ35)","v":2},1,"-",2,{"$f":"ResultsCalc(Players!$E35,Players!$G35,Players!DL35,Players!DN35)","v":2},0,"-",2,{"$f":"ResultsCalc(Players!$E35,Players!$G35,Players!DP35,Players!DR35)","v":2},1,"-",0,{"$f":"ResultsCalc(Players!$E35,Players!$G35,Players!DT35,Players!DV35)","v":6},2,"-",2,{"$f":"ResultsCalc(Players!$E35,Players!$G35,Players!DX35,Players!DZ35)","v":2},0,"-",2,{"$f":"ResultsCalc(Players!$E35,Players!$G35,Players!EB35,Players!ED35)","v":2},0,"-",2,{"$f":"ResultsCalc(Players!$E35,Players!$G35,Players!EF35,Players!EH35)","v":2},1,"-",2,{"$f":"ResultsCalc(Players!$E35,Players!$G35,Players!EJ35,Players!EL35)","v":2},1,"-",0,{"$f":"ResultsCalc(Players!$E35,Players!$G35,Players!EN35,Players!EP35)","v":6},1,"-",1,{"$f":"ResultsCalc(Players!$E35,Players!$G35,Players!ER35,Players!ET35)","v":0},1,"-",1,{"$f":"ResultsCalc(Players!$E35,Players!$G35,Players!EV35,Players!EX35)","v":0},1,"-",1,{"$f":"ResultsCalc(Players!$E35,Players!$G35,Players!EZ35,Players!FB35)","v":0},1,"-",1,{"$f":"ResultsCalc(Players!$E35,Players!$G35,Players!FD35,Players!FF35)","v":0},2,"-",2,{"$f":"ResultsCalc(Players!$E35,Players!$G35,Players!FH35,Players!FJ35)","v":2},1,"-",2,{"$f":"ResultsCalc(Players!$E35,Players!$G35,Players!FL35,Players!FN35)","v":2},3,"-",3,{"$f":"ResultsCalc(Players!$E35,Players!$G35,Players!FP35,Players!FR35)","v":2},2,"-",1,{"$f":"ResultsCalc(Players!$E35,Players!$G35,Players!FT35,Players!FV35)","v":6},2,"-",1,{"$f":"ResultsCalc(Players!$E35,Players!$G35,Players!FX35,Players!FZ35)","v":6},0,"-",3,{"$f":"ResultsCalc(Players!$E35,Players!$G35,Players!GB35,Players!GD35)","v":0},1,"-",2,{"$f":"ResultsCalc(Players!$E35,Players!$G35,Players!GF35,Players!GH35)","v":2},1,"-",1,{"$f":"ResultsCalc(Players!$E35,Players!$G35,Players!GJ35,Players!GL35)","v":0},0,"-",0,{"$f":"ResultsCalc(Players!$E35,Players!$G35,Players!GN35,Players!GP35)","v":0},1,"-",1,{"$f":"ResultsCalc(Players!$E35,Players!$G35,Players!GR35,Players!GT35)","v":0},0,"-",2,{"$f":"ResultsCalc(Players!$E35,Players!$G35,Players!GV35,Players!GX35)","v":2},1,"-",2,{"$f":"ResultsCalc(Players!$E35,Players!$G35,Players!GZ35,Players!HB35)","v":2},2,"-",2,{"$f":"ResultsCalc(Players!$E35,Players!$G35,Players!HD35,Players!HF35)","v":2},1,"-",2,{"$f":"ResultsCalc(Players!$E35,Players!$G35,Players!HH35,Players!HJ35)","v":2},1,"-",1,{"$f":"ResultsCalc(Players!$E35,Players!$G35,Players!HL35,Players!HN35)","v":0},3,"-",1,{"$f":"ResultsCalc(Players!$E35,Players!$G35,Players!HP35,Players!HR35)","v":6},1,"-",1,{"$f":"ResultsCalc(Players!$E35,Players!$G35,Players!HT35,Players!HV35)","v":0},1,"-",1,{"$f":"ResultsCalc(Players!$E35,Players!$G35,Players!HX35,Players!HZ35)","v":0},0,"-",2,{"$f":"ResultsCalc(Players!$E35,Players!$G35,Players!IB35,Players!ID35)","v":2},0,"-",2,{"$f":"ResultsCalc(Players!$E35,Players!$G35,Players!IF35,Players!IH35)","v":2},4,"-",3,{"$f":"ResultsCalc(Players!$E35,Players!$G35,Players!IJ35,Players!IL35)","v":6},1,"-",1,{"$f":"ResultsCalc(Players!$E35,Players!$G35,Players!IN35,Players!IP35)","v":0},1,"-",3,{"$f":"ResultsCalc(Players!$E35,Players!$G35,Players!IR35,Players!IT35)","v":0},1,"-",0,{"$f":"ResultsCalc(Players!$E35,Players!$G35,Players!IV35,Players!IX35)","v":6},2,"-",2,{"$f":"ResultsCalc(Players!$E35,Players!$G35,Players!IZ35,Players!JB35)","v":2},0,"-",0,{"$f":"ResultsCalc(Players!$E35,Players!$G35,Players!JD35,Players!JF35)","v":0},1,"-",1,{"$f":"ResultsCalc(Players!$E35,Players!$G35,Players!JH35,Players!JJ35)","v":0},1,"-",0,{"$f":"ResultsCalc(Players!$E35,Players!$G35,Players!JL35,Players!JN35)","v":6},1,"-",0,{"$f":"ResultsCalc(Players!$E35,Players!$G35,Players!JP35,Players!JR35)","v":6},2,"-",2,{"$f":"ResultsCalc(Players!$E35,Players!$G35,Players!JT35,Players!JV35)","v":2},2,"-",2,{"$f":"ResultsCalc(Players!$E35,Players!$G35,Players!JX35,Players!JZ35)","v":2},1,"-",2,{"$f":"ResultsCalc(Players!$E35,Players!$G35,Players!KB35,Players!KD35)","v":2},2,"-",1,{"$f":"ResultsCalc(Players!$E35,Players!$G35,Players!KF35,Players!KH35)","v":6},1,"-",1,{"$f":"ResultsCalc(Players!$E35,Players!$G35,Players!KJ35,Players!KL35)","v":0},1,"-",1,{"$f":"ResultsCalc(Players!$E35,Players!$G35,Players!KN35,Players!KP35)","v":0},1,"-",2,{"$f":"ResultsCalc(Players!$E35,Players!$G35,Players!KR35,Players!KT35)","v":2},1,"-",2,{"$f":"ResultsCalc(Players!$E35,Players!$G35,Players!KV35,Players!KX35)","v":2},0,"-",0,{"$f":"ResultsCalc(Players!$E35,Players!$G35,Players!KZ35,Players!LB35)","v":0},1,"-",1,{"$f":"ResultsCalc(Players!$E35,Players!$G35,Players!LD35,Players!LF35)","v":0},2,"-",3,{"$f":"ResultsCalc(Players!$E35,Players!$G35,Players!LH35,Players!LJ35)","v":0},1,"-",0,{"$f":"ResultsCalc(Players!$E35,Players!$G35,Players!LL35,Players!LN35)","v":6},1,"-",2,{"$f":"ResultsCalc(Players!$E35,Players!$G35,Players!LP35,Players!LR35)","v":2},0,"-",2,{"$f":"ResultsCalc(Players!$E35,Players!$G35,Players!LT35,Players!LV35)","v":2},1,"-",3,{"$f":"ResultsCalc(Players!$E35,Players!$G35,Players!LX35,Players!LZ35)","v":0},0,"-",0,{"$f":"ResultsCalc(Players!$E35,Players!$G35,Players!MB35,Players!MD35)","v":0},0,"-",1,{"$f":"ResultsCalc(Players!$E35,Players!$G35,Players!MF35,Players!MH35)","v":0},2,"-",2,{"$f":"ResultsCalc(Players!$E35,Players!$G35,Players!MJ35,Players!ML35)","v":2},1,"-",1,{"$f":"ResultsCalc(Players!$E35,Players!$G35,Players!MN35,Players!MP35)","v":0},1,"-",2,{"$f":"ResultsCalc(Players!$E35,Players!$G35,Players!MR35,Players!MT35)","v":2},1,"-",1,{"$f":"ResultsCalc(Players!$E35,Players!$G35,Players!MV35,Players!MX35)","v":0},1,"-",0,{"$f":"ResultsCalc(Players!$E35,Players!$G35,Players!MZ35,Players!NB35)","v":6},2,"-",2,{"$f":"ResultsCalc(Players!$E35,Players!$G35,Players!ND35,Players!NF35)","v":2},2,"-",2,{"$f":"ResultsCalc(Players!$E35,Players!$G35,Players!NH35,Players!NJ35)","v":2},0,"-",2,{"$f":"ResultsCalc(Players!$E35,Players!$G35,Players!NL35,Players!NN35)","v":2},1,"-",3,{"$f":"ResultsCalc(Players!$E35,Players!$G35,Players!NP35,Players!NR35)","v":0},1,"-",1,{"$f":"ResultsCalc(Players!$E35,Players!$G35,Players!NT35,Players!NV35)","v":0},0,"-",2,{"$f":"ResultsCalc(Players!$E35,Players!$G35,Players!NX35,Players!NZ35)","v":2},1,"-",1,{"$f":"ResultsCalc(Players!$E35,Players!$G35,Players!OB35,Players!OD35)","v":0},1,"-",2,{"$f":"ResultsCalc(Players!$E35,Players!$G35,Players!OF35,Players!OH35)","v":2},1,"-",1,{"$f":"ResultsCalc(Players!$E35,Players!$G35,Players!OJ35,Players!OL35)","v":0},1,"-",1,{"$f":"ResultsCalc(Players!$E35,Players!$G35,Players!ON35,Players!OP35)","v":0},1,"-",1,{"$f":"ResultsCalc(Players!$E35,Players!$G35,Players!OR35,Players!OT35)","v":0},3,"-",3,{"$f":"ResultsCalc(Players!$E35,Players!$G35,Players!OV35,Players!OX35)","v":2},2,"-",1,{"$f":"ResultsCalc(Players!$E35,Players!$G35,Players!OZ35,Players!PB35)","v":6},2,"-",1,{"$f":"ResultsCalc(Players!$E35,Players!$G35,Players!PD35,Players!PF35)","v":6},2,"-",1,{"$f":"ResultsCalc(Players!$E35,Players!$G35,Players!PH35,Players!PJ35)","v":6},2,"-",2,{"$f":"ResultsCalc(Players!$E35,Players!$G35,Players!PL35,Players!PN35)","v":2},2,"-",2,{"$f":"ResultsCalc(Players!$E35,Players!$G35,Players!PP35,Players!PR35)","v":2},1,"-",2,{"$f":"ResultsCalc(Players!$E35,Players!$G35,Players!PT35,Players!PV35)","v":2},1,"-",0,{"$f":"ResultsCalc(Players!$E35,Players!$G35,Players!PX35,Players!PZ35)","v":6},0,"-",1,{"$f":"ResultsCalc(Players!$E35,Players!$G35,Players!QB35,Players!QD35)","v":0},1,"-",1,{"$f":"ResultsCalc(Players!$E35,Players!$G35,Players!QF35,Players!QH35)","v":0},1,"-",0,{"$f":"ResultsCalc(Players!$E35,Players!$G35,Players!QJ35,Players!QL35)","v":6},null,0,null,6,22]
["2021-06-23",34,"Slovakia","Spain",0,"-",5,0,"-",1,{"$f":"ResultsCalc(Players!$E36,Players!$G36,Players!H36,Players!J36)","v":6},1,"-",3,{"$f":"ResultsCalc(Players!$E36,Players!$G36,Players!L36,Players!N36)","v":4},1,"-",3,{"$f":"ResultsCalc(Players!$E36,Players!$G36,Players!P36,Players!R36)","v":4},0,"-",2,{"$f":"ResultsCalc(Players!$E36,Players!$G36,Players!T36,Players!V36)","v":6},0,"-",1,{"$f":"ResultsCalc(Players!$E36,Players!$G36,Players!X36,Players!Z36)","v":6},0,"-",2,{"$f":"ResultsCalc(Players!$E36,Players!$G36,Players!AB36,Players!AD36)","v":6},1,"-",3,{"$f":"ResultsCalc(Players!$E36,Players!$G36,Players!AF36,Players!AH36)","v":4},1,"-",2,{"$f":"ResultsCalc(Players!$E36,Players!$G36,Players!AJ36,Players!AL36)","v":4},1,"-",2,{"$f":"ResultsCalc(Players!$E36,Players!$G36,Players!AN36,Players!AP36)","v":4},0,"-",2,{"$f":"ResultsCalc(Players!$E36,Players!$G36,Players!AR36,Players!AT36)","v":6},1,"-",3,{"$f":"ResultsCalc(Players!$E36,Players!$G36,Players!AV36,Players!AX36)","v":4},0,"-",2,{"$f":"ResultsCalc(Players!$E36,Players!$G36,Players!AZ36,Players!BB36)","v":6},1,"-",3,{"$f":"ResultsCalc(Players!$E36,Players!$G36,Players!BD36,Players!BF36)","v":4},0,"-",1,{"$f":"ResultsCalc(Players!$E36,Players!$G36,Players!BH36,Players!BJ36)","v":6},0,"-",3,{"$f":"ResultsCalc(Players!$E36,Players!$G36,Players!BL36,Players!BN36)","v":6},0,"-",3,{"$f":"ResultsCalc(Players!$E36,Players!$G36,Players!BP36,Players!BR36)","v":6},1,"-",3,{"$f":"ResultsCalc(Players!$E36,Players!$G36,Players!BT36,Players!BV36)","v":4},2,"-",3,{"$f":"ResultsCalc(Players!$E36,Players!$G36,Players!BX36,Players!BZ36)","v":4},1,"-",2,{"$f":"ResultsCalc(Players!$E36,Players!$G36,Players!CB36,Players!CD36)","v":4},1,"-",2,{"$f":"ResultsCalc(Players!$E36,Players!$G36,Players!CF36,Players!CH36)","v":4},1,"-",2,{"$f":"ResultsCalc(Players!$E36,Players!$G36,Players!CJ36,Players!CL36)","v":4},1,"-",3,{"$f":"ResultsCalc(Players!$E36,Players!$G36,Players!CN36,Players!CP36)","v":4},0,"-",0,{"$f":"ResultsCalc(Players!$E36,Players!$G36,Players!CR36,Players!CT36)","v":2},1,"-",4,{"$f":"ResultsCalc(Players!$E36,Players!$G36,Players!CV36,Players!CX36)","v":4},0,"-",2,{"$f":"ResultsCalc(Players!$E36,Players!$G36,Players!CZ36,Players!DB36)","v":6},0,"-",3,{"$f":"ResultsCalc(Players!$E36,Players!$G36,Players!DD36,Players!DF36)","v":6},1,"-",3,{"$f":"ResultsCalc(Players!$E36,Players!$G36,Players!DH36,Players!DJ36)","v":4},0,"-",2,{"$f":"ResultsCalc(Players!$E36,Players!$G36,Players!DL36,Players!DN36)","v":6},0,"-",2,{"$f":"ResultsCalc(Players!$E36,Players!$G36,Players!DP36,Players!DR36)","v":6},0,"-",2,{"$f":"ResultsCalc(Players!$E36,Players!$G36,Players!DT36,Players!DV36)","v":6},0,"-",4,{"$f":"ResultsCalc(Players!$E36,Players!$G36,Players!DX36,Players!DZ36)","v":6},0,"-",2,{"$f":"ResultsCalc(Players!$E36,Players!$G36,Players!EB36,Players!ED36)","v":6},1,"-",1,{"$f":"ResultsCalc(Players!$E36,Players!$G36,Players!EF36,Players!EH36)","v":0},1,"-",2,{"$f":"ResultsCalc(Players!$E36,Players!$G36,Players!EJ36,Players!EL36)","v":4},0,"-",2,{"$f":"ResultsCalc(Players!$E36,Players!$G36,Players!EN36,Players!EP36)","v":6},0,"-",3,{"$f":"ResultsCalc(Players!$E36,Players!$G36,Players!ER36,Players!ET36)","v":6},1,"-",3,{"$f":"ResultsCalc(Players!$E36,Players!$G36,Players!EV36,Players!EX36)","v":4},0,"-",2,{"$f":"ResultsCalc(Players!$E36,Players!$G36,Players!EZ36,Players!FB36)","v":6},1,"-",2,{"$f":"ResultsCalc(Players!$E36,Players!$G36,Players!FD36,Players!FF36)","v":4},1,"-",2,{"$f":"ResultsCalc(Players!$E36,Players!$G36,Players!FH36,Players!FJ36)","v":4},0,"-",3,{"$f":"ResultsCalc(Players!$E36,Players!$G36,Players!FL36,Players!FN36)","v":6},4,"-",4,{"$f":"ResultsCalc(Players!$E36,Players!$G36,Players!FP36,Players!FR36)","v":0},1,"-",3,{"$f":"ResultsCalc(Players!$E36,Players!$G36,Players!FT36,Players!FV36)","v":4},1,"-",3,{"$f":"ResultsCalc(Players!$E36,Players!$G36,Players!FX36,Players!FZ36)","v":4},2,"-",4,{"$f":"ResultsCalc(Players!$E36,Players!$G36,Players!GB36,Players!GD36)","v":4},0,"-",1,{"$f":"ResultsCalc(Players!$E36,Players!$G36,Players!GF36,Players!GH36)","v":6},0,"-",2,{"$f":"ResultsCalc(Players!$E36,Players!$G36,Players!GJ36,Players!GL36)","v":6},0,"-",2,{"$f":"ResultsCalc(Players!$E36,Players!$G36,Players!GN36,Players!GP36)","v":6},0,"-",2,{"$f":"ResultsCalc(Players!$E36,Players!$G36,Players!GR36,Players!GT36)","v":6},1,"-",3,{"$f":"ResultsCalc(Players!$E36,Players!$G36,Players!GV36,Players!GX36)","v":4},1,"-",4,{"$f":"ResultsCalc(Players!$E36,Players!$G36,Players!GZ36,Players!HB36)","v":4},1,"-",3,{"$f":"ResultsCalc(Players!$E36,Players!$G36,Players!HD36,Players!HF36)","v":4},2,"-",3,{"$f":"ResultsCalc(Players!$E36,Players!$G36,Players!HH36,Players!HJ36)","v":4},0,"-",1,{"$f":"ResultsCalc(Players!$E36,Players!$G36,Players!HL36,Players!HN36)","v":6},1,"-",2,{"$f":"ResultsCalc(Players!$E36,Players!$G36,Players!HP36,Players!HR36)","v":4},0,"-",3,{"$f":"ResultsCalc(Players!$E36,Players!$G36,Players!HT36,Players!HV36)","v":6},0,"-",2,{"$f":"ResultsCalc(Players!$E36,Players!$G36,Players!HX36,Players!HZ36)","v":6},0,"-",3,{"$f":"ResultsCalc(Players!$E36,Players!$G36,Players!IB36,Players!ID36)","v":6},0,"-",2,{"$f":"ResultsCalc(Players!$E36,Players!$G36,Players!IF36,Players!IH36)","v":6},0,"-",3,{"$f":"ResultsCalc(Players!$E36,Players!$G36,Players!IJ36,Players!IL36)","v":6},0,"-",3,{"$f":"ResultsCalc(Players!$E36,Players!$G36,Players!IN36,Players!IP36)","v":6},0,"-",2,{"$f":"ResultsCalc(Players!$E36,Players!$G36,Players!IR36,Players!IT36)","v":6},0,"-",1,{"$f":"ResultsCalc(Players!$E36,Players!$G36,Players!IV36,Players!IX36)","v":6},0,"-",3,{"$f":"ResultsCalc(Players!$E36,Players!$G36,Players!IZ36,Players!JB36)","v":6},0,"-",3,{"$f":"ResultsCalc(Players!$E36,Players!$G36,Players!JD36,Players!JF36)","v":6},0,"-",0,{"$f":"ResultsCalc(Players!$E36,Players!$G36,Players!JH36,Players!JJ36)","v":2},1,"-",2,{"$f":"ResultsCalc(Players!$E36,Players!$G36,Players!JL36,Players!JN36)","v":4},1,"-",2,{"$f":"ResultsCalc(Players!$E36,Players!$G36,Players!JP36,Players!JR36)","v":4},1,"-",2,{"$f":"ResultsCalc(Players!$E36,Players!$G36,Players!JT36,Players!JV36)","v":4},1,"-",2,{"$f":"ResultsCalc(Players!$E36,Players!$G36,Players!JX36,Players!JZ36)","v":4},0,"-",3,{"$f":"ResultsCalc(Players!$E36,Players!$G36,Players!KB36,Players!KD36)","v":6},0,"-",4,{"$f":"ResultsCalc(Players!$E36,Players!$G36,Players!KF36,Players!KH36)","v":6},0,"-",2,{"$f":"ResultsCalc(Players!$E36,Players!$G36,Players!KJ36,Players!KL36)","v":6},0,"-",3,{"$f":"ResultsCalc(Players!$E36,Players!$G36,Players!KN36,Players!KP36)","v":6},1,"-",2,{"$f":"ResultsCalc(Players!$E36,Players!$G36,Players!KR36,Players!KT36)","v":4},1,"-",3,{"$f":"ResultsCalc(Players!$E36,Players!$G36,Players!KV36,Players!KX36)","v":4},0,"-",1,{"$f":"ResultsCalc(Players!$E36,Players!$G36,Players!KZ36,Players!LB36)","v":6},1,"-",3,{"$f":"ResultsCalc(Players!$E36,Players!$G36,Players!LD36,Players!LF36)","v":4},1,"-",4,{"$f":"ResultsCalc(Players!$E36,Players!$G36,Players!LH36,Players!LJ36)","v":4},0,"-",3,{"$f":"ResultsCalc(Players!$E36,Players!$G36,Players!LL36,Players!LN36)","v":6},0,"-",2,{"$f":"ResultsCalc(Players!$E36,Players!$G36,Players!LP36,Players!LR36)","v":6},1,"-",2,{"$f":"ResultsCalc(Players!$E36,Players!$G36,Players!LT36,Players!LV36)","v":4},0,"-",2,{"$f":"ResultsCalc(Players!$E36,Players!$G36,Players!LX36,Players!LZ36)","v":6},1,"-",1,{"$f":"ResultsCalc(Players!$E36,Players!$G36,Players!MB36,Players!MD36)","v":0},0,"-",2,{"$f":"ResultsCalc(Players!$E36,Players!$G36,Players!MF36,Players!MH36)","v":6},2,"-",3,{"$f":"ResultsCalc(Players!$E36,Players!$G36,Players!MJ36,Players!ML36)","v":4},0,"-",2,{"$f":"ResultsCalc(Players!$E36,Players!$G36,Players!MN36,Players!MP36)","v":6},0,"-",2,{"$f":"ResultsCalc(Players!$E36,Players!$G36,Players!MR36,Players!MT36)","v":6},1,"-",3,{"$f":"ResultsCalc(Players!$E36,Players!$G36,Players!MV36,Players!MX36)","v":4},0,"-",2,{"$f":"ResultsCalc(Players!$E36,Players!$G36,Players!MZ36,Players!NB36)","v":6},0,"-",2,{"$f":"ResultsCalc(Players!$E36,Players!$G36,Players!ND36,Players!NF36)","v":6},1,"-",1,{"$f":"ResultsCalc(Players!$E36,Players!$G36,Players!NH36,Players!NJ36)","v":0},1,"-",3,{"$f":"ResultsCalc(Players!$E36,Players!$G36,Players!NL36,Players!NN36)","v":4},2,"-",3,{"$f":"ResultsCalc(Players!$E36,Players!$G36,Players!NP36,Players!NR36)","v":4},0,"-",3,{"$f":"ResultsCalc(Players!$E36,Players!$G36,Players!NT36,Players!NV36)","v":6},0,"-",1,{"$f":"ResultsCalc(Players!$E36,Players!$G36,Players!NX36,Players!NZ36)","v":6},0,"-",2,{"$f":"ResultsCalc(Players!$E36,Players!$G36,Players!OB36,Players!OD36)","v":6},1,"-",4,{"$f":"ResultsCalc(Players!$E36,Players!$G36,Players!OF36,Players!OH36)","v":4},0,"-",2,{"$f":"ResultsCalc(Players!$E36,Players!$G36,Players!OJ36,Players!OL36)","v":6},0,"-",2,{"$f":"ResultsCalc(Players!$E36,Players!$G36,Players!ON36,Players!OP36)","v":6},0,"-",2,{"$f":"ResultsCalc(Players!$E36,Players!$G36,Players!OR36,Players!OT36)","v":6},1,"-",4,{"$f":"ResultsCalc(Players!$E36,Players!$G36,Players!OV36,Players!OX36)","v":4},1,"-",2,{"$f":"ResultsCalc(Players!$E36,Players!$G36,Players!OZ36,Players!PB36)","v":4},0,"-",1,{"$f":"ResultsCalc(Players!$E36,Players!$G36,Players!PD36,Players!PF36)","v":6},1,"-",3,{"$f":"ResultsCalc(Players!$E36,Players!$G36,Players!PH36,Players!PJ36)","v":4},1,"-",1,{"$f":"ResultsCalc(Players!$E36,Players!$G36,Players!PL36,Players!PN36)","v":0},0,"-",3,{"$f":"ResultsCalc(Players!$E36,Players!$G36,Players!PP36,Players!PR36)","v":6},1,"-",4,{"$f":"ResultsCalc(Players!$E36,Players!$G36,Players!PT36,Players!PV36)","v":4},2,"-",0,{"$f":"ResultsCalc(Players!$E36,Players!$G36,Players!PX36,Players!PZ36)","v":0},1,"-",3,{"$f":"ResultsCalc(Players!$E36,Players!$G36,Players!QB36,Players!QD36)","v":4},0,"-",3,{"$f":"ResultsCalc(Players!$E36,Players!$G36,Players!QF36,Players!QH36)","v":6},0,"-",1,{"$f":"ResultsCalc(Players!$E36,Players!$G36,Players!QJ36,Players!QL36)","v":6},null,0,null,6,58]
["2021-06-23",35,"Germany","Hungary",2,"-",2,2,"-",1,{"$f":"ResultsCalc(Players!$E37,Players!$G37,Players!H37,Players!J37)","v":2},2,"-",1,{"$f":"ResultsCalc(Players!$E37,Players!$G37,Players!L37,Players!N37)","v":2},3,"-",0,{"$f":"ResultsCalc(Players!$E37,Players!$G37,Players!P37,Players!R37)","v":0},3,"-",0,{"$f":"ResultsCalc(Players!$E37,Players!$G37,Players!T37,Players!V37)","v":0},3,"-",0,{"$f":"ResultsCalc(Players!$E37,Players!$G37,Players!X37,Players!Z37)","v":0},2,"-",0,{"$f":"ResultsCalc(Players!$E37,Players!$G37,Players!AB37,Players!AD37)","v":2},2,"-",1,{"$f":"ResultsCalc(Players!$E37,Players!$G37,Players!AF37,Players!AH37)","v":2},3,"-",0,{"$f":"ResultsCalc(Players!$E37,Players!$G37,Players!AJ37,Players!AL37)","v":0},2,"-",1,{"$f":"ResultsCalc(Players!$E37,Players!$G37,Players!AN37,Players!AP37)","v":2},1,"-",0,{"$f":"ResultsCalc(Players!$E37,Players!$G37,Players!AR37,Players!AT37)","v":0},3,"-",2,{"$f":"ResultsCalc(Players!$E37,Players!$G37,Players!AV37,Players!AX37)","v":2},2,"-",0,{"$f":"ResultsCalc(Players!$E37,Players!$G37,Players!AZ37,Players!BB37)","v":2},3,"-",0,{"$f":"ResultsCalc(Players!$E37,Players!$G37,Players!BD37,Players!BF37)","v":0},2,"-",1,{"$f":"ResultsCalc(Players!$E37,Players!$G37,Players!BH37,Players!BJ37)","v":2},2,"-",0,{"$f":"ResultsCalc(Players!$E37,Players!$G37,Players!BL37,Players!BN37)","v":2},2,"-",0,{"$f":"ResultsCalc(Players!$E37,Players!$G37,Players!BP37,Players!BR37)","v":2},3,"-",1,{"$f":"ResultsCalc(Players!$E37,Players!$G37,Players!BT37,Players!BV37)","v":0},2,"-",1,{"$f":"ResultsCalc(Players!$E37,Players!$G37,Players!BX37,Players!BZ37)","v":2},2,"-",1,{"$f":"ResultsCalc(Players!$E37,Players!$G37,Players!CB37,Players!CD37)","v":2},3,"-",0,{"$f":"ResultsCalc(Players!$E37,Players!$G37,Players!CF37,Players!CH37)","v":0},2,"-",0,{"$f":"ResultsCalc(Players!$E37,Players!$G37,Players!CJ37,Players!CL37)","v":2},2,"-",0,{"$f":"ResultsCalc(Players!$E37,Players!$G37,Players!CN37,Players!CP37)","v":2},2,"-",0,{"$f":"ResultsCalc(Players!$E37,Players!$G37,Players!CR37,Players!CT37)","v":2},5,"-",1,{"$f":"ResultsCalc(Players!$E37,Players!$G37,Players!CV37,Players!CX37)","v":0},2,"-",0,{"$f":"ResultsCalc(Players!$E37,Players!$G37,Players!CZ37,Players!DB37)","v":2},2,"-",0,{"$f":"ResultsCalc(Players!$E37,Players!$G37,Players!DD37,Players!DF37)","v":2},4,"-",0,{"$f":"ResultsCalc(Players!$E37,Players!$G37,Players!DH37,Players!DJ37)","v":0},3,"-",0,{"$f":"ResultsCalc(Players!$E37,Players!$G37,Players!DL37,Players!DN37)","v":0},2,"-",0,{"$f":"ResultsCalc(Players!$E37,Players!$G37,Players!DP37,Players!DR37)","v":2},1,"-",0,{"$f":"ResultsCalc(Players!$E37,Players!$G37,Players!DT37,Players!DV37)","v":0},4,"-",0,{"$f":"ResultsCalc(Players!$E37,Players!$G37,Players!DX37,Players!DZ37)","v":0},2,"-",1,{"$f":"ResultsCalc(Players!$E37,Players!$G37,Players!EB37,Players!ED37)","v":2},1,"-",2,{"$f":"ResultsCalc(Players!$E37,Players!$G37,Players!EF37,Players!EH37)","v":2},2,"-",0,{"$f":"ResultsCalc(Players!$E37,Players!$G37,Players!EJ37,Players!EL37)","v":2},2,"-",0,{"$f":"ResultsCalc(Players!$E37,Players!$G37,Players!EN37,Players!EP37)","v":2},4,"-",0,{"$f":"ResultsCalc(Players!$E37,Players!$G37,Players!ER37,Players!ET37)","v":0},2,"-",0,{"$f":"ResultsCalc(Players!$E37,Players!$G37,Players!EV37,Players!EX37)","v":2},3,"-",0,{"$f":"ResultsCalc(Players!$E37,Players!$G37,Players!EZ37,Players!FB37)","v":0},1,"-",1,{"$f":"ResultsCalc(Players!$E37,Players!$G37,Players!FD37,Players!FF37)","v":6},3,"-",0,{"$f":"ResultsCalc(Players!$E37,Players!$G37,Players!FH37,Players!FJ37)","v":0},2,"-",0,{"$f":"ResultsCalc(Players!$E37,Players!$G37,Players!FL37,Players!FN37)","v":2},3,"-",3,{"$f":"ResultsCalc(Players!$E37,Players!$G37,Players!FP37,Players!FR37)","v":6},1,"-",0,{"$f":"ResultsCalc(Players!$E37,Players!$G37,Players!FT37,Players!FV37)","v":0},2,"-",0,{"$f":"ResultsCalc(Players!$E37,Players!$G37,Players!FX37,Players!FZ37)","v":2},3,"-",1,{"$f":"ResultsCalc(Players!$E37,Players!$G37,Players!GB37,Players!GD37)","v":0},2,"-",0,{"$f":"ResultsCalc(Players!$E37,Players!$G37,Players!GF37,Players!GH37)","v":2},3,"-",0,{"$f":"ResultsCalc(Players!$E37,Players!$G37,Players!GJ37,Players!GL37)","v":0},4,"-",0,{"$f":"ResultsCalc(Players!$E37,Players!$G37,Players!GN37,Players!GP37)","v":0},3,"-",0,{"$f":"ResultsCalc(Players!$E37,Players!$G37,Players!GR37,Players!GT37)","v":0},2,"-",0,{"$f":"ResultsCalc(Players!$E37,Players!$G37,Players!GV37,Players!GX37)","v":2},2,"-",0,{"$f":"ResultsCalc(Players!$E37,Players!$G37,Players!GZ37,Players!HB37)","v":2},3,"-",1,{"$f":"ResultsCalc(Players!$E37,Players!$G37,Players!HD37,Players!HF37)","v":0},4,"-",2,{"$f":"ResultsCalc(Players!$E37,Players!$G37,Players!HH37,Players!HJ37)","v":2},3,"-",0,{"$f":"ResultsCalc(Players!$E37,Players!$G37,Players!HL37,Players!HN37)","v":0},3,"-",2,{"$f":"ResultsCalc(Players!$E37,Players!$G37,Players!HP37,Players!HR37)","v":2},3,"-",0,{"$f":"ResultsCalc(Players!$E37,Players!$G37,Players!HT37,Players!HV37)","v":0},1,"-",0,{"$f":"ResultsCalc(Players!$E37,Players!$G37,Players!HX37,Players!HZ37)","v":0},2,"-",0,{"$f":"ResultsCalc(Players!$E37,Players!$G37,Players!IB37,Players!ID37)","v":2},3,"-",0,{"$f":"ResultsCalc(Players!$E37,Players!$G37,Players!IF37,Players!IH37)","v":0},2,"-",1,{"$f":"ResultsCalc(Players!$E37,Players!$G37,Players!IJ37,Players!IL37)","v":2},4,"-",0,{"$f":"ResultsCalc(Players!$E37,Players!$G37,Players!IN37,Players!IP37)","v":0},3,"-",2,{"$f":"ResultsCalc(Players!$E37,Players!$G37,Players!IR37,Players!IT37)","v":2},1,"-",0,{"$f":"ResultsCalc(Players!$E37,Players!$G37,Players!IV37,Players!IX37)","v":0},2,"-",1,{"$f":"ResultsCalc(Players!$E37,Players!$G37,Players!IZ37,Players!JB37)","v":2},3,"-",0,{"$f":"ResultsCalc(Players!$E37,Players!$G37,Players!JD37,Players!JF37)","v":0},3,"-",1,{"$f":"ResultsCalc(Players!$E37,Players!$G37,Players!JH37,Players!JJ37)","v":0},2,"-",0,{"$f":"ResultsCalc(Players!$E37,Players!$G37,Players!JL37,Players!JN37)","v":2},3,"-",2,{"$f":"ResultsCalc(Players!$E37,Players!$G37,Players!JP37,Players!JR37)","v":2},2,"-",1,{"$f":"ResultsCalc(Players!$E37,Players!$G37,Players!JT37,Players!JV37)","v":2},2,"-",0,{"$f":"ResultsCalc(Players!$E37,Players!$G37,Players!JX37,Players!JZ37)","v":2},2,"-",0,{"$f":"ResultsCalc(Players!$E37,Players!$G37,Players!KB37,Players!KD37)","v":2},5,"-",0,{"$f":"ResultsCalc(Players!$E37,Players!$G37,Players!KF37,Players!KH37)","v":0},3,"-",1,{"$f":"ResultsCalc(Players!$E37,Players!$G37,Players!KJ37,Players!KL37)","v":0},3,"-",0,{"$f":"ResultsCalc(Players!$E37,Players!$G37,Players!KN37,Players!KP37)","v":0},3,"-",0,{"$f":"ResultsCalc(Players!$E37,Players!$G37,Players!KR37,Players!KT37)","v":0},3,"-",1,{"$f":"ResultsCalc(Players!$E37,Players!$G37,Players!KV37,Players!KX37)","v":0},2,"-",0,{"$f":"ResultsCalc(Players!$E37,Players!$G37,Players!KZ37,Players!LB37)","v":2},2,"-",1,{"$f":"ResultsCalc(Players!$E37,Players!$G37,Players!LD37,Players!LF37)","v":2},4,"-",2,{"$f":"ResultsCalc(Players!$E37,Players!$G37,Players!LH37,Players!LJ37)","v":2},4,"-",0,{"$f":"ResultsCalc(Players!$E37,Players!$G37,Players!LL37,Players!LN37)","v":0},2,"-",0,{"$f":"ResultsCalc(Players!$E37,Players!$G37,Players!LP37,Players!LR37)","v":2},2,"-",0,{"$f":"ResultsCalc(Players!$E37,Players!$G37,Players!LT37,Players!LV37)","v":2},5,"-",1,{"$f":"ResultsCalc(Players!$E37,Players!$G37,Players!LX37,Players!LZ37)","v":0},2,"-",1,{"$f":"ResultsCalc(Players!$E37,Players!$G37,Players!MB37,Players!MD37)","v":2},1,"-",0,{"$f":"ResultsCalc(Players!$E37,Players!$G37,Players!MF37,Players!MH37)","v":0},3,"-",1,{"$f":"ResultsCalc(Players!$E37,Players!$G37,Players!MJ37,Players!ML37)","v":0},3,"-",0,{"$f":"ResultsCalc(Players!$E37,Players!$G37,Players!MN37,Players!MP37)","v":0},3,"-",0,{"$f":"ResultsCalc(Players!$E37,Players!$G37,Players!MR37,Players!MT37)","v":0},3,"-",1,{"$f":"ResultsCalc(Players!$E37,Players!$G37,Players!MV37,Players!MX37)","v":0},3,"-",0,{"$f":"ResultsCalc(Players!$E37,Players!$G37,Players!MZ37,Players!NB37)","v":0},2,"-",0,{"$f":"ResultsCalc(Players!$E37,Players!$G37,Players!ND37,Players!NF37)","v":2},3,"-",0,{"$f":"ResultsCalc(Players!$E37,Players!$G37,Players!NH37,Players!NJ37)","v":0},3,"-",1,{"$f":"ResultsCalc(Players!$E37,Players!$G37,Players!NL37,Players!NN37)","v":0},3,"-",0,{"$f":"ResultsCalc(Players!$E37,Players!$G37,Players!NP37,Players!NR37)","v":0},2,"-",0,{"$f":"ResultsCalc(Players!$E37,Players!$G37,Players!NT37,Players!NV37)","v":2},2,"-",0,{"$f":"ResultsCalc(Players!$E37,Players!$G37,Players!NX37,Players!NZ37)","v":2},3,"-",0,{"$f":"ResultsCalc(Players!$E37,Players!$G37,Players!OB37,Players!OD37)","v":0},5,"-",1,{"$f":"ResultsCalc(Players!$E37,Players!$G37,Players!OF37,Players!OH37)","v":0},2,"-",0,{"$f":"ResultsCalc(Players!$E37,Players!$G37,Players!OJ37,Players!OL37)","v":2},1,"-",0,{"$f":"ResultsCalc(Players!$E37,Players!$G37,Players!ON37,Players!OP37)","v":0},2,"-",0,{"$f":"ResultsCalc(Players!$E37,Players!$G37,Players!OR37,Players!OT37)","v":2},4,"-",1,{"$f":"ResultsCalc(Players!$E37,Players!$G37,Players!OV37,Players!OX37)","v":0},1,"-",2,{"$f":"ResultsCalc(Players!$E37,Players!$G37,Players!OZ37,Players!PB37)","v":2},3,"-",0,{"$f":"ResultsCalc(Players!$E37,Players!$G37,Players!PD37,Players!PF37)","v":0},2,"-",2,{"$f":"ResultsCalc(Players!$E37,Players!$G37,Players!PH37,Players!PJ37)","v":14},0,"-",0,{"$f":"ResultsCalc(Players!$E37,Players!$G37,Players!PL37,Players!PN37)","v":6},3,"-",2,{"$f":"ResultsCalc(Players!$E37,Players!$G37,Players!PP37,Players!PR37)","v":2},3,"-",0,{"$f":"ResultsCalc(Players!$E37,Players!$G37,Players!PT37,Players!PV37)","v":0},0,"-",1,{"$f":"ResultsCalc(Players!$E37,Players!$G37,Players!PX37,Players!PZ37)","v":0},2,"-",0,{"$f":"ResultsCalc(Players!$E37,Players!$G37,Players!QB37,Players!QD37)","v":2},2,"-",0,{"$f":"ResultsCalc(Players!$E37,Players!$G37,Players!QF37,Players!QH37)","v":2},2,"-",1,{"$f":"ResultsCalc(Players!$E37,Players!$G37,Players!QJ37,Players!QL37)","v":2},null,1,null,14,1]
["2021-06-23",36,"Portugal","France",2,"-",2,2,"-",2,{"$f":"ResultsCalc(Players!$E38,Players!$G38,Players!H38,Players!J38)","v":14},2,"-",2,{"$f":"ResultsCalc(Players!$E38,Players!$G38,Players!L38,Players!N38)","v":14},0,"-",1,{"$f":"ResultsCalc(Players!$E38,Players!$G38,Players!P38,Players!R38)","v":0},2,"-",2,{"$f":"ResultsCalc(Players!$E38,Players!$G38,Players!T38,Players!V38)","v":14},0,"-",0,{"$f":"ResultsCalc(Players!$E38,Players!$G38,Players!X38,Players!Z38)","v":6},1,"-",3,{"$f":"ResultsCalc(Players!$E38,Players!$G38,Players!AB38,Players!AD38)","v":0},2,"-",2,{"$f":"ResultsCalc(Players!$E38,Players!$G38,Players!AF38,Players!AH38)","v":14},0,"-",2,{"$f":"ResultsCalc(Players!$E38,Players!$G38,Players!AJ38,Players!AL38)","v":2},2,"-",2,{"$f":"ResultsCalc(Players!$E38,Players!$G38,Players!AN38,Players!AP38)","v":14},0,"-",2,{"$f":"ResultsCalc(Players!$E38,Players!$G38,Players!AR38,Players!AT38)","v":2},2,"-",0,{"$f":"ResultsCalc(Players!$E38,Players!$G38,Players!AV38,Players!AX38)","v":2},1,"-",2,{"$f":"ResultsCalc(Players!$E38,Players!$G38,Players!AZ38,Players!BB38)","v":2},2,"-",2,{"$f":"ResultsCalc(Players!$E38,Players!$G38,Players!BD38,Players!BF38)","v":14},2,"-",2,{"$f":"ResultsCalc(Players!$E38,Players!$G38,Players!BH38,Players!BJ38)","v":14},1,"-",1,{"$f":"ResultsCalc(Players!$E38,Players!$G38,Players!BL38,Players!BN38)","v":6},1,"-",1,{"$f":"ResultsCalc(Players!$E38,Players!$G38,Players!BP38,Players!BR38)","v":6},2,"-",3,{"$f":"ResultsCalc(Players!$E38,Players!$G38,Players!BT38,Players!BV38)","v":2},1,"-",2,{"$f":"ResultsCalc(Players!$E38,Players!$G38,Players!BX38,Players!BZ38)","v":2},1,"-",2,{"$f":"ResultsCalc(Players!$E38,Players!$G38,Players!CB38,Players!CD38)","v":2},2,"-",1,{"$f":"ResultsCalc(Players!$E38,Players!$G38,Players!CF38,Players!CH38)","v":2},1,"-",1,{"$f":"ResultsCalc(Players!$E38,Players!$G38,Players!CJ38,Players!CL38)","v":6},1,"-",1,{"$f":"ResultsCalc(Players!$E38,Players!$G38,Players!CN38,Players!CP38)","v":6},0,"-",1,{"$f":"ResultsCalc(Players!$E38,Players!$G38,Players!CR38,Players!CT38)","v":0},1,"-",1,{"$f":"ResultsCalc(Players!$E38,Players!$G38,Players!CV38,Players!CX38)","v":6},1,"-",2,{"$f":"ResultsCalc(Players!$E38,Players!$G38,Players!CZ38,Players!DB38)","v":2},1,"-",2,{"$f":"ResultsCalc(Players!$E38,Players!$G38,Players!DD38,Players!DF38)","v":2},1,"-",2,{"$f":"ResultsCalc(Players!$E38,Players!$G38,Players!DH38,Players!DJ38)","v":2},2,"-",2,{"$f":"ResultsCalc(Players!$E38,Players!$G38,Players!DL38,Players!DN38)","v":14},1,"-",1,{"$f":"ResultsCalc(Players!$E38,Players!$G38,Players!DP38,Players!DR38)","v":6},1,"-",2,{"$f":"ResultsCalc(Players!$E38,Players!$G38,Players!DT38,Players!DV38)","v":2},3,"-",2,{"$f":"ResultsCalc(Players!$E38,Players!$G38,Players!DX38,Players!DZ38)","v":2},2,"-",3,{"$f":"ResultsCalc(Players!$E38,Players!$G38,Players!EB38,Players!ED38)","v":2},2,"-",1,{"$f":"ResultsCalc(Players!$E38,Players!$G38,Players!EF38,Players!EH38)","v":2},2,"-",3,{"$f":"ResultsCalc(Players!$E38,Players!$G38,Players!EJ38,Players!EL38)","v":2},1,"-",2,{"$f":"ResultsCalc(Players!$E38,Players!$G38,Players!EN38,Players!EP38)","v":2},1,"-",3,{"$f":"ResultsCalc(Players!$E38,Players!$G38,Players!ER38,Players!ET38)","v":0},2,"-",1,{"$f":"ResultsCalc(Players!$E38,Players!$G38,Players!EV38,Players!EX38)","v":2},1,"-",2,{"$f":"ResultsCalc(Players!$E38,Players!$G38,Players!EZ38,Players!FB38)","v":2},1,"-",2,{"$f":"ResultsCalc(Players!$E38,Players!$G38,Players!FD38,Players!FF38)","v":2},2,"-",0,{"$f":"ResultsCalc(Players!$E38,Players!$G38,Players!FH38,Players!FJ38)","v":2},2,"-",2,{"$f":"ResultsCalc(Players!$E38,Players!$G38,Players!FL38,Players!FN38)","v":14},2,"-",2,{"$f":"ResultsCalc(Players!$E38,Players!$G38,Players!FP38,Players!FR38)","v":14},2,"-",3,{"$f":"ResultsCalc(Players!$E38,Players!$G38,Players!FT38,Players!FV38)","v":2},1,"-",1,{"$f":"ResultsCalc(Players!$E38,Players!$G38,Players!FX38,Players!FZ38)","v":6},3,"-",3,{"$f":"ResultsCalc(Players!$E38,Players!$G38,Players!GB38,Players!GD38)","v":6},2,"-",2,{"$f":"ResultsCalc(Players!$E38,Players!$G38,Players!GF38,Players!GH38)","v":14},0,"-",2,{"$f":"ResultsCalc(Players!$E38,Players!$G38,Players!GJ38,Players!GL38)","v":2},0,"-",1,{"$f":"ResultsCalc(Players!$E38,Players!$G38,Players!GN38,Players!GP38)","v":0},2,"-",3,{"$f":"ResultsCalc(Players!$E38,Players!$G38,Players!GR38,Players!GT38)","v":2},0,"-",2,{"$f":"ResultsCalc(Players!$E38,Players!$G38,Players!GV38,Players!GX38)","v":2},1,"-",2,{"$f":"ResultsCalc(Players!$E38,Players!$G38,Players!GZ38,Players!HB38)","v":2},2,"-",3,{"$f":"ResultsCalc(Players!$E38,Players!$G38,Players!HD38,Players!HF38)","v":2},3,"-",2,{"$f":"ResultsCalc(Players!$E38,Players!$G38,Players!HH38,Players!HJ38)","v":2},2,"-",2,{"$f":"ResultsCalc(Players!$E38,Players!$G38,Players!HL38,Players!HN38)","v":14},2,"-",2,{"$f":"ResultsCalc(Players!$E38,Players!$G38,Players!HP38,Players!HR38)","v":14},2,"-",2,{"$f":"ResultsCalc(Players!$E38,Players!$G38,Players!HT38,Players!HV38)","v":14},0,"-",1,{"$f":"ResultsCalc(Players!$E38,Players!$G38,Players!HX38,Players!HZ38)","v":0},1,"-",1,{"$f":"ResultsCalc(Players!$E38,Players!$G38,Players!IB38,Players!ID38)","v":6},2,"-",0,{"$f":"ResultsCalc(Players!$E38,Players!$G38,Players!IF38,Players!IH38)","v":2},2,"-",4,{"$f":"ResultsCalc(Players!$E38,Players!$G38,Players!IJ38,Players!IL38)","v":2},0,"-",1,{"$f":"ResultsCalc(Players!$E38,Players!$G38,Players!IN38,Players!IP38)","v":0},0,"-",2,{"$f":"ResultsCalc(Players!$E38,Players!$G38,Players!IR38,Players!IT38)","v":2},1,"-",1,{"$f":"ResultsCalc(Players!$E38,Players!$G38,Players!IV38,Players!IX38)","v":6},2,"-",2,{"$f":"ResultsCalc(Players!$E38,Players!$G38,Players!IZ38,Players!JB38)","v":14},0,"-",0,{"$f":"ResultsCalc(Players!$E38,Players!$G38,Players!JD38,Players!JF38)","v":6},2,"-",2,{"$f":"ResultsCalc(Players!$E38,Players!$G38,Players!JH38,Players!JJ38)","v":14},2,"-",3,{"$f":"ResultsCalc(Players!$E38,Players!$G38,Players!JL38,Players!JN38)","v":2},2,"-",2,{"$f":"ResultsCalc(Players!$E38,Players!$G38,Players!JP38,Players!JR38)","v":14},2,"-",1,{"$f":"ResultsCalc(Players!$E38,Players!$G38,Players!JT38,Players!JV38)","v":2},1,"-",2,{"$f":"ResultsCalc(Players!$E38,Players!$G38,Players!JX38,Players!JZ38)","v":2},2,"-",3,{"$f":"ResultsCalc(Players!$E38,Players!$G38,Players!KB38,Players!KD38)","v":2},1,"-",2,{"$f":"ResultsCalc(Players!$E38,Players!$G38,Players!KF38,Players!KH38)","v":2},1,"-",2,{"$f":"ResultsCalc(Players!$E38,Players!$G38,Players!KJ38,Players!KL38)","v":2},2,"-",2,{"$f":"ResultsCalc(Players!$E38,Players!$G38,Players!KN38,Players!KP38)","v":14},1,"-",2,{"$f":"ResultsCalc(Players!$E38,Players!$G38,Players!KR38,Players!KT38)","v":2},2,"-",2,{"$f":"ResultsCalc(Players!$E38,Players!$G38,Players!KV38,Players!KX38)","v":14},0,"-",0,{"$f":"ResultsCalc(Players!$E38,Players!$G38,Players!KZ38,Players!LB38)","v":6},2,"-",2,{"$f":"ResultsCalc(Players!$E38,Players!$G38,Players!LD38,Players!LF38)","v":14},2,"-",3,{"$f":"ResultsCalc(Players!$E38,Players!$G38,Players!LH38,Players!LJ38)","v":2},1,"-",2,{"$f":"ResultsCalc(Players!$E38,Players!$G38,Players!LL38,Players!LN38)","v":2},2,"-",2,{"$f":"ResultsCalc(Players!$E38,Players!$G38,Players!LP38,Players!LR38)","v":14},1,"-",1,{"$f":"ResultsCalc(Players!$E38,Players!$G38,Players!LT38,Players!LV38)","v":6},1,"-",1,{"$f":"ResultsCalc(Players!$E38,Players!$G38,Players!LX38,Players!LZ38)","v":6},1,"-",0,{"$f":"ResultsCalc(Players!$E38,Players!$G38,Players!MB38,Players!MD38)","v":0},1,"-",2,{"$f":"ResultsCalc(Players!$E38,Players!$G38,Players!MF38,Players!MH38)","v":2},2,"-",4,{"$f":"ResultsCalc(Players!$E38,Players!$G38,Players!MJ38,Players!ML38)","v":2},1,"-",2,{"$f":"ResultsCalc(Players!$E38,Players!$G38,Players!MN38,Players!MP38)","v":2},2,"-",2,{"$f":"ResultsCalc(Players!$E38,Players!$G38,Players!MR38,Players!MT38)","v":14},2,"-",2,{"$f":"ResultsCalc(Players!$E38,Players!$G38,Players!MV38,Players!MX38)","v":14},1,"-",1,{"$f":"ResultsCalc(Players!$E38,Players!$G38,Players!MZ38,Players!NB38)","v":6},3,"-",2,{"$f":"ResultsCalc(Players!$E38,Players!$G38,Players!ND38,Players!NF38)","v":2},1,"-",1,{"$f":"ResultsCalc(Players!$E38,Players!$G38,Players!NH38,Players!NJ38)","v":6},1,"-",2,{"$f":"ResultsCalc(Players!$E38,Players!$G38,Players!NL38,Players!NN38)","v":2},1,"-",2,{"$f":"ResultsCalc(Players!$E38,Players!$G38,Players!NP38,Players!NR38)","v":2},3,"-",3,{"$f":"ResultsCalc(Players!$E38,Players!$G38,Players!NT38,Players!NV38)","v":6},1,"-",0,{"$f":"ResultsCalc(Players!$E38,Players!$G38,Players!NX38,Players!NZ38)","v":0},1,"-",2,{"$f":"ResultsCalc(Players!$E38,Players!$G38,Players!OB38,Players!OD38)","v":2},2,"-",3,{"$f":"ResultsCalc(Players!$E38,Players!$G38,Players!OF38,Players!OH38)","v":2},2,"-",3,{"$f":"ResultsCalc(Players!$E38,Players!$G38,Players!OJ38,Players!OL38)","v":2},1,"-",2,{"$f":"ResultsCalc(Players!$E38,Players!$G38,Players!ON38,Players!OP38)","v":2},1,"-",2,{"$f":"ResultsCalc(Players!$E38,Players!$G38,Players!OR38,Players!OT38)","v":2},3,"-",4,{"$f":"ResultsCalc(Players!$E38,Players!$G38,Players!OV38,Players!OX38)","v":0},1,"-",4,{"$f":"ResultsCalc(Players!$E38,Players!$G38,Players!OZ38,Players!PB38)","v":0},2,"-",3,{"$f":"ResultsCalc(Players!$E38,Players!$G38,Players!PD38,Players!PF38)","v":2},2,"-",0,{"$f":"ResultsCalc(Players!$E38,Players!$G38,Players!PH38,Players!PJ38)","v":2},2,"-",1,{"$f":"ResultsCalc(Players!$E38,Players!$G38,Players!PL38,Players!PN38)","v":2},3,"-",1,{"$f":"ResultsCalc(Players!$E38,Players!$G38,Players!PP38,Players!PR38)","v":0},2,"-",2,{"$f":"ResultsCalc(Players!$E38,Players!$G38,Players!PT38,Players!PV38)","v":14},2,"-",1,{"$f":"ResultsCalc(Players!$E38,Players!$G38,Players!PX38,Players!PZ38)","v":2},1,"-",2,{"$f":"ResultsCalc(Players!$E38,Players!$G38,Players!QB38,Players!QD38)","v":2},3,"-",2,{"$f":"ResultsCalc(Players!$E38,Players!$G38,Players!QF38,Players!QH38)","v":2},2,"-",2,{"$f":"ResultsCalc(Players!$E38,Players!$G38,Players!QJ38,Players!QL38)","v":14},null,25]
["First Round Points:",null,null,null,null,null,null,null,null,null,{"$f":"SUM(K3:K38)","v":148},null,null,null,{"$f":"SUM(O3:O38)","v":178},null,null,null,{"$f":"SUM(S3:S38)","v":124},null,null,null,{"$f":"SUM(W3:W38)","v":177},null,null,null,{"$f":"SUM(AA3:AA38)","v":154},null,null,null,{"$f":"SUM(AE3:AE38)","v":139},null,null,null,{"$f":"SUM(AI3:AI38)","v":148},null,null,null,{"$f":"SUM(AM3:AM38)","v":148},null,null,null,{"$f":"SUM(AQ3:AQ38)","v":120},null,null,null,{"$f":"SUM(AU3:AU38)","v":129},null,null,null,{"$f":"SUM(AY3:AY38)","v":124},null,null,null,{"$f":"SUM(BC3:BC38)","v":136},null,null,null,{"$f":"SUM(BG3:BG38)","v":144},null,null,null,{"$f":"SUM(BK3:BK38)","v":126},null,null,null,{"$f":"SUM(BO3:BO38)","v":129},null,null,null,{"$f":"SUM(BS3:BS38)","v":131},null,null,null,{"$f":"SUM(BW3:BW38)","v":135},null,null,null,{"$f":"SUM(CA3:CA38)","v":132},null,null,null,{"$f":"SUM(CE3:CE38)","v":119},null,null,null,{"$f":"SUM(CI3:CI38)","v":111},null,null,null,{"$f":"SUM(CM3:CM38)","v":149},null,null,null,{"$f":"SUM(CQ3:CQ38)","v":123},null,null,null,{"$f":"SUM(CU3:CU38)","v":129},null,null,null,{"$f":"SUM(CY3:CY38)","v":135},null,null,null,{"$f":"SUM(DC3:DC38)","v":162},null,null,null,{"$f":"SUM(DG3:DG38)","v":163},null,null,null,{"$f":"SUM(DK3:DK38)","v":148},null,null,null,{"$f":"SUM(DO3:DO38)","v":176},null,null,null,{"$f":"SUM(DS3:DS38)","v":126},null,null,null,{"$f":"SUM(DW3:DW38)","v":183},null,null,null,{"$f":"SUM(EA3:EA38)","v":151},null,null,null,{"$f":"SUM(EE3:EE38)","v":149},null,null,null,{"$f":"SUM(EI3:EI38)","v":118},null,null,null,{"$f":"SUM(EM3:EM38)","v":162},null,null,null,{"$f":"SUM(EQ3:EQ38)","v":120},null,null,null,{"$f":"SUM(EU3:EU38)","v":146},null,null,null,{"$f":"SUM(EY3:EY38)","v":141},null,null,null,{"$f":"SUM(FC3:FC38)","v":143},null,null,null,{"$f":"SUM(FG3:FG38)","v":135},null,null,null,{"$f":"SUM(FK3:FK38)","v":99},null,null,null,{"$f":"SUM(FO3:FO38)","v":159},null,null,null,{"$f":"SUM(FS3:FS38)","v":78},null,null,null,{"$f":"SUM(FW3:FW38)","v":133},null,null,null,{"$f":"SUM(GA3:GA38)","v":132},null,null,null,{"$f":"SUM(GE3:GE38)","v":138},null,null,null,{"$f":"SUM(GI3:GI38)","v":173},null,null,null,{"$f":"SUM(GM3:GM38)","v":140},null,null,null,{"$f":"SUM(GQ3:GQ38)","v":159},null,null,null,{"$f":"SUM(GU3:GU38)","v":145},null,null,null,{"$f":"SUM(GY3:GY38)","v":136},null,null,null,{"$f":"SUM(HC3:HC38)","v":136},null,null,null,{"$f":"SUM(HG3:HG38)","v":117},null,null,null,{"$f":"SUM(HK3:HK38)","v":116},null,null,null,{"$f":"SUM(HO3:HO38)","v":156},null,null,null,{"$f":"SUM(HS3:HS38)","v":114},null,null,null,{"$f":"SUM(HW3:HW38)","v":184},null,null,null,{"$f":"SUM(IA3:IA38)","v":167},null,null,null,{"$f":"SUM(IE3:IE38)","v":157},null,null,null,{"$f":"SUM(II3:II38)","v":148},null,null,null,{"$f":"SUM(IM3:IM38)","v":124},null,null,null,{"$f":"SUM(IQ3:IQ38)","v":146},null,null,null,{"$f":"SUM(IU3:IU38)","v":169},null,null,null,{"$f":"SUM(IY3:IY38)","v":162},null,null,null,{"$f":"SUM(JC3:JC38)","v":167},null,null,null,{"$f":"SUM(JG3:JG38)","v":148},null,null,null,{"$f":"SUM(JK3:JK38)","v":149},null,null,null,{"$f":"SUM(JO3:JO38)","v":172},null,null,null,{"$f":"SUM(JS3:JS38)","v":152},null,null,null,{"$f":"SUM(JW3:JW38)","v":147},null,null,null,{"$f":"SUM(KA3:KA38)","v":168},null,null,null,{"$f":"SUM(KE3:KE38)","v":153},null,null,null,{"$f":"SUM(KI3:KI38)","v":181},null,null,null,{"$f":"SUM(KM3:KM38)","v":156},null,null,null,{"$f":"SUM(KQ3:KQ38)","v":154},null,null,null,{"$f":"SUM(KU3:KU38)","v":148},null,null,null,{"$f":"SUM(KY3:KY38)","v":147},null,null,null,{"$f":"SUM(LC3:LC38)","v":167},null,null,null,{"$f":"SUM(LG3:LG38)","v":164},null,null,null,{"$f":"SUM(LK3:LK38)","v":146},null,null,null,{"$f":"SUM(LO3:LO38)","v":135},null,null,null,{"$f":"SUM(LS3:LS38)","v":165},null,null,null,{"$f":"SUM(LW3:LW38)","v":136},null,null,null,{"$f":"SUM(MA3:MA38)","v":129},null,null,null,{"$f":"SUM(ME3:ME38)","v":99},null,null,null,{"$f":"SUM(MI3:MI38)","v":164},null,null,null,{"$f":"SUM(MM3:MM38)","v":128},null,null,null,{"$f":"SUM(MQ3:MQ38)","v":166},null,null,null,{"$f":"SUM(MU3:MU38)","v":182},null,null,null,{"$f":"SUM(MY3:MY38)","v":158},null,null,null,{"$f":"SUM(NC3:NC38)","v":145},null,null,null,{"$f":"SUM(NG3:NG38)","v":165},null,null,null,{"$f":"SUM(NK3:NK38)","v":160},null,null,null,{"$f":"SUM(NO3:NO38)","v":113},null,null,null,{"$f":"SUM(NS3:NS38)","v":136},null,null,null,{"$f":"SUM(NW3:NW38)","v":156},null,null,null,{"$f":"SUM(OA3:OA38)","v":151},null,null,null,{"$f":"SUM(OE3:OE38)","v":149},null,null,null,{"$f":"SUM(OI3:OI38)","v":137},null,null,null,{"$f":"SUM(OM3:OM38)","v":185},null,null,null,{"$f":"SUM(OQ3:OQ38)","v":140},null,null,null,{"$f":"SUM(OU3:OU38)","v":160},null,null,null,{"$f":"SUM(OY3:OY38)","v":163},null,null,null,{"$f":"SUM(PC3:PC38)","v":104},null,null,null,{"$f":"SUM(PG3:PG38)","v":174},null,null,null,{"$f":"SUM(PK3:PK38)","v":144},null,null,null,{"$f":"SUM(PO3:PO38)","v":72},null,null,null,{"$f":"SUM(PS3:PS38)","v":142},null,null,null,{"$f":"SUM(PW3:PW38)","v":126},null,null,null,{"$f":"SUM(QA3:QA38)","v":73},null,null,null,{"$f":"SUM(QE3:QE38)","v":137},null,null,null,{"$f":"SUM(QI3:QI38)","v":154},null,null,null,{"$f":"SUM(QM3:QM38)","v":185},null,null,{"$f":"SUM(H39:QI39)","v":15966}]
["2021-06-26",1,"Wales","Denmark",0,"-",4,1,"-",2,{"$f":"ResultsCalc(Players!$E40,Players!$G40,Players!H40,Players!J40)","v":4},0,"-",1,{"$f":"ResultsCalc(Players!$E40,Players!$G40,Players!L40,Players!N40)","v":6},2,"-",1,{"$f":"ResultsCalc(Players!$E40,Players!$G40,Players!P40,Players!R40)","v":0},2,"-",1,{"$f":"ResultsCalc(Players!$E40,Players!$G40,Players!T40,Players!V40)","v":0},2,"-",0,{"$f":"ResultsCalc(Players!$E40,Players!$G40,Players!X40,Players!Z40)","v":0},1,"-",2,{"$f":"ResultsCalc(Players!$E40,Players!$G40,Players!AB40,Players!AD40)","v":4},1,"-",2,{"$f":"ResultsCalc(Players!$E40,Players!$G40,Players!AF40,Players!AH40)","v":4},1,"-",0,{"$f":"ResultsCalc(Players!$E40,Players!$G40,Players!AJ40,Players!AL40)","v":0},0,"-",2,{"$f":"ResultsCalc(Players!$E40,Players!$G40,Players!AN40,Players!AP40)","v":6},1,"-",1,{"$f":"ResultsCalc(Players!$E40,Players!$G40,Players!AR40,Players!AT40)","v":0},1,"-",3,{"$f":"ResultsCalc(Players!$E40,Players!$G40,Players!AV40,Players!AX40)","v":4},2,"-",3,{"$f":"ResultsCalc(Players!$E40,Players!$G40,Players!AZ40,Players!BB40)","v":4},1,"-",2,{"$f":"ResultsCalc(Players!$E40,Players!$G40,Players!BD40,Players!BF40)","v":4},2,"-",1,{"$f":"ResultsCalc(Players!$E40,Players!$G40,Players!BH40,Players!BJ40)","v":0},1,"-",2,{"$f":"ResultsCalc(Players!$E40,Players!$G40,Players!BL40,Players!BN40)","v":4},1,"-",2,{"$f":"ResultsCalc(Players!$E40,Players!$G40,Players!BP40,Players!BR40)","v":4},1,"-",2,{"$f":"ResultsCalc(Players!$E40,Players!$G40,Players!BT40,Players!BV40)","v":4},2,"-",1,{"$f":"ResultsCalc(Players!$E40,Players!$G40,Players!BX40,Players!BZ40)","v":0},1,"-",2,{"$f":"ResultsCalc(Players!$E40,Players!$G40,Players!CB40,Players!CD40)","v":4},0,"-",2,{"$f":"ResultsCalc(Players!$E40,Players!$G40,Players!CF40,Players!CH40)","v":6},1,"-",1,{"$f":"ResultsCalc(Players!$E40,Players!$G40,Players!CJ40,Players!CL40)","v":0},1,"-",2,{"$f":"ResultsCalc(Players!$E40,Players!$G40,Players!CN40,Players!CP40)","v":4},1,"-",0,{"$f":"ResultsCalc(Players!$E40,Players!$G40,Players!CR40,Players!CT40)","v":0},2,"-",0,{"$f":"ResultsCalc(Players!$E40,Players!$G40,Players!CV40,Players!CX40)","v":0},0,"-",1,{"$f":"ResultsCalc(Players!$E40,Players!$G40,Players!CZ40,Players!DB40)","v":6},2,"-",1,{"$f":"ResultsCalc(Players!$E40,Players!$G40,Players!DD40,Players!DF40)","v":0},1,"-",1,{"$f":"ResultsCalc(Players!$E40,Players!$G40,Players!DH40,Players!DJ40)","v":0},1,"-",2,{"$f":"ResultsCalc(Players!$E40,Players!$G40,Players!DL40,Players!DN40)","v":4},1,"-",2,{"$f":"ResultsCalc(Players!$E40,Players!$G40,Players!DP40,Players!DR40)","v":4},0,"-",1,{"$f":"ResultsCalc(Players!$E40,Players!$G40,Players!DT40,Players!DV40)","v":6},1,"-",2,{"$f":"ResultsCalc(Players!$E40,Players!$G40,Players!DX40,Players!DZ40)","v":4},0,"-",2,{"$f":"ResultsCalc(Players!$E40,Players!$G40,Players!EB40,Players!ED40)","v":6},2,"-",0,{"$f":"ResultsCalc(Players!$E40,Players!$G40,Players!EF40,Players!EH40)","v":0},0,"-",2,{"$f":"ResultsCalc(Players!$E40,Players!$G40,Players!EJ40,Players!EL40)","v":6},1,"-",2,{"$f":"ResultsCalc(Players!$E40,Players!$G40,Players!EN40,Players!EP40)","v":4},1,"-",2,{"$f":"ResultsCalc(Players!$E40,Players!$G40,Players!ER40,Players!ET40)","v":4},1,"-",0,{"$f":"ResultsCalc(Players!$E40,Players!$G40,Players!EV40,Players!EX40)","v":0},2,"-",1,{"$f":"ResultsCalc(Players!$E40,Players!$G40,Players!EZ40,Players!FB40)","v":0},2,"-",1,{"$f":"ResultsCalc(Players!$E40,Players!$G40,Players!FD40,Players!FF40)","v":0},2,"-",1,{"$f":"ResultsCalc(Players!$E40,Players!$G40,Players!FH40,Players!FJ40)","v":0},1,"-",2,{"$f":"ResultsCalc(Players!$E40,Players!$G40,Players!FL40,Players!FN40)","v":4},1,"-",1,{"$f":"ResultsCalc(Players!$E40,Players!$G40,Players!FP40,Players!FR40)","v":0},0,"-",0,{"$f":"ResultsCalc(Players!$E40,Players!$G40,Players!FT40,Players!FV40)","v":2},1,"-",1,{"$f":"ResultsCalc(Players!$E40,Players!$G40,Players!FX40,Players!FZ40)","v":0},0,"-",1,{"$f":"ResultsCalc(Players!$E40,Players!$G40,Players!GB40,Players!GD40)","v":6},1,"-",1,{"$f":"ResultsCalc(Players!$E40,Players!$G40,Players!GF40,Players!GH40)","v":0},1,"-",2,{"$f":"ResultsCalc(Players!$E40,Players!$G40,Players!GJ40,Players!GL40)","v":4},2,"-",1,{"$f":"ResultsCalc(Players!$E40,Players!$G40,Players!GN40,Players!GP40)","v":0},0,"-",2,{"$f":"ResultsCalc(Players!$E40,Players!$G40,Players!GR40,Players!GT40)","v":6},1,"-",0,{"$f":"ResultsCalc(Players!$E40,Players!$G40,Players!GV40,Players!GX40)","v":0},1,"-",0,{"$f":"ResultsCalc(Players!$E40,Players!$G40,Players!GZ40,Players!HB40)","v":0},1,"-",0,{"$f":"ResultsCalc(Players!$E40,Players!$G40,Players!HD40,Players!HF40)","v":0},0,"-",1,{"$f":"ResultsCalc(Players!$E40,Players!$G40,Players!HH40,Players!HJ40)","v":6},1,"-",2,{"$f":"ResultsCalc(Players!$E40,Players!$G40,Players!HL40,Players!HN40)","v":4},2,"-",2,{"$f":"ResultsCalc(Players!$E40,Players!$G40,Players!HP40,Players!HR40)","v":0},1,"-",2,{"$f":"ResultsCalc(Players!$E40,Players!$G40,Players!HT40,Players!HV40)","v":4},1,"-",1,{"$f":"ResultsCalc(Players!$E40,Players!$G40,Players!HX40,Players!HZ40)","v":0},1,"-",2,{"$f":"ResultsCalc(Players!$E40,Players!$G40,Players!IB40,Players!ID40)","v":4},0,"-",1,{"$f":"ResultsCalc(Players!$E40,Players!$G40,Players!IF40,Players!IH40)","v":6},1,"-",0,{"$f":"ResultsCalc(Players!$E40,Players!$G40,Players!IJ40,Players!IL40)","v":0},1,"-",1,{"$f":"ResultsCalc(Players!$E40,Players!$G40,Players!IN40,Players!IP40)","v":0},2,"-",2,{"$f":"ResultsCalc(Players!$E40,Players!$G40,Players!IR40,Players!IT40)","v":0},1,"-",2,{"$f":"ResultsCalc(Players!$E40,Players!$G40,Players!IV40,Players!IX40)","v":4},0,"-",1,{"$f":"ResultsCalc(Players!$E40,Players!$G40,Players!IZ40,Players!JB40)","v":6},0,"-",1,{"$f":"ResultsCalc(Players!$E40,Players!$G40,Players!JD40,Players!JF40)","v":6},3,"-",0,{"$f":"ResultsCalc(Players!$E40,Players!$G40,Players!JH40,Players!JJ40)","v":0},0,"-",1,{"$f":"ResultsCalc(Players!$E40,Players!$G40,Players!JL40,Players!JN40)","v":6},1,"-",2,{"$f":"ResultsCalc(Players!$E40,Players!$G40,Players!JP40,Players!JR40)","v":4},1,"-",1,{"$f":"ResultsCalc(Players!$E40,Players!$G40,Players!JT40,Players!JV40)","v":0},1,"-",2,{"$f":"ResultsCalc(Players!$E40,Players!$G40,Players!JX40,Players!JZ40)","v":4},2,"-",1,{"$f":"ResultsCalc(Players!$E40,Players!$G40,Players!KB40,Players!KD40)","v":0},0,"-",2,{"$f":"ResultsCalc(Players!$E40,Players!$G40,Players!KF40,Players!KH40)","v":6},2,"-",1,{"$f":"ResultsCalc(Players!$E40,Players!$G40,Players!KJ40,Players!KL40)","v":0},1,"-",0,{"$f":"ResultsCalc(Players!$E40,Players!$G40,Players!KN40,Players!KP40)","v":0},1,"-",2,{"$f":"ResultsCalc(Players!$E40,Players!$G40,Players!KR40,Players!KT40)","v":4},1,"-",3,{"$f":"ResultsCalc(Players!$E40,Players!$G40,Players!KV40,Players!KX40)","v":4},1,"-",2,{"$f":"ResultsCalc(Players!$E40,Players!$G40,Players!KZ40,Players!LB40)","v":4},1,"-",1,{"$f":"ResultsCalc(Players!$E40,Players!$G40,Players!LD40,Players!LF40)","v":0},2,"-",0,{"$f":"ResultsCalc(Players!$E40,Players!$G40,Players!LH40,Players!LJ40)","v":0},2,"-",1,{"$f":"ResultsCalc(Players!$E40,Players!$G40,Players!LL40,Players!LN40)","v":0},0,"-",1,{"$f":"ResultsCalc(Players!$E40,Players!$G40,Players!LP40,Players!LR40)","v":6},2,"-",1,{"$f":"ResultsCalc(Players!$E40,Players!$G40,Players!LT40,Players!LV40)","v":0},1,"-",2,{"$f":"ResultsCalc(Players!$E40,Players!$G40,Players!LX40,Players!LZ40)","v":4},2,"-",1,{"$f":"ResultsCalc(Players!$E40,Players!$G40,Players!MB40,Players!MD40)","v":0},1,"-",1,{"$f":"ResultsCalc(Players!$E40,Players!$G40,Players!MF40,Players!MH40)","v":0},2,"-",1,{"$f":"ResultsCalc(Players!$E40,Players!$G40,Players!MJ40,Players!ML40)","v":0},1,"-",1,{"$f":"ResultsCalc(Players!$E40,Players!$G40,Players!MN40,Players!MP40)","v":0},1,"-",2,{"$f":"ResultsCalc(Players!$E40,Players!$G40,Players!MR40,Players!MT40)","v":4},2,"-",1,{"$f":"ResultsCalc(Players!$E40,Players!$G40,Players!MV40,Players!MX40)","v":0},2,"-",1,{"$f":"ResultsCalc(Players!$E40,Players!$G40,Players!MZ40,Players!NB40)","v":0},2,"-",1,{"$f":"ResultsCalc(Players!$E40,Players!$G40,Players!ND40,Players!NF40)","v":0},1,"-",0,{"$f":"ResultsCalc(Players!$E40,Players!$G40,Players!NH40,Players!NJ40)","v":0},0,"-",1,{"$f":"ResultsCalc(Players!$E40,Players!$G40,Players!NL40,Players!NN40)","v":6},3,"-",1,{"$f":"ResultsCalc(Players!$E40,Players!$G40,Players!NP40,Players!NR40)","v":0},1,"-",1,{"$f":"ResultsCalc(Players!$E40,Players!$G40,Players!NT40,Players!NV40)","v":0},1,"-",0,{"$f":"ResultsCalc(Players!$E40,Players!$G40,Players!NX40,Players!NZ40)","v":0},2,"-",1,{"$f":"ResultsCalc(Players!$E40,Players!$G40,Players!OB40,Players!OD40)","v":0},1,"-",0,{"$f":"ResultsCalc(Players!$E40,Players!$G40,Players!OF40,Players!OH40)","v":0},2,"-",1,{"$f":"ResultsCalc(Players!$E40,Players!$G40,Players!OJ40,Players!OL40)","v":0},1,"-",0,{"$f":"ResultsCalc(Players!$E40,Players!$G40,Players!ON40,Players!OP40)","v":0},2,"-",1,{"$f":"ResultsCalc(Players!$E40,Players!$G40,Players!OR40,Players!OT40)","v":0},1,"-",3,{"$f":"ResultsCalc(Players!$E40,Players!$G40,Players!OV40,Players!OX40)","v":4},3,"-",0,{"$f":"ResultsCalc(Players!$E40,Players!$G40,Players!OZ40,Players!PB40)","v":0},1,"-",0,{"$f":"ResultsCalc(Players!$E40,Players!$G40,Players!PD40,Players!PF40)","v":0},2,"-",1,{"$f":"ResultsCalc(Players!$E40,Players!$G40,Players!PH40,Players!PJ40)","v":0},0,"-",1,{"$f":"ResultsCalc(Players!$E40,Players!$G40,Players!PL40,Players!PN40)","v":6},2,"-",2,{"$f":"ResultsCalc(Players!$E40,Players!$G40,Players!PP40,Players!PR40)","v":0},1,"-",3,{"$f":"ResultsCalc(Players!$E40,Players!$G40,Players!PT40,Players!PV40)","v":4},1,"-",1,{"$f":"ResultsCalc(Players!$E40,Players!$G40,Players!PX40,Players!PZ40)","v":0},null,"-",null,{"$f":"ResultsCalc(Players!$E40,Players!$G40,Players!QB40,Players!QD40)","v":0},2,"-",1,{"$f":"ResultsCalc(Players!$E40,Players!$G40,Players!QF40,Players!QH40)","v":0},2,"-",1,{"$f":"ResultsCalc(Players!$E40,Players!$G40,Players!QJ40,Players!QL40)","v":0},null,0,null,{"$f":"MAX(H40:QM40)","v":6},{"$f":"COUNTIF(H40:QM40,(MAX(H40:QM40)))","v":18}]
["2021-06-26",2,"Italy","Austria",2,"-",1,2,"-",0,{"$f":"ResultsCalc(Players!$E41,Players!$G41,Players!H41,Players!J41)","v":6},2,"-",0,{"$f":"ResultsCalc(Players!$E41,Players!$G41,Players!L41,Players!N41)","v":6},2,"-",1,{"$f":"ResultsCalc(Players!$E41,Players!$G41,Players!P41,Players!R41)","v":13},3,"-",1,{"$f":"ResultsCalc(Players!$E41,Players!$G41,Players!T41,Players!V41)","v":6},3,"-",1,{"$f":"ResultsCalc(Players!$E41,Players!$G41,Players!X41,Players!Z41)","v":6},1,"-",0,{"$f":"ResultsCalc(Players!$E41,Players!$G41,Players!AB41,Players!AD41)","v":6},3,"-",2,{"$f":"ResultsCalc(Players!$E41,Players!$G41,Players!AF41,Players!AH41)","v":6},2,"-",1,{"$f":"ResultsCalc(Players!$E41,Players!$G41,Players!AJ41,Players!AL41)","v":13},2,"-",1,{"$f":"ResultsCalc(Players!$E41,Players!$G41,Players!AN41,Players!AP41)","v":13},1,"-",0,{"$f":"ResultsCalc(Players!$E41,Players!$G41,Players!AR41,Players!AT41)","v":6},3,"-",0,{"$f":"ResultsCalc(Players!$E41,Players!$G41,Players!AV41,Players!AX41)","v":4},2,"-",0,{"$f":"ResultsCalc(Players!$E41,Players!$G41,Players!AZ41,Players!BB41)","v":6},3,"-",1,{"$f":"ResultsCalc(Players!$E41,Players!$G41,Players!BD41,Players!BF41)","v":6},1,"-",1,{"$f":"ResultsCalc(Players!$E41,Players!$G41,Players!BH41,Players!BJ41)","v":2},3,"-",0,{"$f":"ResultsCalc(Players!$E41,Players!$G41,Players!BL41,Players!BN41)","v":4},3,"-",0,{"$f":"ResultsCalc(Players!$E41,Players!$G41,Players!BP41,Players!BR41)","v":4},2,"-",0,{"$f":"ResultsCalc(Players!$E41,Players!$G41,Players!BT41,Players!BV41)","v":6},3,"-",1,{"$f":"ResultsCalc(Players!$E41,Players!$G41,Players!BX41,Players!BZ41)","v":6},2,"-",0,{"$f":"ResultsCalc(Players!$E41,Players!$G41,Players!CB41,Players!CD41)","v":6},1,"-",1,{"$f":"ResultsCalc(Players!$E41,Players!$G41,Players!CF41,Players!CH41)","v":2},2,"-",0,{"$f":"ResultsCalc(Players!$E41,Players!$G41,Players!CJ41,Players!CL41)","v":6},2,"-",0,{"$f":"ResultsCalc(Players!$E41,Players!$G41,Players!CN41,Players!CP41)","v":6},2,"-",1,{"$f":"ResultsCalc(Players!$E41,Players!$G41,Players!CR41,Players!CT41)","v":13},3,"-",0,{"$f":"ResultsCalc(Players!$E41,Players!$G41,Players!CV41,Players!CX41)","v":4},2,"-",0,{"$f":"ResultsCalc(Players!$E41,Players!$G41,Players!CZ41,Players!DB41)","v":6},3,"-",1,{"$f":"ResultsCalc(Players!$E41,Players!$G41,Players!DD41,Players!DF41)","v":6},1,"-",1,{"$f":"ResultsCalc(Players!$E41,Players!$G41,Players!DH41,Players!DJ41)","v":2},2,"-",1,{"$f":"ResultsCalc(Players!$E41,Players!$G41,Players!DL41,Players!DN41)","v":13},3,"-",1,{"$f":"ResultsCalc(Players!$E41,Players!$G41,Players!DP41,Players!DR41)","v":6},2,"-",1,{"$f":"ResultsCalc(Players!$E41,Players!$G41,Players!DT41,Players!DV41)","v":13},4,"-",0,{"$f":"ResultsCalc(Players!$E41,Players!$G41,Players!DX41,Players!DZ41)","v":4},2,"-",0,{"$f":"ResultsCalc(Players!$E41,Players!$G41,Players!EB41,Players!ED41)","v":6},1,"-",0,{"$f":"ResultsCalc(Players!$E41,Players!$G41,Players!EF41,Players!EH41)","v":6},1,"-",0,{"$f":"ResultsCalc(Players!$E41,Players!$G41,Players!EJ41,Players!EL41)","v":6},2,"-",0,{"$f":"ResultsCalc(Players!$E41,Players!$G41,Players!EN41,Players!EP41)","v":6},2,"-",0,{"$f":"ResultsCalc(Players!$E41,Players!$G41,Players!ER41,Players!ET41)","v":6},2,"-",0,{"$f":"ResultsCalc(Players!$E41,Players!$G41,Players!EV41,Players!EX41)","v":6},3,"-",1,{"$f":"ResultsCalc(Players!$E41,Players!$G41,Players!EZ41,Players!FB41)","v":6},2,"-",2,{"$f":"ResultsCalc(Players!$E41,Players!$G41,Players!FD41,Players!FF41)","v":2},2,"-",0,{"$f":"ResultsCalc(Players!$E41,Players!$G41,Players!FH41,Players!FJ41)","v":6},2,"-",0,{"$f":"ResultsCalc(Players!$E41,Players!$G41,Players!FL41,Players!FN41)","v":6},1,"-",1,{"$f":"ResultsCalc(Players!$E41,Players!$G41,Players!FP41,Players!FR41)","v":2},1,"-",1,{"$f":"ResultsCalc(Players!$E41,Players!$G41,Players!FT41,Players!FV41)","v":2},1,"-",1,{"$f":"ResultsCalc(Players!$E41,Players!$G41,Players!FX41,Players!FZ41)","v":2},2,"-",1,{"$f":"ResultsCalc(Players!$E41,Players!$G41,Players!GB41,Players!GD41)","v":13},2,"-",0,{"$f":"ResultsCalc(Players!$E41,Players!$G41,Players!GF41,Players!GH41)","v":6},2,"-",0,{"$f":"ResultsCalc(Players!$E41,Players!$G41,Players!GJ41,Players!GL41)","v":6},2,"-",0,{"$f":"ResultsCalc(Players!$E41,Players!$G41,Players!GN41,Players!GP41)","v":6},1,"-",1,{"$f":"ResultsCalc(Players!$E41,Players!$G41,Players!GR41,Players!GT41)","v":2},1,"-",1,{"$f":"ResultsCalc(Players!$E41,Players!$G41,Players!GV41,Players!GX41)","v":2},2,"-",0,{"$f":"ResultsCalc(Players!$E41,Players!$G41,Players!GZ41,Players!HB41)","v":6},1,"-",2,{"$f":"ResultsCalc(Players!$E41,Players!$G41,Players!HD41,Players!HF41)","v":0},2,"-",1,{"$f":"ResultsCalc(Players!$E41,Players!$G41,Players!HH41,Players!HJ41)","v":13},3,"-",0,{"$f":"ResultsCalc(Players!$E41,Players!$G41,Players!HL41,Players!HN41)","v":4},2,"-",1,{"$f":"ResultsCalc(Players!$E41,Players!$G41,Players!HP41,Players!HR41)","v":13},2,"-",0,{"$f":"ResultsCalc(Players!$E41,Players!$G41,Players!HT41,Players!HV41)","v":6},2,"-",0,{"$f":"ResultsCalc(Players!$E41,Players!$G41,Players!HX41,Players!HZ41)","v":6},3,"-",0,{"$f":"ResultsCalc(Players!$E41,Players!$G41,Players!IB41,Players!ID41)","v":4},2,"-",0,{"$f":"ResultsCalc(Players!$E41,Players!$G41,Players!IF41,Players!IH41)","v":6},3,"-",3,{"$f":"ResultsCalc(Players!$E41,Players!$G41,Players!IJ41,Players!IL41)","v":0},1,"-",1,{"$f":"ResultsCalc(Players!$E41,Players!$G41,Players!IN41,Players!IP41)","v":2},1,"-",2,{"$f":"ResultsCalc(Players!$E41,Players!$G41,Players!IR41,Players!IT41)","v":0},3,"-",0,{"$f":"ResultsCalc(Players!$E41,Players!$G41,Players!IV41,Players!IX41)","v":4},1,"-",0,{"$f":"ResultsCalc(Players!$E41,Players!$G41,Players!IZ41,Players!JB41)","v":6},2,"-",1,{"$f":"ResultsCalc(Players!$E41,Players!$G41,Players!JD41,Players!JF41)","v":13},2,"-",0,{"$f":"ResultsCalc(Players!$E41,Players!$G41,Players!JH41,Players!JJ41)","v":6},2,"-",1,{"$f":"ResultsCalc(Players!$E41,Players!$G41,Players!JL41,Players!JN41)","v":13},2,"-",1,{"$f":"ResultsCalc(Players!$E41,Players!$G41,Players!JP41,Players!JR41)","v":13},1,"-",1,{"$f":"ResultsCalc(Players!$E41,Players!$G41,Players!JT41,Players!JV41)","v":2},3,"-",1,{"$f":"ResultsCalc(Players!$E41,Players!$G41,Players!JX41,Players!JZ41)","v":6},3,"-",0,{"$f":"ResultsCalc(Players!$E41,Players!$G41,Players!KB41,Players!KD41)","v":4},2,"-",1,{"$f":"ResultsCalc(Players!$E41,Players!$G41,Players!KF41,Players!KH41)","v":13},3,"-",0,{"$f":"ResultsCalc(Players!$E41,Players!$G41,Players!KJ41,Players!KL41)","v":4},2,"-",0,{"$f":"ResultsCalc(Players!$E41,Players!$G41,Players!KN41,Players!KP41)","v":6},2,"-",0,{"$f":"ResultsCalc(Players!$E41,Players!$G41,Players!KR41,Players!KT41)","v":6},3,"-",1,{"$f":"ResultsCalc(Players!$E41,Players!$G41,Players!KV41,Players!KX41)","v":6},2,"-",0,{"$f":"ResultsCalc(Players!$E41,Players!$G41,Players!KZ41,Players!LB41)","v":6},1,"-",1,{"$f":"ResultsCalc(Players!$E41,Players!$G41,Players!LD41,Players!LF41)","v":2},2,"-",1,{"$f":"ResultsCalc(Players!$E41,Players!$G41,Players!LH41,Players!LJ41)","v":13},3,"-",0,{"$f":"ResultsCalc(Players!$E41,Players!$G41,Players!LL41,Players!LN41)","v":4},2,"-",1,{"$f":"ResultsCalc(Players!$E41,Players!$G41,Players!LP41,Players!LR41)","v":13},2,"-",0,{"$f":"ResultsCalc(Players!$E41,Players!$G41,Players!LT41,Players!LV41)","v":6},2,"-",0,{"$f":"ResultsCalc(Players!$E41,Players!$G41,Players!LX41,Players!LZ41)","v":6},2,"-",0,{"$f":"ResultsCalc(Players!$E41,Players!$G41,Players!MB41,Players!MD41)","v":6},2,"-",0,{"$f":"ResultsCalc(Players!$E41,Players!$G41,Players!MF41,Players!MH41)","v":6},2,"-",0,{"$f":"ResultsCalc(Players!$E41,Players!$G41,Players!MJ41,Players!ML41)","v":6},2,"-",0,{"$f":"ResultsCalc(Players!$E41,Players!$G41,Players!MN41,Players!MP41)","v":6},2,"-",0,{"$f":"ResultsCalc(Players!$E41,Players!$G41,Players!MR41,Players!MT41)","v":6},2,"-",0,{"$f":"ResultsCalc(Players!$E41,Players!$G41,Players!MV41,Players!MX41)","v":6},2,"-",0,{"$f":"ResultsCalc(Players!$E41,Players!$G41,Players!MZ41,Players!NB41)","v":6},3,"-",0,{"$f":"ResultsCalc(Players!$E41,Players!$G41,Players!ND41,Players!NF41)","v":4},1,"-",0,{"$f":"ResultsCalc(Players!$E41,Players!$G41,Players!NH41,Players!NJ41)","v":6},2,"-",0,{"$f":"ResultsCalc(Players!$E41,Players!$G41,Players!NL41,Players!NN41)","v":6},3,"-",1,{"$f":"ResultsCalc(Players!$E41,Players!$G41,Players!NP41,Players!NR41)","v":6},2,"-",1,{"$f":"ResultsCalc(Players!$E41,Players!$G41,Players!NT41,Players!NV41)","v":13},2,"-",0,{"$f":"ResultsCalc(Players!$E41,Players!$G41,Players!NX41,Players!NZ41)","v":6},2,"-",0,{"$f":"ResultsCalc(Players!$E41,Players!$G41,Players!OB41,Players!OD41)","v":6},3,"-",0,{"$f":"ResultsCalc(Players!$E41,Players!$G41,Players!OF41,Players!OH41)","v":4},2,"-",0,{"$f":"ResultsCalc(Players!$E41,Players!$G41,Players!OJ41,Players!OL41)","v":6},2,"-",1,{"$f":"ResultsCalc(Players!$E41,Players!$G41,Players!ON41,Players!OP41)","v":13},2,"-",0,{"$f":"ResultsCalc(Players!$E41,Players!$G41,Players!OR41,Players!OT41)","v":6},3,"-",2,{"$f":"ResultsCalc(Players!$E41,Players!$G41,Players!OV41,Players!OX41)","v":6},3,"-",0,{"$f":"ResultsCalc(Players!$E41,Players!$G41,Players!OZ41,Players!PB41)","v":4},2,"-",0,{"$f":"ResultsCalc(Players!$E41,Players!$G41,Players!PD41,Players!PF41)","v":6},1,"-",1,{"$f":"ResultsCalc(Players!$E41,Players!$G41,Players!PH41,Players!PJ41)","v":2},4,"-",3,{"$f":"ResultsCalc(Players!$E41,Players!$G41,Players!PL41,Players!PN41)","v":6},1,"-",2,{"$f":"ResultsCalc(Players!$E41,Players!$G41,Players!PP41,Players!PR41)","v":0},2,"-",1,{"$f":"ResultsCalc(Players!$E41,Players!$G41,Players!PT41,Players!PV41)","v":13},1,"-",1,{"$f":"ResultsCalc(Players!$E41,Players!$G41,Players!PX41,Players!PZ41)","v":2},null,"-",null,{"$f":"ResultsCalc(Players!$E41,Players!$G41,Players!QB41,Players!QD41)","v":0},2,"-",0,{"$f":"ResultsCalc(Players!$E41,Players!$G41,Players!QF41,Players!QH41)","v":6},3,"-",1,{"$f":"ResultsCalc(Players!$E41,Players!$G41,Players!QJ41,Players!QL41)","v":6},null,18,null,13,18]
["2021-06-27",3,"Netherlands","Czech Republic",null,"-",null,2,"-",2,{"$f":"ResultsCalc(Players!$E42,Players!$G42,Players!H42,Players!J42)","v":" "},2,"-",1,{"$f":"ResultsCalc(Players!$E42,Players!$G42,Players!L42,Players!N42)","v":" "},0,"-",1,{"$f":"ResultsCalc(Players!$E42,Players!$G42,Players!P42,Players!R42)","v":" "},2,"-",0,{"$f":"ResultsCalc(Players!$E42,Players!$G42,Players!T42,Players!V42)","v":" "},2,"-",0,{"$f":"ResultsCalc(Players!$E42,Players!$G42,Players!X42,Players!Z42)","v":" "},0,"-",1,{"$f":"ResultsCalc(Players!$E42,Players!$G42,Players!AB42,Players!AD42)","v":" "},2,"-",1,{"$f":"ResultsCalc(Players!$E42,Players!$G42,Players!AF42,Players!AH42)","v":" "},1,"-",0,{"$f":"ResultsCalc(Players!$E42,Players!$G42,Players!AJ42,Players!AL42)","v":" "},2,"-",2,{"$f":"ResultsCalc(Players!$E42,Players!$G42,Players!AN42,Players!AP42)","v":" "},1,"-",1,{"$f":"ResultsCalc(Players!$E42,Players!$G42,Players!AR42,Players!AT42)","v":" "},0,"-",0,{"$f":"ResultsCalc(Players!$E42,Players!$G42,Players!AV42,Players!AX42)","v":" "},2,"-",0,{"$f":"ResultsCalc(Players!$E42,Players!$G42,Players!AZ42,Players!BB42)","v":" "},2,"-",1,{"$f":"ResultsCalc(Players!$E42,Players!$G42,Players!BD42,Players!BF42)","v":" "},1,"-",0,{"$f":"ResultsCalc(Players!$E42,Players!$G42,Players!BH42,Players!BJ42)","v":" "},2,"-",2,{"$f":"ResultsCalc(Players!$E42,Players!$G42,Players!BL42,Players!BN42)","v":" "},2,"-",2,{"$f":"ResultsCalc(Players!$E42,Players!$G42,Players!BP42,Players!BR42)","v":" "},2,"-",2,{"$f":"ResultsCalc(Players!$E42,Players!$G42,Players!BT42,Players!BV42)","v":" "},2,"-",1,{"$f":"ResultsCalc(Players!$E42,Players!$G42,Players!BX42,Players!BZ42)","v":" "},1,"-",1,{"$f":"ResultsCalc(Players!$E42,Players!$G42,Players!CB42,Players!CD42)","v":" "},1,"-",2,{"$f":"ResultsCalc(Players!$E42,Players!$G42,Players!CF42,Players!CH42)","v":" "},2,"-",0,{"$f":"ResultsCalc(Players!$E42,Players!$G42,Players!CJ42,Players!CL42)","v":" "},2,"-",0,{"$f":"ResultsCalc(Players!$E42,Players!$G42,Players!CN42,Players!CP42)","v":" "},1,"-",0,{"$f":"ResultsCalc(Players!$E42,Players!$G42,Players!CR42,Players!CT42)","v":" "},1,"-",1,{"$f":"ResultsCalc(Players!$E42,Players!$G42,Players!CV42,Players!CX42)","v":" "},2,"-",0,{"$f":"ResultsCalc(Players!$E42,Players!$G42,Players!CZ42,Players!DB42)","v":" "},2,"-",1,{"$f":"ResultsCalc(Players!$E42,Players!$G42,Players!DD42,Players!DF42)","v":" "},1,"-",1,{"$f":"ResultsCalc(Players!$E42,Players!$G42,Players!DH42,Players!DJ42)","v":" "},1,"-",2,{"$f":"ResultsCalc(Players!$E42,Players!$G42,Players!DL42,Players!DN42)","v":" "},2,"-",1,{"$f":"ResultsCalc(Players!$E42,Players!$G42,Players!DP42,Players!DR42)","v":" "},1,"-",1,{"$f":"ResultsCalc(Players!$E42,Players!$G42,Players!DT42,Players!DV42)","v":" "},1,"-",3,{"$f":"ResultsCalc(Players!$E42,Players!$G42,Players!DX42,Players!DZ42)","v":" "},1,"-",1,{"$f":"ResultsCalc(Players!$E42,Players!$G42,Players!EB42,Players!ED42)","v":" "},1,"-",2,{"$f":"ResultsCalc(Players!$E42,Players!$G42,Players!EF42,Players!EH42)","v":" "},2,"-",0,{"$f":"ResultsCalc(Players!$E42,Players!$G42,Players!EJ42,Players!EL42)","v":" "},2,"-",1,{"$f":"ResultsCalc(Players!$E42,Players!$G42,Players!EN42,Players!EP42)","v":" "},2,"-",0,{"$f":"ResultsCalc(Players!$E42,Players!$G42,Players!ER42,Players!ET42)","v":" "},2,"-",1,{"$f":"ResultsCalc(Players!$E42,Players!$G42,Players!EV42,Players!EX42)","v":" "},3,"-",1,{"$f":"ResultsCalc(Players!$E42,Players!$G42,Players!EZ42,Players!FB42)","v":" "},1,"-",2,{"$f":"ResultsCalc(Players!$E42,Players!$G42,Players!FD42,Players!FF42)","v":" "},2,"-",1,{"$f":"ResultsCalc(Players!$E42,Players!$G42,Players!FH42,Players!FJ42)","v":" "},1,"-",2,{"$f":"ResultsCalc(Players!$E42,Players!$G42,Players!FL42,Players!FN42)","v":" "},1,"-",1,{"$f":"ResultsCalc(Players!$E42,Players!$G42,Players!FP42,Players!FR42)","v":" "},2,"-",2,{"$f":"ResultsCalc(Players!$E42,Players!$G42,Players!FT42,Players!FV42)","v":" "},1,"-",1,{"$f":"ResultsCalc(Players!$E42,Players!$G42,Players!FX42,Players!FZ42)","v":" "},3,"-",1,{"$f":"ResultsCalc(Players!$E42,Players!$G42,Players!GB42,Players!GD42)","v":" "},2,"-",1,{"$f":"ResultsCalc(Players!$E42,Players!$G42,Players!GF42,Players!GH42)","v":" "},1,"-",0,{"$f":"ResultsCalc(Players!$E42,Players!$G42,Players!GJ42,Players!GL42)","v":" "},1,"-",0,{"$f":"ResultsCalc(Players!$E42,Players!$G42,Players!GN42,Players!GP42)","v":" "},1,"-",2,{"$f":"ResultsCalc(Players!$E42,Players!$G42,Players!GR42,Players!GT42)","v":" "},2,"-",1,{"$f":"ResultsCalc(Players!$E42,Players!$G42,Players!GV42,Players!GX42)","v":" "},4,"-",3,{"$f":"ResultsCalc(Players!$E42,Players!$G42,Players!GZ42,Players!HB42)","v":" "},2,"-",1,{"$f":"ResultsCalc(Players!$E42,Players!$G42,Players!HD42,Players!HF42)","v":" "},1,"-",0,{"$f":"ResultsCalc(Players!$E42,Players!$G42,Players!HH42,Players!HJ42)","v":" "},2,"-",0,{"$f":"ResultsCalc(Players!$E42,Players!$G42,Players!HL42,Players!HN42)","v":" "},2,"-",2,{"$f":"ResultsCalc(Players!$E42,Players!$G42,Players!HP42,Players!HR42)","v":" "},2,"-",0,{"$f":"ResultsCalc(Players!$E42,Players!$G42,Players!HT42,Players!HV42)","v":" "},2,"-",0,{"$f":"ResultsCalc(Players!$E42,Players!$G42,Players!HX42,Players!HZ42)","v":" "},2,"-",0,{"$f":"ResultsCalc(Players!$E42,Players!$G42,Players!IB42,Players!ID42)","v":" "},1,"-",2,{"$f":"ResultsCalc(Players!$E42,Players!$G42,Players!IF42,Players!IH42)","v":" "},2,"-",1,{"$f":"ResultsCalc(Players!$E42,Players!$G42,Players!IJ42,Players!IL42)","v":" "},1,"-",1,{"$f":"ResultsCalc(Players!$E42,Players!$G42,Players!IN42,Players!IP42)","v":" "},2,"-",0,{"$f":"ResultsCalc(Players!$E42,Players!$G42,Players!IR42,Players!IT42)","v":" "},2,"-",1,{"$f":"ResultsCalc(Players!$E42,Players!$G42,Players!IV42,Players!IX42)","v":" "},2,"-",1,{"$f":"ResultsCalc(Players!$E42,Players!$G42,Players!IZ42,Players!JB42)","v":" "},1,"-",0,{"$f":"ResultsCalc(Players!$E42,Players!$G42,Players!JD42,Players!JF42)","v":" "},2,"-",1,{"$f":"ResultsCalc(Players!$E42,Players!$G42,Players!JH42,Players!JJ42)","v":" "},2,"-",1,{"$f":"ResultsCalc(Players!$E42,Players!$G42,Players!JL42,Players!JN42)","v":" "},1,"-",2,{"$f":"ResultsCalc(Players!$E42,Players!$G42,Players!JP42,Players!JR42)","v":" "},1,"-",1,{"$f":"ResultsCalc(Players!$E42,Players!$G42,Players!JT42,Players!JV42)","v":" "},2,"-",1,{"$f":"ResultsCalc(Players!$E42,Players!$G42,Players!JX42,Players!JZ42)","v":" "},2,"-",1,{"$f":"ResultsCalc(Players!$E42,Players!$G42,Players!KB42,Players!KD42)","v":" "},2,"-",3,{"$f":"ResultsCalc(Players!$E42,Players!$G42,Players!KF42,Players!KH42)","v":" "},3,"-",1,{"$f":"ResultsCalc(Players!$E42,Players!$G42,Players!KJ42,Players!KL42)","v":" "},2,"-",0,{"$f":"ResultsCalc(Players!$E42,Players!$G42,Players!KN42,Players!KP42)","v":" "},3,"-",1,{"$f":"ResultsCalc(Players!$E42,Players!$G42,Players!KR42,Players!KT42)","v":" "},3,"-",2,{"$f":"ResultsCalc(Players!$E42,Players!$G42,Players!KV42,Players!KX42)","v":" "},2,"-",0,{"$f":"ResultsCalc(Players!$E42,Players!$G42,Players!KZ42,Players!LB42)","v":" "},1,"-",1,{"$f":"ResultsCalc(Players!$E42,Players!$G42,Players!LD42,Players!LF42)","v":" "},1,"-",0,{"$f":"ResultsCalc(Players!$E42,Players!$G42,Players!LH42,Players!LJ42)","v":" "},2,"-",1,{"$f":"ResultsCalc(Players!$E42,Players!$G42,Players!LL42,Players!LN42)","v":" "},2,"-",1,{"$f":"ResultsCalc(Players!$E42,Players!$G42,Players!LP42,Players!LR42)","v":" "},3,"-",1,{"$f":"ResultsCalc(Players!$E42,Players!$G42,Players!LT42,Players!LV42)","v":" "},2,"-",1,{"$f":"ResultsCalc(Players!$E42,Players!$G42,Players!LX42,Players!LZ42)","v":" "},2,"-",1,{"$f":"ResultsCalc(Players!$E42,Players!$G42,Players!MB42,Players!MD42)","v":" "},1,"-",0,{"$f":"ResultsCalc(Players!$E42,Players!$G42,Players!MF42,Players!MH42)","v":" "},3,"-",1,{"$f":"ResultsCalc(Players!$E42,Players!$G42,Players!MJ42,Players!ML42)","v":" "},2,"-",0,{"$f":"ResultsCalc(Players!$E42,Players!$G42,Players!MN42,Players!MP42)","v":" "},3,"-",1,{"$f":"ResultsCalc(Players!$E42,Players!$G42,Players!MR42,Players!MT42)","v":" "},2,"-",0,{"$f":"ResultsCalc(Players!$E42,Players!$G42,Players!MV42,Players!MX42)","v":" "},3,"-",3,{"$f":"ResultsCalc(Players!$E42,Players!$G42,Players!MZ42,Players!NB42)","v":" "},2,"-",0,{"$f":"ResultsCalc(Players!$E42,Players!$G42,Players!ND42,Players!NF42)","v":" "},3,"-",1,{"$f":"ResultsCalc(Players!$E42,Players!$G42,Players!NH42,Players!NJ42)","v":" "},1,"-",0,{"$f":"ResultsCalc(Players!$E42,Players!$G42,Players!NL42,Players!NN42)","v":" "},2,"-",3,{"$f":"ResultsCalc(Players!$E42,Players!$G42,Players!NP42,Players!NR42)","v":" "},2,"-",0,{"$f":"ResultsCalc(Players!$E42,Players!$G42,Players!NT42,Players!NV42)","v":" "},2,"-",0,{"$f":"ResultsCalc(Players!$E42,Players!$G42,Players!NX42,Players!NZ42)","v":" "},1,"-",0,{"$f":"ResultsCalc(Players!$E42,Players!$G42,Players!OB42,Players!OD42)","v":" "},1,"-",2,{"$f":"ResultsCalc(Players!$E42,Players!$G42,Players!OF42,Players!OH42)","v":" "},2,"-",1,{"$f":"ResultsCalc(Players!$E42,Players!$G42,Players!OJ42,Players!OL42)","v":" "},1,"-",0,{"$f":"ResultsCalc(Players!$E42,Players!$G42,Players!ON42,Players!OP42)","v":" "},1,"-",0,{"$f":"ResultsCalc(Players!$E42,Players!$G42,Players!OR42,Players!OT42)","v":" "},2,"-",2,{"$f":"ResultsCalc(Players!$E42,Players!$G42,Players!OV42,Players!OX42)","v":" "},2,"-",1,{"$f":"ResultsCalc(Players!$E42,Players!$G42,Players!OZ42,Players!PB42)","v":" "},3,"-",0,{"$f":"ResultsCalc(Players!$E42,Players!$G42,Players!PD42,Players!PF42)","v":" "},1,"-",0,{"$f":"ResultsCalc(Players!$E42,Players!$G42,Players!PH42,Players!PJ42)","v":" "},4,"-",2,{"$f":"ResultsCalc(Players!$E42,Players!$G42,Players!PL42,Players!PN42)","v":" "},2,"-",2,{"$f":"ResultsCalc(Players!$E42,Players!$G42,Players!PP42,Players!PR42)","v":" "},1,"-",0,{"$f":"ResultsCalc(Players!$E42,Players!$G42,Players!PT42,Players!PV42)","v":" "},1,"-",1,{"$f":"ResultsCalc(Players!$E42,Players!$G42,Players!PX42,Players!PZ42)","v":" "},null,"-",null,{"$f":"ResultsCalc(Players!$E42,Players!$G42,Players!QB42,Players!QD42)","v":" "},2,"-",0,{"$f":"ResultsCalc(Players!$E42,Players!$G42,Players!QF42,Players!QH42)","v":" "},2,"-",0,{"$f":"ResultsCalc(Players!$E42,Players!$G42,Players!QJ42,Players!QL42)","v":" "},null,0,null,4,2]
["2021-06-27",4,"Belgium","Portugal",null,"-",null,2,"-",1,{"$f":"ResultsCalc(Players!$E43,Players!$G43,Players!H43,Players!J43)","v":" "},2,"-",0,{"$f":"ResultsCalc(Players!$E43,Players!$G43,Players!L43,Players!N43)","v":" "},2,"-",1,{"$f":"ResultsCalc(Players!$E43,Players!$G43,Players!P43,Players!R43)","v":" "},2,"-",2,{"$f":"ResultsCalc(Players!$E43,Players!$G43,Players!T43,Players!V43)","v":" "},2,"-",2,{"$f":"ResultsCalc(Players!$E43,Players!$G43,Players!X43,Players!Z43)","v":" "},3,"-",2,{"$f":"ResultsCalc(Players!$E43,Players!$G43,Players!AB43,Players!AD43)","v":" "},3,"-",2,{"$f":"ResultsCalc(Players!$E43,Players!$G43,Players!AF43,Players!AH43)","v":" "},2,"-",1,{"$f":"ResultsCalc(Players!$E43,Players!$G43,Players!AJ43,Players!AL43)","v":" "},1,"-",0,{"$f":"ResultsCalc(Players!$E43,Players!$G43,Players!AN43,Players!AP43)","v":" "},2,"-",0,{"$f":"ResultsCalc(Players!$E43,Players!$G43,Players!AR43,Players!AT43)","v":" "},2,"-",0,{"$f":"ResultsCalc(Players!$E43,Players!$G43,Players!AV43,Players!AX43)","v":" "},3,"-",2,{"$f":"ResultsCalc(Players!$E43,Players!$G43,Players!AZ43,Players!BB43)","v":" "},2,"-",2,{"$f":"ResultsCalc(Players!$E43,Players!$G43,Players!BD43,Players!BF43)","v":" "},1,"-",2,{"$f":"ResultsCalc(Players!$E43,Players!$G43,Players!BH43,Players!BJ43)","v":" "},2,"-",1,{"$f":"ResultsCalc(Players!$E43,Players!$G43,Players!BL43,Players!BN43)","v":" "},3,"-",2,{"$f":"ResultsCalc(Players!$E43,Players!$G43,Players!BP43,Players!BR43)","v":" "},2,"-",3,{"$f":"ResultsCalc(Players!$E43,Players!$G43,Players!BT43,Players!BV43)","v":" "},2,"-",2,{"$f":"ResultsCalc(Players!$E43,Players!$G43,Players!BX43,Players!BZ43)","v":" "},2,"-",1,{"$f":"ResultsCalc(Players!$E43,Players!$G43,Players!CB43,Players!CD43)","v":" "},2,"-",1,{"$f":"ResultsCalc(Players!$E43,Players!$G43,Players!CF43,Players!CH43)","v":" "},3,"-",1,{"$f":"ResultsCalc(Players!$E43,Players!$G43,Players!CJ43,Players!CL43)","v":" "},1,"-",1,{"$f":"ResultsCalc(Players!$E43,Players!$G43,Players!CN43,Players!CP43)","v":" "},2,"-",0,{"$f":"ResultsCalc(Players!$E43,Players!$G43,Players!CR43,Players!CT43)","v":" "},2,"-",1,{"$f":"ResultsCalc(Players!$E43,Players!$G43,Players!CV43,Players!CX43)","v":" "},1,"-",1,{"$f":"ResultsCalc(Players!$E43,Players!$G43,Players!CZ43,Players!DB43)","v":" "},1,"-",1,{"$f":"ResultsCalc(Players!$E43,Players!$G43,Players!DD43,Players!DF43)","v":" "},1,"-",1,{"$f":"ResultsCalc(Players!$E43,Players!$G43,Players!DH43,Players!DJ43)","v":" "},2,"-",0,{"$f":"ResultsCalc(Players!$E43,Players!$G43,Players!DL43,Players!DN43)","v":" "},2,"-",3,{"$f":"ResultsCalc(Players!$E43,Players!$G43,Players!DP43,Players!DR43)","v":" "},3,"-",1,{"$f":"ResultsCalc(Players!$E43,Players!$G43,Players!DT43,Players!DV43)","v":" "},3,"-",1,{"$f":"ResultsCalc(Players!$E43,Players!$G43,Players!DX43,Players!DZ43)","v":" "},3,"-",1,{"$f":"ResultsCalc(Players!$E43,Players!$G43,Players!EB43,Players!ED43)","v":" "},1,"-",2,{"$f":"ResultsCalc(Players!$E43,Players!$G43,Players!EF43,Players!EH43)","v":" "},2,"-",1,{"$f":"ResultsCalc(Players!$E43,Players!$G43,Players!EJ43,Players!EL43)","v":" "},2,"-",1,{"$f":"ResultsCalc(Players!$E43,Players!$G43,Players!EN43,Players!EP43)","v":" "},2,"-",1,{"$f":"ResultsCalc(Players!$E43,Players!$G43,Players!ER43,Players!ET43)","v":" "},1,"-",2,{"$f":"ResultsCalc(Players!$E43,Players!$G43,Players!EV43,Players!EX43)","v":" "},2,"-",1,{"$f":"ResultsCalc(Players!$E43,Players!$G43,Players!EZ43,Players!FB43)","v":" "},3,"-",1,{"$f":"ResultsCalc(Players!$E43,Players!$G43,Players!FD43,Players!FF43)","v":" "},1,"-",2,{"$f":"ResultsCalc(Players!$E43,Players!$G43,Players!FH43,Players!FJ43)","v":" "},2,"-",1,{"$f":"ResultsCalc(Players!$E43,Players!$G43,Players!FL43,Players!FN43)","v":" "},1,"-",1,{"$f":"ResultsCalc(Players!$E43,Players!$G43,Players!FP43,Players!FR43)","v":" "},2,"-",0,{"$f":"ResultsCalc(Players!$E43,Players!$G43,Players!FT43,Players!FV43)","v":" "},1,"-",1,{"$f":"ResultsCalc(Players!$E43,Players!$G43,Players!FX43,Players!FZ43)","v":" "},3,"-",2,{"$f":"ResultsCalc(Players!$E43,Players!$G43,Players!GB43,Players!GD43)","v":" "},2,"-",2,{"$f":"ResultsCalc(Players!$E43,Players!$G43,Players!GF43,Players!GH43)","v":" "},2,"-",1,{"$f":"ResultsCalc(Players!$E43,Players!$G43,Players!GJ43,Players!GL43)","v":" "},1,"-",2,{"$f":"ResultsCalc(Players!$E43,Players!$G43,Players!GN43,Players!GP43)","v":" "},2,"-",0,{"$f":"ResultsCalc(Players!$E43,Players!$G43,Players!GR43,Players!GT43)","v":" "},2,"-",1,{"$f":"ResultsCalc(Players!$E43,Players!$G43,Players!GV43,Players!GX43)","v":" "},2,"-",0,{"$f":"ResultsCalc(Players!$E43,Players!$G43,Players!GZ43,Players!HB43)","v":" "},3,"-",1,{"$f":"ResultsCalc(Players!$E43,Players!$G43,Players!HD43,Players!HF43)","v":" "},1,"-",3,{"$f":"ResultsCalc(Players!$E43,Players!$G43,Players!HH43,Players!HJ43)","v":" "},2,"-",2,{"$f":"ResultsCalc(Players!$E43,Players!$G43,Players!HL43,Players!HN43)","v":" "},1,"-",2,{"$f":"ResultsCalc(Players!$E43,Players!$G43,Players!HP43,Players!HR43)","v":" "},2,"-",2,{"$f":"ResultsCalc(Players!$E43,Players!$G43,Players!HT43,Players!HV43)","v":" "},1,"-",1,{"$f":"ResultsCalc(Players!$E43,Players!$G43,Players!HX43,Players!HZ43)","v":" "},2,"-",1,{"$f":"ResultsCalc(Players!$E43,Players!$G43,Players!IB43,Players!ID43)","v":" "},2,"-",1,{"$f":"ResultsCalc(Players!$E43,Players!$G43,Players!IF43,Players!IH43)","v":" "},3,"-",0,{"$f":"ResultsCalc(Players!$E43,Players!$G43,Players!IJ43,Players!IL43)","v":" "},1,"-",1,{"$f":"ResultsCalc(Players!$E43,Players!$G43,Players!IN43,Players!IP43)","v":" "},3,"-",1,{"$f":"ResultsCalc(Players!$E43,Players!$G43,Players!IR43,Players!IT43)","v":" "},2,"-",2,{"$f":"ResultsCalc(Players!$E43,Players!$G43,Players!IV43,Players!IX43)","v":" "},3,"-",2,{"$f":"ResultsCalc(Players!$E43,Players!$G43,Players!IZ43,Players!JB43)","v":" "},0,"-",2,{"$f":"ResultsCalc(Players!$E43,Players!$G43,Players!JD43,Players!JF43)","v":" "},3,"-",1,{"$f":"ResultsCalc(Players!$E43,Players!$G43,Players!JH43,Players!JJ43)","v":" "},1,"-",2,{"$f":"ResultsCalc(Players!$E43,Players!$G43,Players!JL43,Players!JN43)","v":" "},2,"-",3,{"$f":"ResultsCalc(Players!$E43,Players!$G43,Players!JP43,Players!JR43)","v":" "},1,"-",1,{"$f":"ResultsCalc(Players!$E43,Players!$G43,Players!JT43,Players!JV43)","v":" "},1,"-",2,{"$f":"ResultsCalc(Players!$E43,Players!$G43,Players!JX43,Players!JZ43)","v":" "},2,"-",3,{"$f":"ResultsCalc(Players!$E43,Players!$G43,Players!KB43,Players!KD43)","v":" "},4,"-",1,{"$f":"ResultsCalc(Players!$E43,Players!$G43,Players!KF43,Players!KH43)","v":" "},2,"-",1,{"$f":"ResultsCalc(Players!$E43,Players!$G43,Players!KJ43,Players!KL43)","v":" "},2,"-",1,{"$f":"ResultsCalc(Players!$E43,Players!$G43,Players!KN43,Players!KP43)","v":" "},2,"-",1,{"$f":"ResultsCalc(Players!$E43,Players!$G43,Players!KR43,Players!KT43)","v":" "},4,"-",1,{"$f":"ResultsCalc(Players!$E43,Players!$G43,Players!KV43,Players!KX43)","v":" "},3,"-",2,{"$f":"ResultsCalc(Players!$E43,Players!$G43,Players!KZ43,Players!LB43)","v":" "},1,"-",1,{"$f":"ResultsCalc(Players!$E43,Players!$G43,Players!LD43,Players!LF43)","v":" "},2,"-",3,{"$f":"ResultsCalc(Players!$E43,Players!$G43,Players!LH43,Players!LJ43)","v":" "},2,"-",1,{"$f":"ResultsCalc(Players!$E43,Players!$G43,Players!LL43,Players!LN43)","v":" "},1,"-",2,{"$f":"ResultsCalc(Players!$E43,Players!$G43,Players!LP43,Players!LR43)","v":" "},1,"-",1,{"$f":"ResultsCalc(Players!$E43,Players!$G43,Players!LT43,Players!LV43)","v":" "},1,"-",1,{"$f":"ResultsCalc(Players!$E43,Players!$G43,Players!LX43,Players!LZ43)","v":" "},3,"-",1,{"$f":"ResultsCalc(Players!$E43,Players!$G43,Players!MB43,Players!MD43)","v":" "},2,"-",2,{"$f":"ResultsCalc(Players!$E43,Players!$G43,Players!MF43,Players!MH43)","v":" "},3,"-",2,{"$f":"ResultsCalc(Players!$E43,Players!$G43,Players!MJ43,Players!ML43)","v":" "},2,"-",2,{"$f":"ResultsCalc(Players!$E43,Players!$G43,Players!MN43,Players!MP43)","v":" "},2,"-",3,{"$f":"ResultsCalc(Players!$E43,Players!$G43,Players!MR43,Players!MT43)","v":" "},2,"-",2,{"$f":"ResultsCalc(Players!$E43,Players!$G43,Players!MV43,Players!MX43)","v":" "},1,"-",1,{"$f":"ResultsCalc(Players!$E43,Players!$G43,Players!MZ43,Players!NB43)","v":" "},1,"-",2,{"$f":"ResultsCalc(Players!$E43,Players!$G43,Players!ND43,Players!NF43)","v":" "},0,"-",2,{"$f":"ResultsCalc(Players!$E43,Players!$G43,Players!NH43,Players!NJ43)","v":" "},2,"-",2,{"$f":"ResultsCalc(Players!$E43,Players!$G43,Players!NL43,Players!NN43)","v":" "},2,"-",0,{"$f":"ResultsCalc(Players!$E43,Players!$G43,Players!NP43,Players!NR43)","v":" "},3,"-",2,{"$f":"ResultsCalc(Players!$E43,Players!$G43,Players!NT43,Players!NV43)","v":" "},1,"-",0,{"$f":"ResultsCalc(Players!$E43,Players!$G43,Players!NX43,Players!NZ43)","v":" "},2,"-",3,{"$f":"ResultsCalc(Players!$E43,Players!$G43,Players!OB43,Players!OD43)","v":" "},2,"-",1,{"$f":"ResultsCalc(Players!$E43,Players!$G43,Players!OF43,Players!OH43)","v":" "},3,"-",2,{"$f":"ResultsCalc(Players!$E43,Players!$G43,Players!OJ43,Players!OL43)","v":" "},1,"-",2,{"$f":"ResultsCalc(Players!$E43,Players!$G43,Players!ON43,Players!OP43)","v":" "},1,"-",2,{"$f":"ResultsCalc(Players!$E43,Players!$G43,Players!OR43,Players!OT43)","v":" "},4,"-",2,{"$f":"ResultsCalc(Players!$E43,Players!$G43,Players!OV43,Players!OX43)","v":" "},3,"-",0,{"$f":"ResultsCalc(Players!$E43,Players!$G43,Players!OZ43,Players!PB43)","v":" "},3,"-",1,{"$f":"ResultsCalc(Players!$E43,Players!$G43,Players!PD43,Players!PF43)","v":" "},3,"-",1,{"$f":"ResultsCalc(Players!$E43,Players!$G43,Players!PH43,Players!PJ43)","v":" "},2,"-",3,{"$f":"ResultsCalc(Players!$E43,Players!$G43,Players!PL43,Players!PN43)","v":" "},2,"-",1,{"$f":"ResultsCalc(Players!$E43,Players!$G43,Players!PP43,Players!PR43)","v":" "},2,"-",3,{"$f":"ResultsCalc(Players!$E43,Players!$G43,Players!PT43,Players!PV43)","v":" "},1,"-",1,{"$f":"ResultsCalc(Players!$E43,Players!$G43,Players!PX43,Players!PZ43)","v":" "},null,"-",null,{"$f":"ResultsCalc(Players!$E43,Players!$G43,Players!QB43,Players!QD43)","v":" "},3,"-",1,{"$f":"ResultsCalc(Players!$E43,Players!$G43,Players!QF43,Players!QH43)","v":" "},1,"-",2,{"$f":"ResultsCalc(Players!$E43,Players!$G43,Players!QJ43,Players!QL43)","v":" "},null,0,null,4,3]
["2021-06-28",5,"Croatia","Spain",null,"-",null,0,"-",1,{"$f":"ResultsCalc(Players!$E44,Players!$G44,Players!H44,Players!J44)","v":" "},1,"-",2,{"$f":"ResultsCalc(Players!$E44,Players!$G44,Players!L44,Players!N44)","v":" "},1,"-",1,{"$f":"ResultsCalc(Players!$E44,Players!$G44,Players!P44,Players!R44)","v":" "},1,"-",2,{"$f":"ResultsCalc(Players!$E44,Players!$G44,Players!T44,Players!V44)","v":" "},1,"-",3,{"$f":"ResultsCalc(Players!$E44,Players!$G44,Players!X44,Players!Z44)","v":" "},2,"-",1,{"$f":"ResultsCalc(Players!$E44,Players!$G44,Players!AB44,Players!AD44)","v":" "},2,"-",1,{"$f":"ResultsCalc(Players!$E44,Players!$G44,Players!AF44,Players!AH44)","v":" "},2,"-",1,{"$f":"ResultsCalc(Players!$E44,Players!$G44,Players!AJ44,Players!AL44)","v":" "},2,"-",1,{"$f":"ResultsCalc(Players!$E44,Players!$G44,Players!AN44,Players!AP44)","v":" "},0,"-",0,{"$f":"ResultsCalc(Players!$E44,Players!$G44,Players!AR44,Players!AT44)","v":" "},1,"-",0,{"$f":"ResultsCalc(Players!$E44,Players!$G44,Players!AV44,Players!AX44)","v":" "},1,"-",2,{"$f":"ResultsCalc(Players!$E44,Players!$G44,Players!AZ44,Players!BB44)","v":" "},1,"-",0,{"$f":"ResultsCalc(Players!$E44,Players!$G44,Players!BD44,Players!BF44)","v":" "},1,"-",1,{"$f":"ResultsCalc(Players!$E44,Players!$G44,Players!BH44,Players!BJ44)","v":" "},0,"-",2,{"$f":"ResultsCalc(Players!$E44,Players!$G44,Players!BL44,Players!BN44)","v":" "},1,"-",3,{"$f":"ResultsCalc(Players!$E44,Players!$G44,Players!BP44,Players!BR44)","v":" "},1,"-",3,{"$f":"ResultsCalc(Players!$E44,Players!$G44,Players!BT44,Players!BV44)","v":" "},0,"-",1,{"$f":"ResultsCalc(Players!$E44,Players!$G44,Players!BX44,Players!BZ44)","v":" "},1,"-",3,{"$f":"ResultsCalc(Players!$E44,Players!$G44,Players!CB44,Players!CD44)","v":" "},3,"-",2,{"$f":"ResultsCalc(Players!$E44,Players!$G44,Players!CF44,Players!CH44)","v":" "},1,"-",0,{"$f":"ResultsCalc(Players!$E44,Players!$G44,Players!CJ44,Players!CL44)","v":" "},1,"-",3,{"$f":"ResultsCalc(Players!$E44,Players!$G44,Players!CN44,Players!CP44)","v":" "},2,"-",0,{"$f":"ResultsCalc(Players!$E44,Players!$G44,Players!CR44,Players!CT44)","v":" "},2,"-",2,{"$f":"ResultsCalc(Players!$E44,Players!$G44,Players!CV44,Players!CX44)","v":" "},0,"-",1,{"$f":"ResultsCalc(Players!$E44,Players!$G44,Players!CZ44,Players!DB44)","v":" "},1,"-",2,{"$f":"ResultsCalc(Players!$E44,Players!$G44,Players!DD44,Players!DF44)","v":" "},1,"-",1,{"$f":"ResultsCalc(Players!$E44,Players!$G44,Players!DH44,Players!DJ44)","v":" "},1,"-",2,{"$f":"ResultsCalc(Players!$E44,Players!$G44,Players!DL44,Players!DN44)","v":" "},1,"-",1,{"$f":"ResultsCalc(Players!$E44,Players!$G44,Players!DP44,Players!DR44)","v":" "},1,"-",0,{"$f":"ResultsCalc(Players!$E44,Players!$G44,Players!DT44,Players!DV44)","v":" "},1,"-",2,{"$f":"ResultsCalc(Players!$E44,Players!$G44,Players!DX44,Players!DZ44)","v":" "},1,"-",2,{"$f":"ResultsCalc(Players!$E44,Players!$G44,Players!EB44,Players!ED44)","v":" "},1,"-",2,{"$f":"ResultsCalc(Players!$E44,Players!$G44,Players!EF44,Players!EH44)","v":" "},1,"-",2,{"$f":"ResultsCalc(Players!$E44,Players!$G44,Players!EJ44,Players!EL44)","v":" "},1,"-",2,{"$f":"ResultsCalc(Players!$E44,Players!$G44,Players!EN44,Players!EP44)","v":" "},2,"-",1,{"$f":"ResultsCalc(Players!$E44,Players!$G44,Players!ER44,Players!ET44)","v":" "},1,"-",2,{"$f":"ResultsCalc(Players!$E44,Players!$G44,Players!EV44,Players!EX44)","v":" "},1,"-",1,{"$f":"ResultsCalc(Players!$E44,Players!$G44,Players!EZ44,Players!FB44)","v":" "},1,"-",0,{"$f":"ResultsCalc(Players!$E44,Players!$G44,Players!FD44,Players!FF44)","v":" "},1,"-",1,{"$f":"ResultsCalc(Players!$E44,Players!$G44,Players!FH44,Players!FJ44)","v":" "},0,"-",2,{"$f":"ResultsCalc(Players!$E44,Players!$G44,Players!FL44,Players!FN44)","v":" "},1,"-",1,{"$f":"ResultsCalc(Players!$E44,Players!$G44,Players!FP44,Players!FR44)","v":" "},2,"-",0,{"$f":"ResultsCalc(Players!$E44,Players!$G44,Players!FT44,Players!FV44)","v":" "},1,"-",1,{"$f":"ResultsCalc(Players!$E44,Players!$G44,Players!FX44,Players!FZ44)","v":" "},3,"-",3,{"$f":"ResultsCalc(Players!$E44,Players!$G44,Players!GB44,Players!GD44)","v":" "},0,"-",2,{"$f":"ResultsCalc(Players!$E44,Players!$G44,Players!GF44,Players!GH44)","v":" "},1,"-",0,{"$f":"ResultsCalc(Players!$E44,Players!$G44,Players!GJ44,Players!GL44)","v":" "},3,"-",0,{"$f":"ResultsCalc(Players!$E44,Players!$G44,Players!GN44,Players!GP44)","v":" "},3,"-",1,{"$f":"ResultsCalc(Players!$E44,Players!$G44,Players!GR44,Players!GT44)","v":" "},1,"-",0,{"$f":"ResultsCalc(Players!$E44,Players!$G44,Players!GV44,Players!GX44)","v":" "},1,"-",1,{"$f":"ResultsCalc(Players!$E44,Players!$G44,Players!GZ44,Players!HB44)","v":" "},2,"-",1,{"$f":"ResultsCalc(Players!$E44,Players!$G44,Players!HD44,Players!HF44)","v":" "},0,"-",1,{"$f":"ResultsCalc(Players!$E44,Players!$G44,Players!HH44,Players!HJ44)","v":" "},1,"-",1,{"$f":"ResultsCalc(Players!$E44,Players!$G44,Players!HL44,Players!HN44)","v":" "},1,"-",3,{"$f":"ResultsCalc(Players!$E44,Players!$G44,Players!HP44,Players!HR44)","v":" "},0,"-",1,{"$f":"ResultsCalc(Players!$E44,Players!$G44,Players!HT44,Players!HV44)","v":" "},1,"-",1,{"$f":"ResultsCalc(Players!$E44,Players!$G44,Players!HX44,Players!HZ44)","v":" "},0,"-",2,{"$f":"ResultsCalc(Players!$E44,Players!$G44,Players!IB44,Players!ID44)","v":" "},2,"-",1,{"$f":"ResultsCalc(Players!$E44,Players!$G44,Players!IF44,Players!IH44)","v":" "},0,"-",2,{"$f":"ResultsCalc(Players!$E44,Players!$G44,Players!IJ44,Players!IL44)","v":" "},1,"-",1,{"$f":"ResultsCalc(Players!$E44,Players!$G44,Players!IN44,Players!IP44)","v":" "},1,"-",1,{"$f":"ResultsCalc(Players!$E44,Players!$G44,Players!IR44,Players!IT44)","v":" "},1,"-",2,{"$f":"ResultsCalc(Players!$E44,Players!$G44,Players!IV44,Players!IX44)","v":" "},2,"-",1,{"$f":"ResultsCalc(Players!$E44,Players!$G44,Players!IZ44,Players!JB44)","v":" "},0,"-",0,{"$f":"ResultsCalc(Players!$E44,Players!$G44,Players!JD44,Players!JF44)","v":" "},1,"-",3,{"$f":"ResultsCalc(Players!$E44,Players!$G44,Players!JH44,Players!JJ44)","v":" "},2,"-",1,{"$f":"ResultsCalc(Players!$E44,Players!$G44,Players!JL44,Players!JN44)","v":" "},2,"-",1,{"$f":"ResultsCalc(Players!$E44,Players!$G44,Players!JP44,Players!JR44)","v":" "},1,"-",1,{"$f":"ResultsCalc(Players!$E44,Players!$G44,Players!JT44,Players!JV44)","v":" "},1,"-",2,{"$f":"ResultsCalc(Players!$E44,Players!$G44,Players!JX44,Players!JZ44)","v":" "},1,"-",2,{"$f":"ResultsCalc(Players!$E44,Players!$G44,Players!KB44,Players!KD44)","v":" "},0,"-",2,{"$f":"ResultsCalc(Players!$E44,Players!$G44,Players!KF44,Players!KH44)","v":" "},1,"-",1,{"$f":"ResultsCalc(Players!$E44,Players!$G44,Players!KJ44,Players!KL44)","v":" "},0,"-",1,{"$f":"ResultsCalc(Players!$E44,Players!$G44,Players!KN44,Players!KP44)","v":" "},2,"-",1,{"$f":"ResultsCalc(Players!$E44,Players!$G44,Players!KR44,Players!KT44)","v":" "},2,"-",3,{"$f":"ResultsCalc(Players!$E44,Players!$G44,Players!KV44,Players!KX44)","v":" "},1,"-",3,{"$f":"ResultsCalc(Players!$E44,Players!$G44,Players!KZ44,Players!LB44)","v":" "},1,"-",1,{"$f":"ResultsCalc(Players!$E44,Players!$G44,Players!LD44,Players!LF44)","v":" "},2,"-",3,{"$f":"ResultsCalc(Players!$E44,Players!$G44,Players!LH44,Players!LJ44)","v":" "},2,"-",1,{"$f":"ResultsCalc(Players!$E44,Players!$G44,Players!LL44,Players!LN44)","v":" "},1,"-",3,{"$f":"ResultsCalc(Players!$E44,Players!$G44,Players!LP44,Players!LR44)","v":" "},1,"-",2,{"$f":"ResultsCalc(Players!$E44,Players!$G44,Players!LT44,Players!LV44)","v":" "},0,"-",2,{"$f":"ResultsCalc(Players!$E44,Players!$G44,Players!LX44,Players!LZ44)","v":" "},1,"-",1,{"$f":"ResultsCalc(Players!$E44,Players!$G44,Players!MB44,Players!MD44)","v":" "},0,"-",2,{"$f":"ResultsCalc(Players!$E44,Players!$G44,Players!MF44,Players!MH44)","v":" "},1,"-",2,{"$f":"ResultsCalc(Players!$E44,Players!$G44,Players!MJ44,Players!ML44)","v":" "},2,"-",1,{"$f":"ResultsCalc(Players!$E44,Players!$G44,Players!MN44,Players!MP44)","v":" "},1,"-",2,{"$f":"ResultsCalc(Players!$E44,Players!$G44,Players!MR44,Players!MT44)","v":" "},0,"-",1,{"$f":"ResultsCalc(Players!$E44,Players!$G44,Players!MV44,Players!MX44)","v":" "},1,"-",1,{"$f":"ResultsCalc(Players!$E44,Players!$G44,Players!MZ44,Players!NB44)","v":" "},0,"-",0,{"$f":"ResultsCalc(Players!$E44,Players!$G44,Players!ND44,Players!NF44)","v":" "},1,"-",0,{"$f":"ResultsCalc(Players!$E44,Players!$G44,Players!NH44,Players!NJ44)","v":" "},1,"-",2,{"$f":"ResultsCalc(Players!$E44,Players!$G44,Players!NL44,Players!NN44)","v":" "},2,"-",1,{"$f":"ResultsCalc(Players!$E44,Players!$G44,Players!NP44,Players!NR44)","v":" "},1,"-",0,{"$f":"ResultsCalc(Players!$E44,Players!$G44,Players!NT44,Players!NV44)","v":" "},0,"-",1,{"$f":"ResultsCalc(Players!$E44,Players!$G44,Players!NX44,Players!NZ44)","v":" "},2,"-",1,{"$f":"ResultsCalc(Players!$E44,Players!$G44,Players!OB44,Players!OD44)","v":" "},2,"-",1,{"$f":"ResultsCalc(Players!$E44,Players!$G44,Players!OF44,Players!OH44)","v":" "},3,"-",2,{"$f":"ResultsCalc(Players!$E44,Players!$G44,Players!OJ44,Players!OL44)","v":" "},0,"-",1,{"$f":"ResultsCalc(Players!$E44,Players!$G44,Players!ON44,Players!OP44)","v":" "},2,"-",0,{"$f":"ResultsCalc(Players!$E44,Players!$G44,Players!OR44,Players!OT44)","v":" "},4,"-",3,{"$f":"ResultsCalc(Players!$E44,Players!$G44,Players!OV44,Players!OX44)","v":" "},2,"-",1,{"$f":"ResultsCalc(Players!$E44,Players!$G44,Players!OZ44,Players!PB44)","v":" "},1,"-",2,{"$f":"ResultsCalc(Players!$E44,Players!$G44,Players!PD44,Players!PF44)","v":" "},0,"-",1,{"$f":"ResultsCalc(Players!$E44,Players!$G44,Players!PH44,Players!PJ44)","v":" "},1,"-",1,{"$f":"ResultsCalc(Players!$E44,Players!$G44,Players!PL44,Players!PN44)","v":" "},2,"-",1,{"$f":"ResultsCalc(Players!$E44,Players!$G44,Players!PP44,Players!PR44)","v":" "},1,"-",2,{"$f":"ResultsCalc(Players!$E44,Players!$G44,Players!PT44,Players!PV44)","v":" "},1,"-",1,{"$f":"ResultsCalc(Players!$E44,Players!$G44,Players!PX44,Players!PZ44)","v":" "},null,"-",null,{"$f":"ResultsCalc(Players!$E44,Players!$G44,Players!QB44,Players!QD44)","v":" "},2,"-",1,{"$f":"ResultsCalc(Players!$E44,Players!$G44,Players!QF44,Players!QH44)","v":" "},1,"-",0,{"$f":"ResultsCalc(Players!$E44,Players!$G44,Players!QJ44,Players!QL44)","v":" "},null,0,null,4,1]
["2021-06-28",6,"France","Switzerland",null,"-",null,3,"-",0,{"$f":"ResultsCalc(Players!$E45,Players!$G45,Players!H45,Players!J45)","v":" "},3,"-",1,{"$f":"ResultsCalc(Players!$E45,Players!$G45,Players!L45,Players!N45)","v":" "},3,"-",0,{"$f":"ResultsCalc(Players!$E45,Players!$G45,Players!P45,Players!R45)","v":" "},2,"-",0,{"$f":"ResultsCalc(Players!$E45,Players!$G45,Players!T45,Players!V45)","v":" "},2,"-",0,{"$f":"ResultsCalc(Players!$E45,Players!$G45,Players!X45,Players!Z45)","v":" "},3,"-",0,{"$f":"ResultsCalc(Players!$E45,Players!$G45,Players!AB45,Players!AD45)","v":" "},2,"-",0,{"$f":"ResultsCalc(Players!$E45,Players!$G45,Players!AF45,Players!AH45)","v":" "},3,"-",1,{"$f":"ResultsCalc(Players!$E45,Players!$G45,Players!AJ45,Players!AL45)","v":" "},1,"-",1,{"$f":"ResultsCalc(Players!$E45,Players!$G45,Players!AN45,Players!AP45)","v":" "},2,"-",0,{"$f":"ResultsCalc(Players!$E45,Players!$G45,Players!AR45,Players!AT45)","v":" "},1,"-",1,{"$f":"ResultsCalc(Players!$E45,Players!$G45,Players!AV45,Players!AX45)","v":" "},3,"-",0,{"$f":"ResultsCalc(Players!$E45,Players!$G45,Players!AZ45,Players!BB45)","v":" "},2,"-",0,{"$f":"ResultsCalc(Players!$E45,Players!$G45,Players!BD45,Players!BF45)","v":" "},2,"-",1,{"$f":"ResultsCalc(Players!$E45,Players!$G45,Players!BH45,Players!BJ45)","v":" "},3,"-",0,{"$f":"ResultsCalc(Players!$E45,Players!$G45,Players!BL45,Players!BN45)","v":" "},4,"-",2,{"$f":"ResultsCalc(Players!$E45,Players!$G45,Players!BP45,Players!BR45)","v":" "},2,"-",0,{"$f":"ResultsCalc(Players!$E45,Players!$G45,Players!BT45,Players!BV45)","v":" "},2,"-",0,{"$f":"ResultsCalc(Players!$E45,Players!$G45,Players!BX45,Players!BZ45)","v":" "},2,"-",1,{"$f":"ResultsCalc(Players!$E45,Players!$G45,Players!CB45,Players!CD45)","v":" "},2,"-",1,{"$f":"ResultsCalc(Players!$E45,Players!$G45,Players!CF45,Players!CH45)","v":" "},2,"-",0,{"$f":"ResultsCalc(Players!$E45,Players!$G45,Players!CJ45,Players!CL45)","v":" "},2,"-",0,{"$f":"ResultsCalc(Players!$E45,Players!$G45,Players!CN45,Players!CP45)","v":" "},2,"-",0,{"$f":"ResultsCalc(Players!$E45,Players!$G45,Players!CR45,Players!CT45)","v":" "},2,"-",0,{"$f":"ResultsCalc(Players!$E45,Players!$G45,Players!CV45,Players!CX45)","v":" "},2,"-",0,{"$f":"ResultsCalc(Players!$E45,Players!$G45,Players!CZ45,Players!DB45)","v":" "},2,"-",0,{"$f":"ResultsCalc(Players!$E45,Players!$G45,Players!DD45,Players!DF45)","v":" "},1,"-",1,{"$f":"ResultsCalc(Players!$E45,Players!$G45,Players!DH45,Players!DJ45)","v":" "},3,"-",0,{"$f":"ResultsCalc(Players!$E45,Players!$G45,Players!DL45,Players!DN45)","v":" "},2,"-",0,{"$f":"ResultsCalc(Players!$E45,Players!$G45,Players!DP45,Players!DR45)","v":" "},3,"-",0,{"$f":"ResultsCalc(Players!$E45,Players!$G45,Players!DT45,Players!DV45)","v":" "},3,"-",0,{"$f":"ResultsCalc(Players!$E45,Players!$G45,Players!DX45,Players!DZ45)","v":" "},2,"-",0,{"$f":"ResultsCalc(Players!$E45,Players!$G45,Players!EB45,Players!ED45)","v":" "},1,"-",0,{"$f":"ResultsCalc(Players!$E45,Players!$G45,Players!EF45,Players!EH45)","v":" "},2,"-",0,{"$f":"ResultsCalc(Players!$E45,Players!$G45,Players!EJ45,Players!EL45)","v":" "},2,"-",0,{"$f":"ResultsCalc(Players!$E45,Players!$G45,Players!EN45,Players!EP45)","v":" "},2,"-",0,{"$f":"ResultsCalc(Players!$E45,Players!$G45,Players!ER45,Players!ET45)","v":" "},1,"-",0,{"$f":"ResultsCalc(Players!$E45,Players!$G45,Players!EV45,Players!EX45)","v":" "},2,"-",1,{"$f":"ResultsCalc(Players!$E45,Players!$G45,Players!EZ45,Players!FB45)","v":" "},2,"-",1,{"$f":"ResultsCalc(Players!$E45,Players!$G45,Players!FD45,Players!FF45)","v":" "},1,"-",0,{"$f":"ResultsCalc(Players!$E45,Players!$G45,Players!FH45,Players!FJ45)","v":" "},2,"-",0,{"$f":"ResultsCalc(Players!$E45,Players!$G45,Players!FL45,Players!FN45)","v":" "},1,"-",1,{"$f":"ResultsCalc(Players!$E45,Players!$G45,Players!FP45,Players!FR45)","v":" "},3,"-",0,{"$f":"ResultsCalc(Players!$E45,Players!$G45,Players!FT45,Players!FV45)","v":" "},1,"-",1,{"$f":"ResultsCalc(Players!$E45,Players!$G45,Players!FX45,Players!FZ45)","v":" "},2,"-",1,{"$f":"ResultsCalc(Players!$E45,Players!$G45,Players!GB45,Players!GD45)","v":" "},3,"-",0,{"$f":"ResultsCalc(Players!$E45,Players!$G45,Players!GF45,Players!GH45)","v":" "},2,"-",0,{"$f":"ResultsCalc(Players!$E45,Players!$G45,Players!GJ45,Players!GL45)","v":" "},2,"-",0,{"$f":"ResultsCalc(Players!$E45,Players!$G45,Players!GN45,Players!GP45)","v":" "},2,"-",0,{"$f":"ResultsCalc(Players!$E45,Players!$G45,Players!GR45,Players!GT45)","v":" "},2,"-",0,{"$f":"ResultsCalc(Players!$E45,Players!$G45,Players!GV45,Players!GX45)","v":" "},3,"-",0,{"$f":"ResultsCalc(Players!$E45,Players!$G45,Players!GZ45,Players!HB45)","v":" "},2,"-",1,{"$f":"ResultsCalc(Players!$E45,Players!$G45,Players!HD45,Players!HF45)","v":" "},1,"-",0,{"$f":"ResultsCalc(Players!$E45,Players!$G45,Players!HH45,Players!HJ45)","v":" "},3,"-",0,{"$f":"ResultsCalc(Players!$E45,Players!$G45,Players!HL45,Players!HN45)","v":" "},3,"-",1,{"$f":"ResultsCalc(Players!$E45,Players!$G45,Players!HP45,Players!HR45)","v":" "},3,"-",0,{"$f":"ResultsCalc(Players!$E45,Players!$G45,Players!HT45,Players!HV45)","v":" "},2,"-",0,{"$f":"ResultsCalc(Players!$E45,Players!$G45,Players!HX45,Players!HZ45)","v":" "},2,"-",0,{"$f":"ResultsCalc(Players!$E45,Players!$G45,Players!IB45,Players!ID45)","v":" "},2,"-",0,{"$f":"ResultsCalc(Players!$E45,Players!$G45,Players!IF45,Players!IH45)","v":" "},3,"-",0,{"$f":"ResultsCalc(Players!$E45,Players!$G45,Players!IJ45,Players!IL45)","v":" "},1,"-",1,{"$f":"ResultsCalc(Players!$E45,Players!$G45,Players!IN45,Players!IP45)","v":" "},5,"-",0,{"$f":"ResultsCalc(Players!$E45,Players!$G45,Players!IR45,Players!IT45)","v":" "},3,"-",1,{"$f":"ResultsCalc(Players!$E45,Players!$G45,Players!IV45,Players!IX45)","v":" "},3,"-",0,{"$f":"ResultsCalc(Players!$E45,Players!$G45,Players!IZ45,Players!JB45)","v":" "},2,"-",0,{"$f":"ResultsCalc(Players!$E45,Players!$G45,Players!JD45,Players!JF45)","v":" "},2,"-",1,{"$f":"ResultsCalc(Players!$E45,Players!$G45,Players!JH45,Players!JJ45)","v":" "},2,"-",0,{"$f":"ResultsCalc(Players!$E45,Players!$G45,Players!JL45,Players!JN45)","v":" "},3,"-",2,{"$f":"ResultsCalc(Players!$E45,Players!$G45,Players!JP45,Players!JR45)","v":" "},1,"-",1,{"$f":"ResultsCalc(Players!$E45,Players!$G45,Players!JT45,Players!JV45)","v":" "},2,"-",0,{"$f":"ResultsCalc(Players!$E45,Players!$G45,Players!JX45,Players!JZ45)","v":" "},3,"-",0,{"$f":"ResultsCalc(Players!$E45,Players!$G45,Players!KB45,Players!KD45)","v":" "},3,"-",1,{"$f":"ResultsCalc(Players!$E45,Players!$G45,Players!KF45,Players!KH45)","v":" "},2,"-",0,{"$f":"ResultsCalc(Players!$E45,Players!$G45,Players!KJ45,Players!KL45)","v":" "},3,"-",1,{"$f":"ResultsCalc(Players!$E45,Players!$G45,Players!KN45,Players!KP45)","v":" "},2,"-",0,{"$f":"ResultsCalc(Players!$E45,Players!$G45,Players!KR45,Players!KT45)","v":" "},3,"-",1,{"$f":"ResultsCalc(Players!$E45,Players!$G45,Players!KV45,Players!KX45)","v":" "},2,"-",0,{"$f":"ResultsCalc(Players!$E45,Players!$G45,Players!KZ45,Players!LB45)","v":" "},1,"-",1,{"$f":"ResultsCalc(Players!$E45,Players!$G45,Players!LD45,Players!LF45)","v":" "},3,"-",0,{"$f":"ResultsCalc(Players!$E45,Players!$G45,Players!LH45,Players!LJ45)","v":" "},3,"-",0,{"$f":"ResultsCalc(Players!$E45,Players!$G45,Players!LL45,Players!LN45)","v":" "},3,"-",0,{"$f":"ResultsCalc(Players!$E45,Players!$G45,Players!LP45,Players!LR45)","v":" "},4,"-",0,{"$f":"ResultsCalc(Players!$E45,Players!$G45,Players!LT45,Players!LV45)","v":" "},2,"-",1,{"$f":"ResultsCalc(Players!$E45,Players!$G45,Players!LX45,Players!LZ45)","v":" "},2,"-",0,{"$f":"ResultsCalc(Players!$E45,Players!$G45,Players!MB45,Players!MD45)","v":" "},3,"-",0,{"$f":"ResultsCalc(Players!$E45,Players!$G45,Players!MF45,Players!MH45)","v":" "},2,"-",0,{"$f":"ResultsCalc(Players!$E45,Players!$G45,Players!MJ45,Players!ML45)","v":" "},2,"-",0,{"$f":"ResultsCalc(Players!$E45,Players!$G45,Players!MN45,Players!MP45)","v":" "},3,"-",0,{"$f":"ResultsCalc(Players!$E45,Players!$G45,Players!MR45,Players!MT45)","v":" "},2,"-",1,{"$f":"ResultsCalc(Players!$E45,Players!$G45,Players!MV45,Players!MX45)","v":" "},3,"-",0,{"$f":"ResultsCalc(Players!$E45,Players!$G45,Players!MZ45,Players!NB45)","v":" "},2,"-",0,{"$f":"ResultsCalc(Players!$E45,Players!$G45,Players!ND45,Players!NF45)","v":" "},2,"-",1,{"$f":"ResultsCalc(Players!$E45,Players!$G45,Players!NH45,Players!NJ45)","v":" "},2,"-",0,{"$f":"ResultsCalc(Players!$E45,Players!$G45,Players!NL45,Players!NN45)","v":" "},3,"-",0,{"$f":"ResultsCalc(Players!$E45,Players!$G45,Players!NP45,Players!NR45)","v":" "},2,"-",0,{"$f":"ResultsCalc(Players!$E45,Players!$G45,Players!NT45,Players!NV45)","v":" "},1,"-",0,{"$f":"ResultsCalc(Players!$E45,Players!$G45,Players!NX45,Players!NZ45)","v":" "},3,"-",0,{"$f":"ResultsCalc(Players!$E45,Players!$G45,Players!OB45,Players!OD45)","v":" "},3,"-",0,{"$f":"ResultsCalc(Players!$E45,Players!$G45,Players!OF45,Players!OH45)","v":" "},3,"-",0,{"$f":"ResultsCalc(Players!$E45,Players!$G45,Players!OJ45,Players!OL45)","v":" "},2,"-",0,{"$f":"ResultsCalc(Players!$E45,Players!$G45,Players!ON45,Players!OP45)","v":" "},3,"-",0,{"$f":"ResultsCalc(Players!$E45,Players!$G45,Players!OR45,Players!OT45)","v":" "},3,"-",0,{"$f":"ResultsCalc(Players!$E45,Players!$G45,Players!OV45,Players!OX45)","v":" "},3,"-",0,{"$f":"ResultsCalc(Players!$E45,Players!$G45,Players!OZ45,Players!PB45)","v":" "},3,"-",0,{"$f":"ResultsCalc(Players!$E45,Players!$G45,Players!PD45,Players!PF45)","v":" "},2,"-",1,{"$f":"ResultsCalc(Players!$E45,Players!$G45,Players!PH45,Players!PJ45)","v":" "},4,"-",3,{"$f":"ResultsCalc(Players!$E45,Players!$G45,Players!PL45,Players!PN45)","v":" "},3,"-",0,{"$f":"ResultsCalc(Players!$E45,Players!$G45,Players!PP45,Players!PR45)","v":" "},3,"-",1,{"$f":"ResultsCalc(Players!$E45,Players!$G45,Players!PT45,Players!PV45)","v":" "},1,"-",1,{"$f":"ResultsCalc(Players!$E45,Players!$G45,Players!PX45,Players!PZ45)","v":" "},null,"-",null,{"$f":"ResultsCalc(Players!$E45,Players!$G45,Players!QB45,Players!QD45)","v":" "},3,"-",1,{"$f":"ResultsCalc(Players!$E45,Players!$G45,Players!QF45,Players!QH45)","v":" "},3,"-",0,{"$f":"ResultsCalc(Players!$E45,Players!$G45,Players!QJ45,Players!QL45)","v":" "},null,0,null,5,1]
["2021-06-29",7,"England","Germany",null,"-",null,1,"-",1,{"$f":"ResultsCalc(Players!$E46,Players!$G46,Players!H46,Players!J46)","v":" "},1,"-",0,{"$f":"ResultsCalc(Players!$E46,Players!$G46,Players!L46,Players!N46)","v":" "},2,"-",2,{"$f":"ResultsCalc(Players!$E46,Players!$G46,Players!P46,Players!R46)","v":" "},1,"-",1,{"$f":"ResultsCalc(Players!$E46,Players!$G46,Players!T46,Players!V46)","v":" "},1,"-",1,{"$f":"ResultsCalc(Players!$E46,Players!$G46,Players!X46,Players!Z46)","v":" "},2,"-",0,{"$f":"ResultsCalc(Players!$E46,Players!$G46,Players!AB46,Players!AD46)","v":" "},2,"-",1,{"$f":"ResultsCalc(Players!$E46,Players!$G46,Players!AF46,Players!AH46)","v":" "},1,"-",0,{"$f":"ResultsCalc(Players!$E46,Players!$G46,Players!AJ46,Players!AL46)","v":" "},1,"-",1,{"$f":"ResultsCalc(Players!$E46,Players!$G46,Players!AN46,Players!AP46)","v":" "},1,"-",1,{"$f":"ResultsCalc(Players!$E46,Players!$G46,Players!AR46,Players!AT46)","v":" "},2,"-",2,{"$f":"ResultsCalc(Players!$E46,Players!$G46,Players!AV46,Players!AX46)","v":" "},2,"-",1,{"$f":"ResultsCalc(Players!$E46,Players!$G46,Players!AZ46,Players!BB46)","v":" "},1,"-",1,{"$f":"ResultsCalc(Players!$E46,Players!$G46,Players!BD46,Players!BF46)","v":" "},2,"-",1,{"$f":"ResultsCalc(Players!$E46,Players!$G46,Players!BH46,Players!BJ46)","v":" "},3,"-",1,{"$f":"ResultsCalc(Players!$E46,Players!$G46,Players!BL46,Players!BN46)","v":" "},1,"-",1,{"$f":"ResultsCalc(Players!$E46,Players!$G46,Players!BP46,Players!BR46)","v":" "},2,"-",1,{"$f":"ResultsCalc(Players!$E46,Players!$G46,Players!BT46,Players!BV46)","v":" "},2,"-",2,{"$f":"ResultsCalc(Players!$E46,Players!$G46,Players!BX46,Players!BZ46)","v":" "},0,"-",1,{"$f":"ResultsCalc(Players!$E46,Players!$G46,Players!CB46,Players!CD46)","v":" "},2,"-",1,{"$f":"ResultsCalc(Players!$E46,Players!$G46,Players!CF46,Players!CH46)","v":" "},2,"-",2,{"$f":"ResultsCalc(Players!$E46,Players!$G46,Players!CJ46,Players!CL46)","v":" "},0,"-",1,{"$f":"ResultsCalc(Players!$E46,Players!$G46,Players!CN46,Players!CP46)","v":" "},0,"-",1,{"$f":"ResultsCalc(Players!$E46,Players!$G46,Players!CR46,Players!CT46)","v":" "},1,"-",2,{"$f":"ResultsCalc(Players!$E46,Players!$G46,Players!CV46,Players!CX46)","v":" "},1,"-",1,{"$f":"ResultsCalc(Players!$E46,Players!$G46,Players!CZ46,Players!DB46)","v":" "},4,"-",1,{"$f":"ResultsCalc(Players!$E46,Players!$G46,Players!DD46,Players!DF46)","v":" "},1,"-",1,{"$f":"ResultsCalc(Players!$E46,Players!$G46,Players!DH46,Players!DJ46)","v":" "},1,"-",3,{"$f":"ResultsCalc(Players!$E46,Players!$G46,Players!DL46,Players!DN46)","v":" "},1,"-",0,{"$f":"ResultsCalc(Players!$E46,Players!$G46,Players!DP46,Players!DR46)","v":" "},2,"-",1,{"$f":"ResultsCalc(Players!$E46,Players!$G46,Players!DT46,Players!DV46)","v":" "},2,"-",1,{"$f":"ResultsCalc(Players!$E46,Players!$G46,Players!DX46,Players!DZ46)","v":" "},3,"-",2,{"$f":"ResultsCalc(Players!$E46,Players!$G46,Players!EB46,Players!ED46)","v":" "},2,"-",1,{"$f":"ResultsCalc(Players!$E46,Players!$G46,Players!EF46,Players!EH46)","v":" "},1,"-",2,{"$f":"ResultsCalc(Players!$E46,Players!$G46,Players!EJ46,Players!EL46)","v":" "},1,"-",1,{"$f":"ResultsCalc(Players!$E46,Players!$G46,Players!EN46,Players!EP46)","v":" "},1,"-",2,{"$f":"ResultsCalc(Players!$E46,Players!$G46,Players!ER46,Players!ET46)","v":" "},2,"-",1,{"$f":"ResultsCalc(Players!$E46,Players!$G46,Players!EV46,Players!EX46)","v":" "},2,"-",2,{"$f":"ResultsCalc(Players!$E46,Players!$G46,Players!EZ46,Players!FB46)","v":" "},2,"-",1,{"$f":"ResultsCalc(Players!$E46,Players!$G46,Players!FD46,Players!FF46)","v":" "},2,"-",1,{"$f":"ResultsCalc(Players!$E46,Players!$G46,Players!FH46,Players!FJ46)","v":" "},1,"-",1,{"$f":"ResultsCalc(Players!$E46,Players!$G46,Players!FL46,Players!FN46)","v":" "},1,"-",1,{"$f":"ResultsCalc(Players!$E46,Players!$G46,Players!FP46,Players!FR46)","v":" "},1,"-",1,{"$f":"ResultsCalc(Players!$E46,Players!$G46,Players!FT46,Players!FV46)","v":" "},1,"-",1,{"$f":"ResultsCalc(Players!$E46,Players!$G46,Players!FX46,Players!FZ46)","v":" "},1,"-",2,{"$f":"ResultsCalc(Players!$E46,Players!$G46,Players!GB46,Players!GD46)","v":" "},0,"-",0,{"$f":"ResultsCalc(Players!$E46,Players!$G46,Players!GF46,Players!GH46)","v":" "},1,"-",0,{"$f":"ResultsCalc(Players!$E46,Players!$G46,Players!GJ46,Players!GL46)","v":" "},2,"-",1,{"$f":"ResultsCalc(Players!$E46,Players!$G46,Players!GN46,Players!GP46)","v":" "},2,"-",1,{"$f":"ResultsCalc(Players!$E46,Players!$G46,Players!GR46,Players!GT46)","v":" "},2,"-",1,{"$f":"ResultsCalc(Players!$E46,Players!$G46,Players!GV46,Players!GX46)","v":" "},2,"-",3,{"$f":"ResultsCalc(Players!$E46,Players!$G46,Players!GZ46,Players!HB46)","v":" "},1,"-",0,{"$f":"ResultsCalc(Players!$E46,Players!$G46,Players!HD46,Players!HF46)","v":" "},2,"-",1,{"$f":"ResultsCalc(Players!$E46,Players!$G46,Players!HH46,Players!HJ46)","v":" "},2,"-",1,{"$f":"ResultsCalc(Players!$E46,Players!$G46,Players!HL46,Players!HN46)","v":" "},2,"-",1,{"$f":"ResultsCalc(Players!$E46,Players!$G46,Players!HP46,Players!HR46)","v":" "},2,"-",2,{"$f":"ResultsCalc(Players!$E46,Players!$G46,Players!HT46,Players!HV46)","v":" "},1,"-",1,{"$f":"ResultsCalc(Players!$E46,Players!$G46,Players!HX46,Players!HZ46)","v":" "},2,"-",1,{"$f":"ResultsCalc(Players!$E46,Players!$G46,Players!IB46,Players!ID46)","v":" "},2,"-",1,{"$f":"ResultsCalc(Players!$E46,Players!$G46,Players!IF46,Players!IH46)","v":" "},3,"-",2,{"$f":"ResultsCalc(Players!$E46,Players!$G46,Players!IJ46,Players!IL46)","v":" "},1,"-",1,{"$f":"ResultsCalc(Players!$E46,Players!$G46,Players!IN46,Players!IP46)","v":" "},0,"-",2,{"$f":"ResultsCalc(Players!$E46,Players!$G46,Players!IR46,Players!IT46)","v":" "},1,"-",1,{"$f":"ResultsCalc(Players!$E46,Players!$G46,Players!IV46,Players!IX46)","v":" "},1,"-",3,{"$f":"ResultsCalc(Players!$E46,Players!$G46,Players!IZ46,Players!JB46)","v":" "},0,"-",0,{"$f":"ResultsCalc(Players!$E46,Players!$G46,Players!JD46,Players!JF46)","v":" "},1,"-",3,{"$f":"ResultsCalc(Players!$E46,Players!$G46,Players!JH46,Players!JJ46)","v":" "},1,"-",2,{"$f":"ResultsCalc(Players!$E46,Players!$G46,Players!JL46,Players!JN46)","v":" "},0,"-",2,{"$f":"ResultsCalc(Players!$E46,Players!$G46,Players!JP46,Players!JR46)","v":" "},1,"-",1,{"$f":"ResultsCalc(Players!$E46,Players!$G46,Players!JT46,Players!JV46)","v":" "},2,"-",1,{"$f":"ResultsCalc(Players!$E46,Players!$G46,Players!JX46,Players!JZ46)","v":" "},3,"-",2,{"$f":"ResultsCalc(Players!$E46,Players!$G46,Players!KB46,Players!KD46)","v":" "},1,"-",2,{"$f":"ResultsCalc(Players!$E46,Players!$G46,Players!KF46,Players!KH46)","v":" "},1,"-",1,{"$f":"ResultsCalc(Players!$E46,Players!$G46,Players!KJ46,Players!KL46)","v":" "},2,"-",1,{"$f":"ResultsCalc(Players!$E46,Players!$G46,Players!KN46,Players!KP46)","v":" "},2,"-",1,{"$f":"ResultsCalc(Players!$E46,Players!$G46,Players!KR46,Players!KT46)","v":" "},2,"-",1,{"$f":"ResultsCalc(Players!$E46,Players!$G46,Players!KV46,Players!KX46)","v":" "},2,"-",0,{"$f":"ResultsCalc(Players!$E46,Players!$G46,Players!KZ46,Players!LB46)","v":" "},1,"-",1,{"$f":"ResultsCalc(Players!$E46,Players!$G46,Players!LD46,Players!LF46)","v":" "},0,"-",2,{"$f":"ResultsCalc(Players!$E46,Players!$G46,Players!LH46,Players!LJ46)","v":" "},1,"-",0,{"$f":"ResultsCalc(Players!$E46,Players!$G46,Players!LL46,Players!LN46)","v":" "},1,"-",2,{"$f":"ResultsCalc(Players!$E46,Players!$G46,Players!LP46,Players!LR46)","v":" "},1,"-",2,{"$f":"ResultsCalc(Players!$E46,Players!$G46,Players!LT46,Players!LV46)","v":" "},1,"-",1,{"$f":"ResultsCalc(Players!$E46,Players!$G46,Players!LX46,Players!LZ46)","v":" "},2,"-",1,{"$f":"ResultsCalc(Players!$E46,Players!$G46,Players!MB46,Players!MD46)","v":" "},2,"-",1,{"$f":"ResultsCalc(Players!$E46,Players!$G46,Players!MF46,Players!MH46)","v":" "},2,"-",1,{"$f":"ResultsCalc(Players!$E46,Players!$G46,Players!MJ46,Players!ML46)","v":" "},1,"-",1,{"$f":"ResultsCalc(Players!$E46,Players!$G46,Players!MN46,Players!MP46)","v":" "},3,"-",2,{"$f":"ResultsCalc(Players!$E46,Players!$G46,Players!MR46,Players!MT46)","v":" "},2,"-",1,{"$f":"ResultsCalc(Players!$E46,Players!$G46,Players!MV46,Players!MX46)","v":" "},0,"-",2,{"$f":"ResultsCalc(Players!$E46,Players!$G46,Players!MZ46,Players!NB46)","v":" "},3,"-",2,{"$f":"ResultsCalc(Players!$E46,Players!$G46,Players!ND46,Players!NF46)","v":" "},2,"-",1,{"$f":"ResultsCalc(Players!$E46,Players!$G46,Players!NH46,Players!NJ46)","v":" "},1,"-",2,{"$f":"ResultsCalc(Players!$E46,Players!$G46,Players!NL46,Players!NN46)","v":" "},3,"-",2,{"$f":"ResultsCalc(Players!$E46,Players!$G46,Players!NP46,Players!NR46)","v":" "},2,"-",3,{"$f":"ResultsCalc(Players!$E46,Players!$G46,Players!NT46,Players!NV46)","v":" "},1,"-",0,{"$f":"ResultsCalc(Players!$E46,Players!$G46,Players!NX46,Players!NZ46)","v":" "},2,"-",2,{"$f":"ResultsCalc(Players!$E46,Players!$G46,Players!OB46,Players!OD46)","v":" "},2,"-",1,{"$f":"ResultsCalc(Players!$E46,Players!$G46,Players!OF46,Players!OH46)","v":" "},2,"-",1,{"$f":"ResultsCalc(Players!$E46,Players!$G46,Players!OJ46,Players!OL46)","v":" "},2,"-",1,{"$f":"ResultsCalc(Players!$E46,Players!$G46,Players!ON46,Players!OP46)","v":" "},2,"-",1,{"$f":"ResultsCalc(Players!$E46,Players!$G46,Players!OR46,Players!OT46)","v":" "},2,"-",4,{"$f":"ResultsCalc(Players!$E46,Players!$G46,Players!OV46,Players!OX46)","v":" "},1,"-",0,{"$f":"ResultsCalc(Players!$E46,Players!$G46,Players!OZ46,Players!PB46)","v":" "},2,"-",1,{"$f":"ResultsCalc(Players!$E46,Players!$G46,Players!PD46,Players!PF46)","v":" "},1,"-",1,{"$f":"ResultsCalc(Players!$E46,Players!$G46,Players!PH46,Players!PJ46)","v":" "},3,"-",5,{"$f":"ResultsCalc(Players!$E46,Players!$G46,Players!PL46,Players!PN46)","v":" "},1,"-",3,{"$f":"ResultsCalc(Players!$E46,Players!$G46,Players!PP46,Players!PR46)","v":" "},2,"-",3,{"$f":"ResultsCalc(Players!$E46,Players!$G46,Players!PT46,Players!PV46)","v":" "},1,"-",1,{"$f":"ResultsCalc(Players!$E46,Players!$G46,Players!PX46,Players!PZ46)","v":" "},null,"-",null,{"$f":"ResultsCalc(Players!$E46,Players!$G46,Players!QB46,Players!QD46)","v":" "},2,"-",3,{"$f":"ResultsCalc(Players!$E46,Players!$G46,Players!QF46,Players!QH46)","v":" "},2,"-",1,{"$f":"ResultsCalc(Players!$E46,Players!$G46,Players!QJ46,Players!QL46)","v":" "},null,0,null,5,1]
["2021-06-29",8,"Sweden","Ukraine",null,"-",null,1,"-",0,{"$f":"ResultsCalc(Players!$E47,Players!$G47,Players!H47,Players!J47)","v":" "},1,"-",1,{"$f":"ResultsCalc(Players!$E47,Players!$G47,Players!L47,Players!N47)","v":" "},2,"-",0,{"$f":"ResultsCalc(Players!$E47,Players!$G47,Players!P47,Players!R47)","v":" "},2,"-",1,{"$f":"ResultsCalc(Players!$E47,Players!$G47,Players!T47,Players!V47)","v":" "},2,"-",0,{"$f":"ResultsCalc(Players!$E47,Players!$G47,Players!X47,Players!Z47)","v":" "},3,"-",0,{"$f":"ResultsCalc(Players!$E47,Players!$G47,Players!AB47,Players!AD47)","v":" "},3,"-",1,{"$f":"ResultsCalc(Players!$E47,Players!$G47,Players!AF47,Players!AH47)","v":" "},2,"-",1,{"$f":"ResultsCalc(Players!$E47,Players!$G47,Players!AJ47,Players!AL47)","v":" "},2,"-",1,{"$f":"ResultsCalc(Players!$E47,Players!$G47,Players!AN47,Players!AP47)","v":" "},2,"-",0,{"$f":"ResultsCalc(Players!$E47,Players!$G47,Players!AR47,Players!AT47)","v":" "},2,"-",0,{"$f":"ResultsCalc(Players!$E47,Players!$G47,Players!AV47,Players!AX47)","v":" "},1,"-",0,{"$f":"ResultsCalc(Players!$E47,Players!$G47,Players!AZ47,Players!BB47)","v":" "},1,"-",0,{"$f":"ResultsCalc(Players!$E47,Players!$G47,Players!BD47,Players!BF47)","v":" "},1,"-",1,{"$f":"ResultsCalc(Players!$E47,Players!$G47,Players!BH47,Players!BJ47)","v":" "},0,"-",0,{"$f":"ResultsCalc(Players!$E47,Players!$G47,Players!BL47,Players!BN47)","v":" "},2,"-",2,{"$f":"ResultsCalc(Players!$E47,Players!$G47,Players!BP47,Players!BR47)","v":" "},2,"-",1,{"$f":"ResultsCalc(Players!$E47,Players!$G47,Players!BT47,Players!BV47)","v":" "},3,"-",2,{"$f":"ResultsCalc(Players!$E47,Players!$G47,Players!BX47,Players!BZ47)","v":" "},1,"-",1,{"$f":"ResultsCalc(Players!$E47,Players!$G47,Players!CB47,Players!CD47)","v":" "},2,"-",0,{"$f":"ResultsCalc(Players!$E47,Players!$G47,Players!CF47,Players!CH47)","v":" "},3,"-",2,{"$f":"ResultsCalc(Players!$E47,Players!$G47,Players!CJ47,Players!CL47)","v":" "},1,"-",0,{"$f":"ResultsCalc(Players!$E47,Players!$G47,Players!CN47,Players!CP47)","v":" "},1,"-",0,{"$f":"ResultsCalc(Players!$E47,Players!$G47,Players!CR47,Players!CT47)","v":" "},3,"-",1,{"$f":"ResultsCalc(Players!$E47,Players!$G47,Players!CV47,Players!CX47)","v":" "},1,"-",0,{"$f":"ResultsCalc(Players!$E47,Players!$G47,Players!CZ47,Players!DB47)","v":" "},2,"-",0,{"$f":"ResultsCalc(Players!$E47,Players!$G47,Players!DD47,Players!DF47)","v":" "},1,"-",1,{"$f":"ResultsCalc(Players!$E47,Players!$G47,Players!DH47,Players!DJ47)","v":" "},1,"-",0,{"$f":"ResultsCalc(Players!$E47,Players!$G47,Players!DL47,Players!DN47)","v":" "},1,"-",1,{"$f":"ResultsCalc(Players!$E47,Players!$G47,Players!DP47,Players!DR47)","v":" "},2,"-",1,{"$f":"ResultsCalc(Players!$E47,Players!$G47,Players!DT47,Players!DV47)","v":" "},4,"-",2,{"$f":"ResultsCalc(Players!$E47,Players!$G47,Players!DX47,Players!DZ47)","v":" "},2,"-",1,{"$f":"ResultsCalc(Players!$E47,Players!$G47,Players!EB47,Players!ED47)","v":" "},0,"-",0,{"$f":"ResultsCalc(Players!$E47,Players!$G47,Players!EF47,Players!EH47)","v":" "},2,"-",1,{"$f":"ResultsCalc(Players!$E47,Players!$G47,Players!EJ47,Players!EL47)","v":" "},2,"-",1,{"$f":"ResultsCalc(Players!$E47,Players!$G47,Players!EN47,Players!EP47)","v":" "},3,"-",1,{"$f":"ResultsCalc(Players!$E47,Players!$G47,Players!ER47,Players!ET47)","v":" "},3,"-",1,{"$f":"ResultsCalc(Players!$E47,Players!$G47,Players!EV47,Players!EX47)","v":" "},2,"-",0,{"$f":"ResultsCalc(Players!$E47,Players!$G47,Players!EZ47,Players!FB47)","v":" "},3,"-",2,{"$f":"ResultsCalc(Players!$E47,Players!$G47,Players!FD47,Players!FF47)","v":" "},0,"-",0,{"$f":"ResultsCalc(Players!$E47,Players!$G47,Players!FH47,Players!FJ47)","v":" "},2,"-",0,{"$f":"ResultsCalc(Players!$E47,Players!$G47,Players!FL47,Players!FN47)","v":" "},1,"-",1,{"$f":"ResultsCalc(Players!$E47,Players!$G47,Players!FP47,Players!FR47)","v":" "},2,"-",0,{"$f":"ResultsCalc(Players!$E47,Players!$G47,Players!FT47,Players!FV47)","v":" "},1,"-",1,{"$f":"ResultsCalc(Players!$E47,Players!$G47,Players!FX47,Players!FZ47)","v":" "},3,"-",1,{"$f":"ResultsCalc(Players!$E47,Players!$G47,Players!GB47,Players!GD47)","v":" "},1,"-",0,{"$f":"ResultsCalc(Players!$E47,Players!$G47,Players!GF47,Players!GH47)","v":" "},2,"-",0,{"$f":"ResultsCalc(Players!$E47,Players!$G47,Players!GJ47,Players!GL47)","v":" "},3,"-",0,{"$f":"ResultsCalc(Players!$E47,Players!$G47,Players!GN47,Players!GP47)","v":" "},1,"-",0,{"$f":"ResultsCalc(Players!$E47,Players!$G47,Players!GR47,Players!GT47)","v":" "},2,"-",0,{"$f":"ResultsCalc(Players!$E47,Players!$G47,Players!GV47,Players!GX47)","v":" "},2,"-",0,{"$f":"ResultsCalc(Players!$E47,Players!$G47,Players!GZ47,Players!HB47)","v":" "},2,"-",0,{"$f":"ResultsCalc(Players!$E47,Players!$G47,Players!HD47,Players!HF47)","v":" "},2,"-",0,{"$f":"ResultsCalc(Players!$E47,Players!$G47,Players!HH47,Players!HJ47)","v":" "},1,"-",0,{"$f":"ResultsCalc(Players!$E47,Players!$G47,Players!HL47,Players!HN47)","v":" "},2,"-",1,{"$f":"ResultsCalc(Players!$E47,Players!$G47,Players!HP47,Players!HR47)","v":" "},1,"-",1,{"$f":"ResultsCalc(Players!$E47,Players!$G47,Players!HT47,Players!HV47)","v":" "},2,"-",0,{"$f":"ResultsCalc(Players!$E47,Players!$G47,Players!HX47,Players!HZ47)","v":" "},1,"-",0,{"$f":"ResultsCalc(Players!$E47,Players!$G47,Players!IB47,Players!ID47)","v":" "},2,"-",0,{"$f":"ResultsCalc(Players!$E47,Players!$G47,Players!IF47,Players!IH47)","v":" "},1,"-",3,{"$f":"ResultsCalc(Players!$E47,Players!$G47,Players!IJ47,Players!IL47)","v":" "},1,"-",1,{"$f":"ResultsCalc(Players!$E47,Players!$G47,Players!IN47,Players!IP47)","v":" "},2,"-",1,{"$f":"ResultsCalc(Players!$E47,Players!$G47,Players!IR47,Players!IT47)","v":" "},1,"-",0,{"$f":"ResultsCalc(Players!$E47,Players!$G47,Players!IV47,Players!IX47)","v":" "},3,"-",1,{"$f":"ResultsCalc(Players!$E47,Players!$G47,Players!IZ47,Players!JB47)","v":" "},1,"-",0,{"$f":"ResultsCalc(Players!$E47,Players!$G47,Players!JD47,Players!JF47)","v":" "},2,"-",1,{"$f":"ResultsCalc(Players!$E47,Players!$G47,Players!JH47,Players!JJ47)","v":" "},2,"-",1,{"$f":"ResultsCalc(Players!$E47,Players!$G47,Players!JL47,Players!JN47)","v":" "},2,"-",1,{"$f":"ResultsCalc(Players!$E47,Players!$G47,Players!JP47,Players!JR47)","v":" "},1,"-",1,{"$f":"ResultsCalc(Players!$E47,Players!$G47,Players!JT47,Players!JV47)","v":" "},2,"-",1,{"$f":"ResultsCalc(Players!$E47,Players!$G47,Players!JX47,Players!JZ47)","v":" "},1,"-",0,{"$f":"ResultsCalc(Players!$E47,Players!$G47,Players!KB47,Players!KD47)","v":" "},3,"-",0,{"$f":"ResultsCalc(Players!$E47,Players!$G47,Players!KF47,Players!KH47)","v":" "},1,"-",0,{"$f":"ResultsCalc(Players!$E47,Players!$G47,Players!KJ47,Players!KL47)","v":" "},1,"-",0,{"$f":"ResultsCalc(Players!$E47,Players!$G47,Players!KN47,Players!KP47)","v":" "},1,"-",0,{"$f":"ResultsCalc(Players!$E47,Players!$G47,Players!KR47,Players!KT47)","v":" "},2,"-",0,{"$f":"ResultsCalc(Players!$E47,Players!$G47,Players!KV47,Players!KX47)","v":" "},0,"-",0,{"$f":"ResultsCalc(Players!$E47,Players!$G47,Players!KZ47,Players!LB47)","v":" "},1,"-",1,{"$f":"ResultsCalc(Players!$E47,Players!$G47,Players!LD47,Players!LF47)","v":" "},3,"-",1,{"$f":"ResultsCalc(Players!$E47,Players!$G47,Players!LH47,Players!LJ47)","v":" "},3,"-",0,{"$f":"ResultsCalc(Players!$E47,Players!$G47,Players!LL47,Players!LN47)","v":" "},1,"-",1,{"$f":"ResultsCalc(Players!$E47,Players!$G47,Players!LP47,Players!LR47)","v":" "},2,"-",0,{"$f":"ResultsCalc(Players!$E47,Players!$G47,Players!LT47,Players!LV47)","v":" "},2,"-",2,{"$f":"ResultsCalc(Players!$E47,Players!$G47,Players!LX47,Players!LZ47)","v":" "},1,"-",1,{"$f":"ResultsCalc(Players!$E47,Players!$G47,Players!MB47,Players!MD47)","v":" "},1,"-",1,{"$f":"ResultsCalc(Players!$E47,Players!$G47,Players!MF47,Players!MH47)","v":" "},2,"-",0,{"$f":"ResultsCalc(Players!$E47,Players!$G47,Players!MJ47,Players!ML47)","v":" "},1,"-",1,{"$f":"ResultsCalc(Players!$E47,Players!$G47,Players!MN47,Players!MP47)","v":" "},1,"-",1,{"$f":"ResultsCalc(Players!$E47,Players!$G47,Players!MR47,Players!MT47)","v":" "},3,"-",0,{"$f":"ResultsCalc(Players!$E47,Players!$G47,Players!MV47,Players!MX47)","v":" "},3,"-",1,{"$f":"ResultsCalc(Players!$E47,Players!$G47,Players!MZ47,Players!NB47)","v":" "},2,"-",1,{"$f":"ResultsCalc(Players!$E47,Players!$G47,Players!ND47,Players!NF47)","v":" "},1,"-",0,{"$f":"ResultsCalc(Players!$E47,Players!$G47,Players!NH47,Players!NJ47)","v":" "},2,"-",1,{"$f":"ResultsCalc(Players!$E47,Players!$G47,Players!NL47,Players!NN47)","v":" "},2,"-",0,{"$f":"ResultsCalc(Players!$E47,Players!$G47,Players!NP47,Players!NR47)","v":" "},3,"-",0,{"$f":"ResultsCalc(Players!$E47,Players!$G47,Players!NT47,Players!NV47)","v":" "},2,"-",0,{"$f":"ResultsCalc(Players!$E47,Players!$G47,Players!NX47,Players!NZ47)","v":" "},2,"-",1,{"$f":"ResultsCalc(Players!$E47,Players!$G47,Players!OB47,Players!OD47)","v":" "},1,"-",0,{"$f":"ResultsCalc(Players!$E47,Players!$G47,Players!OF47,Players!OH47)","v":" "},1,"-",2,{"$f":"ResultsCalc(Players!$E47,Players!$G47,Players!OJ47,Players!OL47)","v":" "},1,"-",0,{"$f":"ResultsCalc(Players!$E47,Players!$G47,Players!ON47,Players!OP47)","v":" "},2,"-",1,{"$f":"ResultsCalc(Players!$E47,Players!$G47,Players!OR47,Players!OT47)","v":" "},3,"-",1,{"$f":"ResultsCalc(Players!$E47,Players!$G47,Players!OV47,Players!OX47)","v":" "},2,"-",0,{"$f":"ResultsCalc(Players!$E47,Players!$G47,Players!OZ47,Players!PB47)","v":" "},2,"-",1,{"$f":"ResultsCalc(Players!$E47,Players!$G47,Players!PD47,Players!PF47)","v":" "},3,"-",1,{"$f":"ResultsCalc(Players!$E47,Players!$G47,Players!PH47,Players!PJ47)","v":" "},2,"-",1,{"$f":"ResultsCalc(Players!$E47,Players!$G47,Players!PL47,Players!PN47)","v":" "},3,"-",2,{"$f":"ResultsCalc(Players!$E47,Players!$G47,Players!PP47,Players!PR47)","v":" "},4,"-",2,{"$f":"ResultsCalc(Players!$E47,Players!$G47,Players!PT47,Players!PV47)","v":" "},1,"-",1,{"$f":"ResultsCalc(Players!$E47,Players!$G47,Players!PX47,Players!PZ47)","v":" "},null,"-",null,{"$f":"ResultsCalc(Players!$E47,Players!$G47,Players!QB47,Players!QD47)","v":" "},2,"-",0,{"$f":"ResultsCalc(Players!$E47,Players!$G47,Players!QF47,Players!QH47)","v":" "},1,"-",0,{"$f":"ResultsCalc(Players!$E47,Players!$G47,Players!QJ47,Players!QL47)","v":" "},null,0,null,4,2]
["2021-07-02",1,"W6","W5",null,"-",null,1,"-",1,{"$f":"ResultsCalc(Players!$E48,Players!$G48,Players!H48,Players!J48)","v":" "},1,"-",0,{"$f":"ResultsCalc(Players!$E48,Players!$G48,Players!L48,Players!N48)","v":" "},3,"-",1,{"$f":"ResultsCalc(Players!$E48,Players!$G48,Players!P48,Players!R48)","v":" "},2,"-",1,{"$f":"ResultsCalc(Players!$E48,Players!$G48,Players!T48,Players!V48)","v":" "},3,"-",1,{"$f":"ResultsCalc(Players!$E48,Players!$G48,Players!X48,Players!Z48)","v":" "},2,"-",1,{"$f":"ResultsCalc(Players!$E48,Players!$G48,Players!AB48,Players!AD48)","v":" "},2,"-",1,{"$f":"ResultsCalc(Players!$E48,Players!$G48,Players!AF48,Players!AH48)","v":" "},2,"-",1,{"$f":"ResultsCalc(Players!$E48,Players!$G48,Players!AJ48,Players!AL48)","v":" "},1,"-",1,{"$f":"ResultsCalc(Players!$E48,Players!$G48,Players!AN48,Players!AP48)","v":" "},1,"-",0,{"$f":"ResultsCalc(Players!$E48,Players!$G48,Players!AR48,Players!AT48)","v":" "},1,"-",1,{"$f":"ResultsCalc(Players!$E48,Players!$G48,Players!AV48,Players!AX48)","v":" "},2,"-",0,{"$f":"ResultsCalc(Players!$E48,Players!$G48,Players!AZ48,Players!BB48)","v":" "},2,"-",1,{"$f":"ResultsCalc(Players!$E48,Players!$G48,Players!BD48,Players!BF48)","v":" "},1,"-",1,{"$f":"ResultsCalc(Players!$E48,Players!$G48,Players!BH48,Players!BJ48)","v":" "},2,"-",1,{"$f":"ResultsCalc(Players!$E48,Players!$G48,Players!BL48,Players!BN48)","v":" "},3,"-",1,{"$f":"ResultsCalc(Players!$E48,Players!$G48,Players!BP48,Players!BR48)","v":" "},3,"-",2,{"$f":"ResultsCalc(Players!$E48,Players!$G48,Players!BT48,Players!BV48)","v":" "},2,"-",0,{"$f":"ResultsCalc(Players!$E48,Players!$G48,Players!BX48,Players!BZ48)","v":" "},2,"-",1,{"$f":"ResultsCalc(Players!$E48,Players!$G48,Players!CB48,Players!CD48)","v":" "},2,"-",0,{"$f":"ResultsCalc(Players!$E48,Players!$G48,Players!CF48,Players!CH48)","v":" "},2,"-",1,{"$f":"ResultsCalc(Players!$E48,Players!$G48,Players!CJ48,Players!CL48)","v":" "},1,"-",0,{"$f":"ResultsCalc(Players!$E48,Players!$G48,Players!CN48,Players!CP48)","v":" "},1,"-",0,{"$f":"ResultsCalc(Players!$E48,Players!$G48,Players!CR48,Players!CT48)","v":" "},2,"-",1,{"$f":"ResultsCalc(Players!$E48,Players!$G48,Players!CV48,Players!CX48)","v":" "},2,"-",0,{"$f":"ResultsCalc(Players!$E48,Players!$G48,Players!CZ48,Players!DB48)","v":" "},2,"-",1,{"$f":"ResultsCalc(Players!$E48,Players!$G48,Players!DD48,Players!DF48)","v":" "},1,"-",1,{"$f":"ResultsCalc(Players!$E48,Players!$G48,Players!DH48,Players!DJ48)","v":" "},2,"-",0,{"$f":"ResultsCalc(Players!$E48,Players!$G48,Players!DL48,Players!DN48)","v":" "},2,"-",0,{"$f":"ResultsCalc(Players!$E48,Players!$G48,Players!DP48,Players!DR48)","v":" "},3,"-",1,{"$f":"ResultsCalc(Players!$E48,Players!$G48,Players!DT48,Players!DV48)","v":" "},3,"-",1,{"$f":"ResultsCalc(Players!$E48,Players!$G48,Players!DX48,Players!DZ48)","v":" "},2,"-",1,{"$f":"ResultsCalc(Players!$E48,Players!$G48,Players!EB48,Players!ED48)","v":" "},1,"-",2,{"$f":"ResultsCalc(Players!$E48,Players!$G48,Players!EF48,Players!EH48)","v":" "},2,"-",1,{"$f":"ResultsCalc(Players!$E48,Players!$G48,Players!EJ48,Players!EL48)","v":" "},2,"-",1,{"$f":"ResultsCalc(Players!$E48,Players!$G48,Players!EN48,Players!EP48)","v":" "},2,"-",0,{"$f":"ResultsCalc(Players!$E48,Players!$G48,Players!ER48,Players!ET48)","v":" "},3,"-",1,{"$f":"ResultsCalc(Players!$E48,Players!$G48,Players!EV48,Players!EX48)","v":" "},2,"-",0,{"$f":"ResultsCalc(Players!$E48,Players!$G48,Players!EZ48,Players!FB48)","v":" "},1,"-",0,{"$f":"ResultsCalc(Players!$E48,Players!$G48,Players!FD48,Players!FF48)","v":" "},2,"-",1,{"$f":"ResultsCalc(Players!$E48,Players!$G48,Players!FH48,Players!FJ48)","v":" "},2,"-",0,{"$f":"ResultsCalc(Players!$E48,Players!$G48,Players!FL48,Players!FN48)","v":" "},1,"-",1,{"$f":"ResultsCalc(Players!$E48,Players!$G48,Players!FP48,Players!FR48)","v":" "},2,"-",0,{"$f":"ResultsCalc(Players!$E48,Players!$G48,Players!FT48,Players!FV48)","v":" "},1,"-",1,{"$f":"ResultsCalc(Players!$E48,Players!$G48,Players!FX48,Players!FZ48)","v":" "},2,"-",1,{"$f":"ResultsCalc(Players!$E48,Players!$G48,Players!GB48,Players!GD48)","v":" "},2,"-",1,{"$f":"ResultsCalc(Players!$E48,Players!$G48,Players!GF48,Players!GH48)","v":" "},2,"-",0,{"$f":"ResultsCalc(Players!$E48,Players!$G48,Players!GJ48,Players!GL48)","v":" "},3,"-",0,{"$f":"ResultsCalc(Players!$E48,Players!$G48,Players!GN48,Players!GP48)","v":" "},3,"-",1,{"$f":"ResultsCalc(Players!$E48,Players!$G48,Players!GR48,Players!GT48)","v":" "},2,"-",1,{"$f":"ResultsCalc(Players!$E48,Players!$G48,Players!GV48,Players!GX48)","v":" "},2,"-",1,{"$f":"ResultsCalc(Players!$E48,Players!$G48,Players!GZ48,Players!HB48)","v":" "},2,"-",0,{"$f":"ResultsCalc(Players!$E48,Players!$G48,Players!HD48,Players!HF48)","v":" "},1,"-",0,{"$f":"ResultsCalc(Players!$E48,Players!$G48,Players!HH48,Players!HJ48)","v":" "},1,"-",1,{"$f":"ResultsCalc(Players!$E48,Players!$G48,Players!HL48,Players!HN48)","v":" "},2,"-",3,{"$f":"ResultsCalc(Players!$E48,Players!$G48,Players!HP48,Players!HR48)","v":" "},2,"-",0,{"$f":"ResultsCalc(Players!$E48,Players!$G48,Players!HT48,Players!HV48)","v":" "},1,"-",1,{"$f":"ResultsCalc(Players!$E48,Players!$G48,Players!HX48,Players!HZ48)","v":" "},1,"-",0,{"$f":"ResultsCalc(Players!$E48,Players!$G48,Players!IB48,Players!ID48)","v":" "},2,"-",1,{"$f":"ResultsCalc(Players!$E48,Players!$G48,Players!IF48,Players!IH48)","v":" "},1,"-",1,{"$f":"ResultsCalc(Players!$E48,Players!$G48,Players!IJ48,Players!IL48)","v":" "},1,"-",1,{"$f":"ResultsCalc(Players!$E48,Players!$G48,Players!IN48,Players!IP48)","v":" "},3,"-",1,{"$f":"ResultsCalc(Players!$E48,Players!$G48,Players!IR48,Players!IT48)","v":" "},2,"-",1,{"$f":"ResultsCalc(Players!$E48,Players!$G48,Players!IV48,Players!IX48)","v":" "},2,"-",0,{"$f":"ResultsCalc(Players!$E48,Players!$G48,Players!IZ48,Players!JB48)","v":" "},1,"-",0,{"$f":"ResultsCalc(Players!$E48,Players!$G48,Players!JD48,Players!JF48)","v":" "},3,"-",1,{"$f":"ResultsCalc(Players!$E48,Players!$G48,Players!JH48,Players!JJ48)","v":" "},2,"-",0,{"$f":"ResultsCalc(Players!$E48,Players!$G48,Players!JL48,Players!JN48)","v":" "},3,"-",2,{"$f":"ResultsCalc(Players!$E48,Players!$G48,Players!JP48,Players!JR48)","v":" "},1,"-",1,{"$f":"ResultsCalc(Players!$E48,Players!$G48,Players!JT48,Players!JV48)","v":" "},2,"-",1,{"$f":"ResultsCalc(Players!$E48,Players!$G48,Players!JX48,Players!JZ48)","v":" "},2,"-",0,{"$f":"ResultsCalc(Players!$E48,Players!$G48,Players!KB48,Players!KD48)","v":" "},3,"-",1,{"$f":"ResultsCalc(Players!$E48,Players!$G48,Players!KF48,Players!KH48)","v":" "},1,"-",0,{"$f":"ResultsCalc(Players!$E48,Players!$G48,Players!KJ48,Players!KL48)","v":" "},1,"-",0,{"$f":"ResultsCalc(Players!$E48,Players!$G48,Players!KN48,Players!KP48)","v":" "},2,"-",0,{"$f":"ResultsCalc(Players!$E48,Players!$G48,Players!KR48,Players!KT48)","v":" "},3,"-",2,{"$f":"ResultsCalc(Players!$E48,Players!$G48,Players!KV48,Players!KX48)","v":" "},2,"-",0,{"$f":"ResultsCalc(Players!$E48,Players!$G48,Players!KZ48,Players!LB48)","v":" "},1,"-",1,{"$f":"ResultsCalc(Players!$E48,Players!$G48,Players!LD48,Players!LF48)","v":" "},2,"-",1,{"$f":"ResultsCalc(Players!$E48,Players!$G48,Players!LH48,Players!LJ48)","v":" "},2,"-",0,{"$f":"ResultsCalc(Players!$E48,Players!$G48,Players!LL48,Players!LN48)","v":" "},2,"-",1,{"$f":"ResultsCalc(Players!$E48,Players!$G48,Players!LP48,Players!LR48)","v":" "},2,"-",0,{"$f":"ResultsCalc(Players!$E48,Players!$G48,Players!LT48,Players!LV48)","v":" "},2,"-",1,{"$f":"ResultsCalc(Players!$E48,Players!$G48,Players!LX48,Players!LZ48)","v":" "},0,"-",1,{"$f":"ResultsCalc(Players!$E48,Players!$G48,Players!MB48,Players!MD48)","v":" "},1,"-",1,{"$f":"ResultsCalc(Players!$E48,Players!$G48,Players!MF48,Players!MH48)","v":" "},3,"-",1,{"$f":"ResultsCalc(Players!$E48,Players!$G48,Players!MJ48,Players!ML48)","v":" "},3,"-",2,{"$f":"ResultsCalc(Players!$E48,Players!$G48,Players!MN48,Players!MP48)","v":" "},3,"-",0,{"$f":"ResultsCalc(Players!$E48,Players!$G48,Players!MR48,Players!MT48)","v":" "},3,"-",2,{"$f":"ResultsCalc(Players!$E48,Players!$G48,Players!MV48,Players!MX48)","v":" "},2,"-",0,{"$f":"ResultsCalc(Players!$E48,Players!$G48,Players!MZ48,Players!NB48)","v":" "},3,"-",1,{"$f":"ResultsCalc(Players!$E48,Players!$G48,Players!ND48,Players!NF48)","v":" "},3,"-",1,{"$f":"ResultsCalc(Players!$E48,Players!$G48,Players!NH48,Players!NJ48)","v":" "},1,"-",2,{"$f":"ResultsCalc(Players!$E48,Players!$G48,Players!NL48,Players!NN48)","v":" "},2,"-",1,{"$f":"ResultsCalc(Players!$E48,Players!$G48,Players!NP48,Players!NR48)","v":" "},1,"-",0,{"$f":"ResultsCalc(Players!$E48,Players!$G48,Players!NT48,Players!NV48)","v":" "},2,"-",0,{"$f":"ResultsCalc(Players!$E48,Players!$G48,Players!NX48,Players!NZ48)","v":" "},2,"-",0,{"$f":"ResultsCalc(Players!$E48,Players!$G48,Players!OB48,Players!OD48)","v":" "},3,"-",1,{"$f":"ResultsCalc(Players!$E48,Players!$G48,Players!OF48,Players!OH48)","v":" "},3,"-",2,{"$f":"ResultsCalc(Players!$E48,Players!$G48,Players!OJ48,Players!OL48)","v":" "},2,"-",1,{"$f":"ResultsCalc(Players!$E48,Players!$G48,Players!ON48,Players!OP48)","v":" "},2,"-",0,{"$f":"ResultsCalc(Players!$E48,Players!$G48,Players!OR48,Players!OT48)","v":" "},4,"-",1,{"$f":"ResultsCalc(Players!$E48,Players!$G48,Players!OV48,Players!OX48)","v":" "},2,"-",0,{"$f":"ResultsCalc(Players!$E48,Players!$G48,Players!OZ48,Players!PB48)","v":" "},2,"-",0,{"$f":"ResultsCalc(Players!$E48,Players!$G48,Players!PD48,Players!PF48)","v":" "},2,"-",0,{"$f":"ResultsCalc(Players!$E48,Players!$G48,Players!PH48,Players!PJ48)","v":" "},6,"-",7,{"$f":"ResultsCalc(Players!$E48,Players!$G48,Players!PL48,Players!PN48)","v":" "},2,"-",1,{"$f":"ResultsCalc(Players!$E48,Players!$G48,Players!PP48,Players!PR48)","v":" "},3,"-",0,{"$f":"ResultsCalc(Players!$E48,Players!$G48,Players!PT48,Players!PV48)","v":" "},1,"-",1,{"$f":"ResultsCalc(Players!$E48,Players!$G48,Players!PX48,Players!PZ48)","v":" "},null,"-",null,{"$f":"ResultsCalc(Players!$E48,Players!$G48,Players!QB48,Players!QD48)","v":" "},2,"-",1,{"$f":"ResultsCalc(Players!$E48,Players!$G48,Players!QF48,Players!QH48)","v":" "},1,"-",1,{"$f":"ResultsCalc(Players!$E48,Players!$G48,Players!QJ48,Players!QL48)","v":" "},null,0,null,7,1]
["2021-07-02",2,"W2","W4",null,"-",null,2,"-",3,{"$f":"ResultsCalc(Players!$E49,Players!$G49,Players!H49,Players!J49)","v":" "},1,"-",2,{"$f":"ResultsCalc(Players!$E49,Players!$G49,Players!L49,Players!N49)","v":" "},1,"-",0,{"$f":"ResultsCalc(Players!$E49,Players!$G49,Players!P49,Players!R49)","v":" "},2,"-",3,{"$f":"ResultsCalc(Players!$E49,Players!$G49,Players!T49,Players!V49)","v":" "},2,"-",1,{"$f":"ResultsCalc(Players!$E49,Players!$G49,Players!X49,Players!Z49)","v":" "},2,"-",3,{"$f":"ResultsCalc(Players!$E49,Players!$G49,Players!AB49,Players!AD49)","v":" "},2,"-",1,{"$f":"ResultsCalc(Players!$E49,Players!$G49,Players!AF49,Players!AH49)","v":" "},0,"-",3,{"$f":"ResultsCalc(Players!$E49,Players!$G49,Players!AJ49,Players!AL49)","v":" "},2,"-",1,{"$f":"ResultsCalc(Players!$E49,Players!$G49,Players!AN49,Players!AP49)","v":" "},1,"-",1,{"$f":"ResultsCalc(Players!$E49,Players!$G49,Players!AR49,Players!AT49)","v":" "},1,"-",1,{"$f":"ResultsCalc(Players!$E49,Players!$G49,Players!AV49,Players!AX49)","v":" "},3,"-",2,{"$f":"ResultsCalc(Players!$E49,Players!$G49,Players!AZ49,Players!BB49)","v":" "},1,"-",1,{"$f":"ResultsCalc(Players!$E49,Players!$G49,Players!BD49,Players!BF49)","v":" "},1,"-",1,{"$f":"ResultsCalc(Players!$E49,Players!$G49,Players!BH49,Players!BJ49)","v":" "},1,"-",2,{"$f":"ResultsCalc(Players!$E49,Players!$G49,Players!BL49,Players!BN49)","v":" "},0,"-",2,{"$f":"ResultsCalc(Players!$E49,Players!$G49,Players!BP49,Players!BR49)","v":" "},3,"-",2,{"$f":"ResultsCalc(Players!$E49,Players!$G49,Players!BT49,Players!BV49)","v":" "},2,"-",0,{"$f":"ResultsCalc(Players!$E49,Players!$G49,Players!BX49,Players!BZ49)","v":" "},3,"-",1,{"$f":"ResultsCalc(Players!$E49,Players!$G49,Players!CB49,Players!CD49)","v":" "},3,"-",2,{"$f":"ResultsCalc(Players!$E49,Players!$G49,Players!CF49,Players!CH49)","v":" "},1,"-",2,{"$f":"ResultsCalc(Players!$E49,Players!$G49,Players!CJ49,Players!CL49)","v":" "},2,"-",1,{"$f":"ResultsCalc(Players!$E49,Players!$G49,Players!CN49,Players!CP49)","v":" "},1,"-",2,{"$f":"ResultsCalc(Players!$E49,Players!$G49,Players!CR49,Players!CT49)","v":" "},0,"-",0,{"$f":"ResultsCalc(Players!$E49,Players!$G49,Players!CV49,Players!CX49)","v":" "},1,"-",2,{"$f":"ResultsCalc(Players!$E49,Players!$G49,Players!CZ49,Players!DB49)","v":" "},1,"-",2,{"$f":"ResultsCalc(Players!$E49,Players!$G49,Players!DD49,Players!DF49)","v":" "},1,"-",1,{"$f":"ResultsCalc(Players!$E49,Players!$G49,Players!DH49,Players!DJ49)","v":" "},2,"-",1,{"$f":"ResultsCalc(Players!$E49,Players!$G49,Players!DL49,Players!DN49)","v":" "},2,"-",1,{"$f":"ResultsCalc(Players!$E49,Players!$G49,Players!DP49,Players!DR49)","v":" "},1,"-",2,{"$f":"ResultsCalc(Players!$E49,Players!$G49,Players!DT49,Players!DV49)","v":" "},1,"-",2,{"$f":"ResultsCalc(Players!$E49,Players!$G49,Players!DX49,Players!DZ49)","v":" "},0,"-",2,{"$f":"ResultsCalc(Players!$E49,Players!$G49,Players!EB49,Players!ED49)","v":" "},0,"-",2,{"$f":"ResultsCalc(Players!$E49,Players!$G49,Players!EF49,Players!EH49)","v":" "},0,"-",2,{"$f":"ResultsCalc(Players!$E49,Players!$G49,Players!EJ49,Players!EL49)","v":" "},1,"-",2,{"$f":"ResultsCalc(Players!$E49,Players!$G49,Players!EN49,Players!EP49)","v":" "},1,"-",2,{"$f":"ResultsCalc(Players!$E49,Players!$G49,Players!ER49,Players!ET49)","v":" "},2,"-",0,{"$f":"ResultsCalc(Players!$E49,Players!$G49,Players!EV49,Players!EX49)","v":" "},1,"-",1,{"$f":"ResultsCalc(Players!$E49,Players!$G49,Players!EZ49,Players!FB49)","v":" "},1,"-",2,{"$f":"ResultsCalc(Players!$E49,Players!$G49,Players!FD49,Players!FF49)","v":" "},0,"-",2,{"$f":"ResultsCalc(Players!$E49,Players!$G49,Players!FH49,Players!FJ49)","v":" "},0,"-",2,{"$f":"ResultsCalc(Players!$E49,Players!$G49,Players!FL49,Players!FN49)","v":" "},1,"-",1,{"$f":"ResultsCalc(Players!$E49,Players!$G49,Players!FP49,Players!FR49)","v":" "},1,"-",1,{"$f":"ResultsCalc(Players!$E49,Players!$G49,Players!FT49,Players!FV49)","v":" "},1,"-",1,{"$f":"ResultsCalc(Players!$E49,Players!$G49,Players!FX49,Players!FZ49)","v":" "},0,"-",1,{"$f":"ResultsCalc(Players!$E49,Players!$G49,Players!GB49,Players!GD49)","v":" "},1,"-",1,{"$f":"ResultsCalc(Players!$E49,Players!$G49,Players!GF49,Players!GH49)","v":" "},2,"-",1,{"$f":"ResultsCalc(Players!$E49,Players!$G49,Players!GJ49,Players!GL49)","v":" "},2,"-",1,{"$f":"ResultsCalc(Players!$E49,Players!$G49,Players!GN49,Players!GP49)","v":" "},0,"-",1,{"$f":"ResultsCalc(Players!$E49,Players!$G49,Players!GR49,Players!GT49)","v":" "},0,"-",1,{"$f":"ResultsCalc(Players!$E49,Players!$G49,Players!GV49,Players!GX49)","v":" "},2,"-",3,{"$f":"ResultsCalc(Players!$E49,Players!$G49,Players!GZ49,Players!HB49)","v":" "},1,"-",3,{"$f":"ResultsCalc(Players!$E49,Players!$G49,Players!HD49,Players!HF49)","v":" "},1,"-",2,{"$f":"ResultsCalc(Players!$E49,Players!$G49,Players!HH49,Players!HJ49)","v":" "},1,"-",1,{"$f":"ResultsCalc(Players!$E49,Players!$G49,Players!HL49,Players!HN49)","v":" "},1,"-",2,{"$f":"ResultsCalc(Players!$E49,Players!$G49,Players!HP49,Players!HR49)","v":" "},2,"-",1,{"$f":"ResultsCalc(Players!$E49,Players!$G49,Players!HT49,Players!HV49)","v":" "},2,"-",0,{"$f":"ResultsCalc(Players!$E49,Players!$G49,Players!HX49,Players!HZ49)","v":" "},2,"-",1,{"$f":"ResultsCalc(Players!$E49,Players!$G49,Players!IB49,Players!ID49)","v":" "},1,"-",3,{"$f":"ResultsCalc(Players!$E49,Players!$G49,Players!IF49,Players!IH49)","v":" "},1,"-",4,{"$f":"ResultsCalc(Players!$E49,Players!$G49,Players!IJ49,Players!IL49)","v":" "},1,"-",1,{"$f":"ResultsCalc(Players!$E49,Players!$G49,Players!IN49,Players!IP49)","v":" "},1,"-",4,{"$f":"ResultsCalc(Players!$E49,Players!$G49,Players!IR49,Players!IT49)","v":" "},1,"-",2,{"$f":"ResultsCalc(Players!$E49,Players!$G49,Players!IV49,Players!IX49)","v":" "},0,"-",1,{"$f":"ResultsCalc(Players!$E49,Players!$G49,Players!IZ49,Players!JB49)","v":" "},0,"-",1,{"$f":"ResultsCalc(Players!$E49,Players!$G49,Players!JD49,Players!JF49)","v":" "},1,"-",2,{"$f":"ResultsCalc(Players!$E49,Players!$G49,Players!JH49,Players!JJ49)","v":" "},1,"-",2,{"$f":"ResultsCalc(Players!$E49,Players!$G49,Players!JL49,Players!JN49)","v":" "},1,"-",2,{"$f":"ResultsCalc(Players!$E49,Players!$G49,Players!JP49,Players!JR49)","v":" "},1,"-",1,{"$f":"ResultsCalc(Players!$E49,Players!$G49,Players!JT49,Players!JV49)","v":" "},2,"-",1,{"$f":"ResultsCalc(Players!$E49,Players!$G49,Players!JX49,Players!JZ49)","v":" "},2,"-",1,{"$f":"ResultsCalc(Players!$E49,Players!$G49,Players!KB49,Players!KD49)","v":" "},1,"-",0,{"$f":"ResultsCalc(Players!$E49,Players!$G49,Players!KF49,Players!KH49)","v":" "},0,"-",1,{"$f":"ResultsCalc(Players!$E49,Players!$G49,Players!KJ49,Players!KL49)","v":" "},2,"-",1,{"$f":"ResultsCalc(Players!$E49,Players!$G49,Players!KN49,Players!KP49)","v":" "},1,"-",2,{"$f":"ResultsCalc(Players!$E49,Players!$G49,Players!KR49,Players!KT49)","v":" "},2,"-",3,{"$f":"ResultsCalc(Players!$E49,Players!$G49,Players!KV49,Players!KX49)","v":" "},1,"-",2,{"$f":"ResultsCalc(Players!$E49,Players!$G49,Players!KZ49,Players!LB49)","v":" "},1,"-",1,{"$f":"ResultsCalc(Players!$E49,Players!$G49,Players!LD49,Players!LF49)","v":" "},2,"-",0,{"$f":"ResultsCalc(Players!$E49,Players!$G49,Players!LH49,Players!LJ49)","v":" "},1,"-",1,{"$f":"ResultsCalc(Players!$E49,Players!$G49,Players!LL49,Players!LN49)","v":" "},1,"-",2,{"$f":"ResultsCalc(Players!$E49,Players!$G49,Players!LP49,Players!LR49)","v":" "},1,"-",0,{"$f":"ResultsCalc(Players!$E49,Players!$G49,Players!LT49,Players!LV49)","v":" "},1,"-",2,{"$f":"ResultsCalc(Players!$E49,Players!$G49,Players!LX49,Players!LZ49)","v":" "},0,"-",0,{"$f":"ResultsCalc(Players!$E49,Players!$G49,Players!MB49,Players!MD49)","v":" "},1,"-",1,{"$f":"ResultsCalc(Players!$E49,Players!$G49,Players!MF49,Players!MH49)","v":" "},1,"-",2,{"$f":"ResultsCalc(Players!$E49,Players!$G49,Players!MJ49,Players!ML49)","v":" "},1,"-",1,{"$f":"ResultsCalc(Players!$E49,Players!$G49,Players!MN49,Players!MP49)","v":" "},1,"-",3,{"$f":"ResultsCalc(Players!$E49,Players!$G49,Players!MR49,Players!MT49)","v":" "},1,"-",3,{"$f":"ResultsCalc(Players!$E49,Players!$G49,Players!MV49,Players!MX49)","v":" "},3,"-",2,{"$f":"ResultsCalc(Players!$E49,Players!$G49,Players!MZ49,Players!NB49)","v":" "},1,"-",2,{"$f":"ResultsCalc(Players!$E49,Players!$G49,Players!ND49,Players!NF49)","v":" "},1,"-",2,{"$f":"ResultsCalc(Players!$E49,Players!$G49,Players!NH49,Players!NJ49)","v":" "},2,"-",1,{"$f":"ResultsCalc(Players!$E49,Players!$G49,Players!NL49,Players!NN49)","v":" "},2,"-",3,{"$f":"ResultsCalc(Players!$E49,Players!$G49,Players!NP49,Players!NR49)","v":" "},1,"-",3,{"$f":"ResultsCalc(Players!$E49,Players!$G49,Players!NT49,Players!NV49)","v":" "},1,"-",2,{"$f":"ResultsCalc(Players!$E49,Players!$G49,Players!NX49,Players!NZ49)","v":" "},1,"-",3,{"$f":"ResultsCalc(Players!$E49,Players!$G49,Players!OB49,Players!OD49)","v":" "},1,"-",2,{"$f":"ResultsCalc(Players!$E49,Players!$G49,Players!OF49,Players!OH49)","v":" "},2,"-",1,{"$f":"ResultsCalc(Players!$E49,Players!$G49,Players!OJ49,Players!OL49)","v":" "},0,"-",1,{"$f":"ResultsCalc(Players!$E49,Players!$G49,Players!ON49,Players!OP49)","v":" "},0,"-",2,{"$f":"ResultsCalc(Players!$E49,Players!$G49,Players!OR49,Players!OT49)","v":" "},2,"-",4,{"$f":"ResultsCalc(Players!$E49,Players!$G49,Players!OV49,Players!OX49)","v":" "},1,"-",0,{"$f":"ResultsCalc(Players!$E49,Players!$G49,Players!OZ49,Players!PB49)","v":" "},1,"-",1,{"$f":"ResultsCalc(Players!$E49,Players!$G49,Players!PD49,Players!PF49)","v":" "},1,"-",2,{"$f":"ResultsCalc(Players!$E49,Players!$G49,Players!PH49,Players!PJ49)","v":" "},3,"-",4,{"$f":"ResultsCalc(Players!$E49,Players!$G49,Players!PL49,Players!PN49)","v":" "},0,"-",2,{"$f":"ResultsCalc(Players!$E49,Players!$G49,Players!PP49,Players!PR49)","v":" "},1,"-",2,{"$f":"ResultsCalc(Players!$E49,Players!$G49,Players!PT49,Players!PV49)","v":" "},1,"-",1,{"$f":"ResultsCalc(Players!$E49,Players!$G49,Players!PX49,Players!PZ49)","v":" "},null,"-",null,{"$f":"ResultsCalc(Players!$E49,Players!$G49,Players!QB49,Players!QD49)","v":" "},1,"-",3,{"$f":"ResultsCalc(Players!$E49,Players!$G49,Players!QF49,Players!QH49)","v":" "},1,"-",1,{"$f":"ResultsCalc(Players!$E49,Players!$G49,Players!QJ49,Players!QL49)","v":" "},null,0,null,4,4]
["2021-07-03",3,"W3","W1",null,"-",null,2,"-",0,{"$f":"ResultsCalc(Players!$E50,Players!$G50,Players!H50,Players!J50)","v":" "},2,"-",0,{"$f":"ResultsCalc(Players!$E50,Players!$G50,Players!L50,Players!N50)","v":" "},0,"-",1,{"$f":"ResultsCalc(Players!$E50,Players!$G50,Players!P50,Players!R50)","v":" "},2,"-",1,{"$f":"ResultsCalc(Players!$E50,Players!$G50,Players!T50,Players!V50)","v":" "},1,"-",0,{"$f":"ResultsCalc(Players!$E50,Players!$G50,Players!X50,Players!Z50)","v":" "},0,"-",1,{"$f":"ResultsCalc(Players!$E50,Players!$G50,Players!AB50,Players!AD50)","v":" "},0,"-",1,{"$f":"ResultsCalc(Players!$E50,Players!$G50,Players!AF50,Players!AH50)","v":" "},3,"-",1,{"$f":"ResultsCalc(Players!$E50,Players!$G50,Players!AJ50,Players!AL50)","v":" "},2,"-",1,{"$f":"ResultsCalc(Players!$E50,Players!$G50,Players!AN50,Players!AP50)","v":" "},1,"-",0,{"$f":"ResultsCalc(Players!$E50,Players!$G50,Players!AR50,Players!AT50)","v":" "},1,"-",1,{"$f":"ResultsCalc(Players!$E50,Players!$G50,Players!AV50,Players!AX50)","v":" "},2,"-",1,{"$f":"ResultsCalc(Players!$E50,Players!$G50,Players!AZ50,Players!BB50)","v":" "},1,"-",1,{"$f":"ResultsCalc(Players!$E50,Players!$G50,Players!BD50,Players!BF50)","v":" "},1,"-",1,{"$f":"ResultsCalc(Players!$E50,Players!$G50,Players!BH50,Players!BJ50)","v":" "},2,"-",1,{"$f":"ResultsCalc(Players!$E50,Players!$G50,Players!BL50,Players!BN50)","v":" "},2,"-",0,{"$f":"ResultsCalc(Players!$E50,Players!$G50,Players!BP50,Players!BR50)","v":" "},1,"-",2,{"$f":"ResultsCalc(Players!$E50,Players!$G50,Players!BT50,Players!BV50)","v":" "},1,"-",2,{"$f":"ResultsCalc(Players!$E50,Players!$G50,Players!BX50,Players!BZ50)","v":" "},1,"-",1,{"$f":"ResultsCalc(Players!$E50,Players!$G50,Players!CB50,Players!CD50)","v":" "},0,"-",2,{"$f":"ResultsCalc(Players!$E50,Players!$G50,Players!CF50,Players!CH50)","v":" "},2,"-",1,{"$f":"ResultsCalc(Players!$E50,Players!$G50,Players!CJ50,Players!CL50)","v":" "},3,"-",1,{"$f":"ResultsCalc(Players!$E50,Players!$G50,Players!CN50,Players!CP50)","v":" "},1,"-",0,{"$f":"ResultsCalc(Players!$E50,Players!$G50,Players!CR50,Players!CT50)","v":" "},2,"-",1,{"$f":"ResultsCalc(Players!$E50,Players!$G50,Players!CV50,Players!CX50)","v":" "},1,"-",0,{"$f":"ResultsCalc(Players!$E50,Players!$G50,Players!CZ50,Players!DB50)","v":" "},3,"-",2,{"$f":"ResultsCalc(Players!$E50,Players!$G50,Players!DD50,Players!DF50)","v":" "},1,"-",1,{"$f":"ResultsCalc(Players!$E50,Players!$G50,Players!DH50,Players!DJ50)","v":" "},2,"-",0,{"$f":"ResultsCalc(Players!$E50,Players!$G50,Players!DL50,Players!DN50)","v":" "},1,"-",2,{"$f":"ResultsCalc(Players!$E50,Players!$G50,Players!DP50,Players!DR50)","v":" "},2,"-",0,{"$f":"ResultsCalc(Players!$E50,Players!$G50,Players!DT50,Players!DV50)","v":" "},3,"-",1,{"$f":"ResultsCalc(Players!$E50,Players!$G50,Players!DX50,Players!DZ50)","v":" "},1,"-",2,{"$f":"ResultsCalc(Players!$E50,Players!$G50,Players!EB50,Players!ED50)","v":" "},1,"-",2,{"$f":"ResultsCalc(Players!$E50,Players!$G50,Players!EF50,Players!EH50)","v":" "},0,"-",1,{"$f":"ResultsCalc(Players!$E50,Players!$G50,Players!EJ50,Players!EL50)","v":" "},2,"-",1,{"$f":"ResultsCalc(Players!$E50,Players!$G50,Players!EN50,Players!EP50)","v":" "},2,"-",0,{"$f":"ResultsCalc(Players!$E50,Players!$G50,Players!ER50,Players!ET50)","v":" "},2,"-",1,{"$f":"ResultsCalc(Players!$E50,Players!$G50,Players!EV50,Players!EX50)","v":" "},2,"-",0,{"$f":"ResultsCalc(Players!$E50,Players!$G50,Players!EZ50,Players!FB50)","v":" "},2,"-",1,{"$f":"ResultsCalc(Players!$E50,Players!$G50,Players!FD50,Players!FF50)","v":" "},1,"-",1,{"$f":"ResultsCalc(Players!$E50,Players!$G50,Players!FH50,Players!FJ50)","v":" "},2,"-",0,{"$f":"ResultsCalc(Players!$E50,Players!$G50,Players!FL50,Players!FN50)","v":" "},1,"-",1,{"$f":"ResultsCalc(Players!$E50,Players!$G50,Players!FP50,Players!FR50)","v":" "},3,"-",1,{"$f":"ResultsCalc(Players!$E50,Players!$G50,Players!FT50,Players!FV50)","v":" "},1,"-",1,{"$f":"ResultsCalc(Players!$E50,Players!$G50,Players!FX50,Players!FZ50)","v":" "},3,"-",1,{"$f":"ResultsCalc(Players!$E50,Players!$G50,Players!GB50,Players!GD50)","v":" "},2,"-",0,{"$f":"ResultsCalc(Players!$E50,Players!$G50,Players!GF50,Players!GH50)","v":" "},2,"-",1,{"$f":"ResultsCalc(Players!$E50,Players!$G50,Players!GJ50,Players!GL50)","v":" "},0,"-",1,{"$f":"ResultsCalc(Players!$E50,Players!$G50,Players!GN50,Players!GP50)","v":" "},3,"-",1,{"$f":"ResultsCalc(Players!$E50,Players!$G50,Players!GR50,Players!GT50)","v":" "},2,"-",1,{"$f":"ResultsCalc(Players!$E50,Players!$G50,Players!GV50,Players!GX50)","v":" "},3,"-",0,{"$f":"ResultsCalc(Players!$E50,Players!$G50,Players!GZ50,Players!HB50)","v":" "},1,"-",1,{"$f":"ResultsCalc(Players!$E50,Players!$G50,Players!HD50,Players!HF50)","v":" "},0,"-",1,{"$f":"ResultsCalc(Players!$E50,Players!$G50,Players!HH50,Players!HJ50)","v":" "},1,"-",1,{"$f":"ResultsCalc(Players!$E50,Players!$G50,Players!HL50,Players!HN50)","v":" "},2,"-",1,{"$f":"ResultsCalc(Players!$E50,Players!$G50,Players!HP50,Players!HR50)","v":" "},2,"-",1,{"$f":"ResultsCalc(Players!$E50,Players!$G50,Players!HT50,Players!HV50)","v":" "},2,"-",1,{"$f":"ResultsCalc(Players!$E50,Players!$G50,Players!HX50,Players!HZ50)","v":" "},2,"-",0,{"$f":"ResultsCalc(Players!$E50,Players!$G50,Players!IB50,Players!ID50)","v":" "},1,"-",2,{"$f":"ResultsCalc(Players!$E50,Players!$G50,Players!IF50,Players!IH50)","v":" "},2,"-",1,{"$f":"ResultsCalc(Players!$E50,Players!$G50,Players!IJ50,Players!IL50)","v":" "},1,"-",1,{"$f":"ResultsCalc(Players!$E50,Players!$G50,Players!IN50,Players!IP50)","v":" "},0,"-",1,{"$f":"ResultsCalc(Players!$E50,Players!$G50,Players!IR50,Players!IT50)","v":" "},1,"-",0,{"$f":"ResultsCalc(Players!$E50,Players!$G50,Players!IV50,Players!IX50)","v":" "},1,"-",2,{"$f":"ResultsCalc(Players!$E50,Players!$G50,Players!IZ50,Players!JB50)","v":" "},1,"-",1,{"$f":"ResultsCalc(Players!$E50,Players!$G50,Players!JD50,Players!JF50)","v":" "},1,"-",2,{"$f":"ResultsCalc(Players!$E50,Players!$G50,Players!JH50,Players!JJ50)","v":" "},2,"-",1,{"$f":"ResultsCalc(Players!$E50,Players!$G50,Players!JL50,Players!JN50)","v":" "},2,"-",1,{"$f":"ResultsCalc(Players!$E50,Players!$G50,Players!JP50,Players!JR50)","v":" "},1,"-",1,{"$f":"ResultsCalc(Players!$E50,Players!$G50,Players!JT50,Players!JV50)","v":" "},2,"-",0,{"$f":"ResultsCalc(Players!$E50,Players!$G50,Players!JX50,Players!JZ50)","v":" "},2,"-",0,{"$f":"ResultsCalc(Players!$E50,Players!$G50,Players!KB50,Players!KD50)","v":" "},3,"-",1,{"$f":"ResultsCalc(Players!$E50,Players!$G50,Players!KF50,Players!KH50)","v":" "},1,"-",2,{"$f":"ResultsCalc(Players!$E50,Players!$G50,Players!KJ50,Players!KL50)","v":" "},2,"-",1,{"$f":"ResultsCalc(Players!$E50,Players!$G50,Players!KN50,Players!KP50)","v":" "},1,"-",0,{"$f":"ResultsCalc(Players!$E50,Players!$G50,Players!KR50,Players!KT50)","v":" "},3,"-",1,{"$f":"ResultsCalc(Players!$E50,Players!$G50,Players!KV50,Players!KX50)","v":" "},1,"-",0,{"$f":"ResultsCalc(Players!$E50,Players!$G50,Players!KZ50,Players!LB50)","v":" "},1,"-",1,{"$f":"ResultsCalc(Players!$E50,Players!$G50,Players!LD50,Players!LF50)","v":" "},0,"-",1,{"$f":"ResultsCalc(Players!$E50,Players!$G50,Players!LH50,Players!LJ50)","v":" "},2,"-",1,{"$f":"ResultsCalc(Players!$E50,Players!$G50,Players!LL50,Players!LN50)","v":" "},1,"-",0,{"$f":"ResultsCalc(Players!$E50,Players!$G50,Players!LP50,Players!LR50)","v":" "},2,"-",1,{"$f":"ResultsCalc(Players!$E50,Players!$G50,Players!LT50,Players!LV50)","v":" "},3,"-",1,{"$f":"ResultsCalc(Players!$E50,Players!$G50,Players!LX50,Players!LZ50)","v":" "},2,"-",2,{"$f":"ResultsCalc(Players!$E50,Players!$G50,Players!MB50,Players!MD50)","v":" "},1,"-",1,{"$f":"ResultsCalc(Players!$E50,Players!$G50,Players!MF50,Players!MH50)","v":" "},3,"-",1,{"$f":"ResultsCalc(Players!$E50,Players!$G50,Players!MJ50,Players!ML50)","v":" "},2,"-",0,{"$f":"ResultsCalc(Players!$E50,Players!$G50,Players!MN50,Players!MP50)","v":" "},2,"-",0,{"$f":"ResultsCalc(Players!$E50,Players!$G50,Players!MR50,Players!MT50)","v":" "},3,"-",1,{"$f":"ResultsCalc(Players!$E50,Players!$G50,Players!MV50,Players!MX50)","v":" "},1,"-",0,{"$f":"ResultsCalc(Players!$E50,Players!$G50,Players!MZ50,Players!NB50)","v":" "},2,"-",0,{"$f":"ResultsCalc(Players!$E50,Players!$G50,Players!ND50,Players!NF50)","v":" "},2,"-",0,{"$f":"ResultsCalc(Players!$E50,Players!$G50,Players!NH50,Players!NJ50)","v":" "},1,"-",0,{"$f":"ResultsCalc(Players!$E50,Players!$G50,Players!NL50,Players!NN50)","v":" "},3,"-",1,{"$f":"ResultsCalc(Players!$E50,Players!$G50,Players!NP50,Players!NR50)","v":" "},2,"-",0,{"$f":"ResultsCalc(Players!$E50,Players!$G50,Players!NT50,Players!NV50)","v":" "},2,"-",0,{"$f":"ResultsCalc(Players!$E50,Players!$G50,Players!NX50,Players!NZ50)","v":" "},1,"-",1,{"$f":"ResultsCalc(Players!$E50,Players!$G50,Players!OB50,Players!OD50)","v":" "},2,"-",0,{"$f":"ResultsCalc(Players!$E50,Players!$G50,Players!OF50,Players!OH50)","v":" "},2,"-",0,{"$f":"ResultsCalc(Players!$E50,Players!$G50,Players!OJ50,Players!OL50)","v":" "},1,"-",0,{"$f":"ResultsCalc(Players!$E50,Players!$G50,Players!ON50,Players!OP50)","v":" "},2,"-",0,{"$f":"ResultsCalc(Players!$E50,Players!$G50,Players!OR50,Players!OT50)","v":" "},4,"-",1,{"$f":"ResultsCalc(Players!$E50,Players!$G50,Players!OV50,Players!OX50)","v":" "},2,"-",1,{"$f":"ResultsCalc(Players!$E50,Players!$G50,Players!OZ50,Players!PB50)","v":" "},2,"-",1,{"$f":"ResultsCalc(Players!$E50,Players!$G50,Players!PD50,Players!PF50)","v":" "},1,"-",1,{"$f":"ResultsCalc(Players!$E50,Players!$G50,Players!PH50,Players!PJ50)","v":" "},2,"-",1,{"$f":"ResultsCalc(Players!$E50,Players!$G50,Players!PL50,Players!PN50)","v":" "},2,"-",1,{"$f":"ResultsCalc(Players!$E50,Players!$G50,Players!PP50,Players!PR50)","v":" "},2,"-",3,{"$f":"ResultsCalc(Players!$E50,Players!$G50,Players!PT50,Players!PV50)","v":" "},1,"-",1,{"$f":"ResultsCalc(Players!$E50,Players!$G50,Players!PX50,Players!PZ50)","v":" "},null,"-",null,{"$f":"ResultsCalc(Players!$E50,Players!$G50,Players!QB50,Players!QD50)","v":" "},1,"-",2,{"$f":"ResultsCalc(Players!$E50,Players!$G50,Players!QF50,Players!QH50)","v":" "},1,"-",1,{"$f":"ResultsCalc(Players!$E50,Players!$G50,Players!QJ50,Players!QL50)","v":" "},null,0,null,4,1]
["2021-07-03",4,"W8","W7",null,"-",null,1,"-",1,{"$f":"ResultsCalc(Players!$E51,Players!$G51,Players!H51,Players!J51)","v":" "},0,"-",2,{"$f":"ResultsCalc(Players!$E51,Players!$G51,Players!L51,Players!N51)","v":" "},1,"-",0,{"$f":"ResultsCalc(Players!$E51,Players!$G51,Players!P51,Players!R51)","v":" "},1,"-",3,{"$f":"ResultsCalc(Players!$E51,Players!$G51,Players!T51,Players!V51)","v":" "},1,"-",2,{"$f":"ResultsCalc(Players!$E51,Players!$G51,Players!X51,Players!Z51)","v":" "},0,"-",0,{"$f":"ResultsCalc(Players!$E51,Players!$G51,Players!AB51,Players!AD51)","v":" "},2,"-",1,{"$f":"ResultsCalc(Players!$E51,Players!$G51,Players!AF51,Players!AH51)","v":" "},1,"-",2,{"$f":"ResultsCalc(Players!$E51,Players!$G51,Players!AJ51,Players!AL51)","v":" "},1,"-",1,{"$f":"ResultsCalc(Players!$E51,Players!$G51,Players!AN51,Players!AP51)","v":" "},1,"-",1,{"$f":"ResultsCalc(Players!$E51,Players!$G51,Players!AR51,Players!AT51)","v":" "},1,"-",1,{"$f":"ResultsCalc(Players!$E51,Players!$G51,Players!AV51,Players!AX51)","v":" "},0,"-",1,{"$f":"ResultsCalc(Players!$E51,Players!$G51,Players!AZ51,Players!BB51)","v":" "},2,"-",1,{"$f":"ResultsCalc(Players!$E51,Players!$G51,Players!BD51,Players!BF51)","v":" "},1,"-",1,{"$f":"ResultsCalc(Players!$E51,Players!$G51,Players!BH51,Players!BJ51)","v":" "},1,"-",2,{"$f":"ResultsCalc(Players!$E51,Players!$G51,Players!BL51,Players!BN51)","v":" "},1,"-",2,{"$f":"ResultsCalc(Players!$E51,Players!$G51,Players!BP51,Players!BR51)","v":" "},2,"-",3,{"$f":"ResultsCalc(Players!$E51,Players!$G51,Players!BT51,Players!BV51)","v":" "},1,"-",3,{"$f":"ResultsCalc(Players!$E51,Players!$G51,Players!BX51,Players!BZ51)","v":" "},1,"-",2,{"$f":"ResultsCalc(Players!$E51,Players!$G51,Players!CB51,Players!CD51)","v":" "},2,"-",2,{"$f":"ResultsCalc(Players!$E51,Players!$G51,Players!CF51,Players!CH51)","v":" "},0,"-",2,{"$f":"ResultsCalc(Players!$E51,Players!$G51,Players!CJ51,Players!CL51)","v":" "},0,"-",2,{"$f":"ResultsCalc(Players!$E51,Players!$G51,Players!CN51,Players!CP51)","v":" "},0,"-",1,{"$f":"ResultsCalc(Players!$E51,Players!$G51,Players!CR51,Players!CT51)","v":" "},1,"-",2,{"$f":"ResultsCalc(Players!$E51,Players!$G51,Players!CV51,Players!CX51)","v":" "},2,"-",1,{"$f":"ResultsCalc(Players!$E51,Players!$G51,Players!CZ51,Players!DB51)","v":" "},2,"-",3,{"$f":"ResultsCalc(Players!$E51,Players!$G51,Players!DD51,Players!DF51)","v":" "},1,"-",1,{"$f":"ResultsCalc(Players!$E51,Players!$G51,Players!DH51,Players!DJ51)","v":" "},0,"-",2,{"$f":"ResultsCalc(Players!$E51,Players!$G51,Players!DL51,Players!DN51)","v":" "},0,"-",2,{"$f":"ResultsCalc(Players!$E51,Players!$G51,Players!DP51,Players!DR51)","v":" "},1,"-",2,{"$f":"ResultsCalc(Players!$E51,Players!$G51,Players!DT51,Players!DV51)","v":" "},3,"-",1,{"$f":"ResultsCalc(Players!$E51,Players!$G51,Players!DX51,Players!DZ51)","v":" "},0,"-",1,{"$f":"ResultsCalc(Players!$E51,Players!$G51,Players!EB51,Players!ED51)","v":" "},0,"-",1,{"$f":"ResultsCalc(Players!$E51,Players!$G51,Players!EF51,Players!EH51)","v":" "},0,"-",1,{"$f":"ResultsCalc(Players!$E51,Players!$G51,Players!EJ51,Players!EL51)","v":" "},2,"-",1,{"$f":"ResultsCalc(Players!$E51,Players!$G51,Players!EN51,Players!EP51)","v":" "},1,"-",3,{"$f":"ResultsCalc(Players!$E51,Players!$G51,Players!ER51,Players!ET51)","v":" "},0,"-",2,{"$f":"ResultsCalc(Players!$E51,Players!$G51,Players!EV51,Players!EX51)","v":" "},2,"-",2,{"$f":"ResultsCalc(Players!$E51,Players!$G51,Players!EZ51,Players!FB51)","v":" "},1,"-",2,{"$f":"ResultsCalc(Players!$E51,Players!$G51,Players!FD51,Players!FF51)","v":" "},1,"-",2,{"$f":"ResultsCalc(Players!$E51,Players!$G51,Players!FH51,Players!FJ51)","v":" "},0,"-",1,{"$f":"ResultsCalc(Players!$E51,Players!$G51,Players!FL51,Players!FN51)","v":" "},1,"-",1,{"$f":"ResultsCalc(Players!$E51,Players!$G51,Players!FP51,Players!FR51)","v":" "},1,"-",2,{"$f":"ResultsCalc(Players!$E51,Players!$G51,Players!FT51,Players!FV51)","v":" "},1,"-",1,{"$f":"ResultsCalc(Players!$E51,Players!$G51,Players!FX51,Players!FZ51)","v":" "},2,"-",1,{"$f":"ResultsCalc(Players!$E51,Players!$G51,Players!GB51,Players!GD51)","v":" "},0,"-",1,{"$f":"ResultsCalc(Players!$E51,Players!$G51,Players!GF51,Players!GH51)","v":" "},1,"-",2,{"$f":"ResultsCalc(Players!$E51,Players!$G51,Players!GJ51,Players!GL51)","v":" "},0,"-",1,{"$f":"ResultsCalc(Players!$E51,Players!$G51,Players!GN51,Players!GP51)","v":" "},0,"-",2,{"$f":"ResultsCalc(Players!$E51,Players!$G51,Players!GR51,Players!GT51)","v":" "},0,"-",2,{"$f":"ResultsCalc(Players!$E51,Players!$G51,Players!GV51,Players!GX51)","v":" "},0,"-",0,{"$f":"ResultsCalc(Players!$E51,Players!$G51,Players!GZ51,Players!HB51)","v":" "},2,"-",4,{"$f":"ResultsCalc(Players!$E51,Players!$G51,Players!HD51,Players!HF51)","v":" "},2,"-",3,{"$f":"ResultsCalc(Players!$E51,Players!$G51,Players!HH51,Players!HJ51)","v":" "},1,"-",1,{"$f":"ResultsCalc(Players!$E51,Players!$G51,Players!HL51,Players!HN51)","v":" "},1,"-",2,{"$f":"ResultsCalc(Players!$E51,Players!$G51,Players!HP51,Players!HR51)","v":" "},3,"-",2,{"$f":"ResultsCalc(Players!$E51,Players!$G51,Players!HT51,Players!HV51)","v":" "},1,"-",2,{"$f":"ResultsCalc(Players!$E51,Players!$G51,Players!HX51,Players!HZ51)","v":" "},0,"-",1,{"$f":"ResultsCalc(Players!$E51,Players!$G51,Players!IB51,Players!ID51)","v":" "},0,"-",1,{"$f":"ResultsCalc(Players!$E51,Players!$G51,Players!IF51,Players!IH51)","v":" "},0,"-",2,{"$f":"ResultsCalc(Players!$E51,Players!$G51,Players!IJ51,Players!IL51)","v":" "},1,"-",1,{"$f":"ResultsCalc(Players!$E51,Players!$G51,Players!IN51,Players!IP51)","v":" "},2,"-",1,{"$f":"ResultsCalc(Players!$E51,Players!$G51,Players!IR51,Players!IT51)","v":" "},1,"-",2,{"$f":"ResultsCalc(Players!$E51,Players!$G51,Players!IV51,Players!IX51)","v":" "},2,"-",3,{"$f":"ResultsCalc(Players!$E51,Players!$G51,Players!IZ51,Players!JB51)","v":" "},2,"-",1,{"$f":"ResultsCalc(Players!$E51,Players!$G51,Players!JD51,Players!JF51)","v":" "},2,"-",1,{"$f":"ResultsCalc(Players!$E51,Players!$G51,Players!JH51,Players!JJ51)","v":" "},1,"-",2,{"$f":"ResultsCalc(Players!$E51,Players!$G51,Players!JL51,Players!JN51)","v":" "},2,"-",3,{"$f":"ResultsCalc(Players!$E51,Players!$G51,Players!JP51,Players!JR51)","v":" "},1,"-",1,{"$f":"ResultsCalc(Players!$E51,Players!$G51,Players!JT51,Players!JV51)","v":" "},0,"-",2,{"$f":"ResultsCalc(Players!$E51,Players!$G51,Players!JX51,Players!JZ51)","v":" "},0,"-",2,{"$f":"ResultsCalc(Players!$E51,Players!$G51,Players!KB51,Players!KD51)","v":" "},2,"-",4,{"$f":"ResultsCalc(Players!$E51,Players!$G51,Players!KF51,Players!KH51)","v":" "},0,"-",2,{"$f":"ResultsCalc(Players!$E51,Players!$G51,Players!KJ51,Players!KL51)","v":" "},0,"-",2,{"$f":"ResultsCalc(Players!$E51,Players!$G51,Players!KN51,Players!KP51)","v":" "},0,"-",2,{"$f":"ResultsCalc(Players!$E51,Players!$G51,Players!KR51,Players!KT51)","v":" "},1,"-",3,{"$f":"ResultsCalc(Players!$E51,Players!$G51,Players!KV51,Players!KX51)","v":" "},1,"-",2,{"$f":"ResultsCalc(Players!$E51,Players!$G51,Players!KZ51,Players!LB51)","v":" "},1,"-",1,{"$f":"ResultsCalc(Players!$E51,Players!$G51,Players!LD51,Players!LF51)","v":" "},2,"-",3,{"$f":"ResultsCalc(Players!$E51,Players!$G51,Players!LH51,Players!LJ51)","v":" "},1,"-",2,{"$f":"ResultsCalc(Players!$E51,Players!$G51,Players!LL51,Players!LN51)","v":" "},2,"-",1,{"$f":"ResultsCalc(Players!$E51,Players!$G51,Players!LP51,Players!LR51)","v":" "},0,"-",2,{"$f":"ResultsCalc(Players!$E51,Players!$G51,Players!LT51,Players!LV51)","v":" "},1,"-",2,{"$f":"ResultsCalc(Players!$E51,Players!$G51,Players!LX51,Players!LZ51)","v":" "},0,"-",0,{"$f":"ResultsCalc(Players!$E51,Players!$G51,Players!MB51,Players!MD51)","v":" "},1,"-",1,{"$f":"ResultsCalc(Players!$E51,Players!$G51,Players!MF51,Players!MH51)","v":" "},1,"-",2,{"$f":"ResultsCalc(Players!$E51,Players!$G51,Players!MJ51,Players!ML51)","v":" "},2,"-",2,{"$f":"ResultsCalc(Players!$E51,Players!$G51,Players!MN51,Players!MP51)","v":" "},1,"-",2,{"$f":"ResultsCalc(Players!$E51,Players!$G51,Players!MR51,Players!MT51)","v":" "},0,"-",2,{"$f":"ResultsCalc(Players!$E51,Players!$G51,Players!MV51,Players!MX51)","v":" "},1,"-",2,{"$f":"ResultsCalc(Players!$E51,Players!$G51,Players!MZ51,Players!NB51)","v":" "},0,"-",2,{"$f":"ResultsCalc(Players!$E51,Players!$G51,Players!ND51,Players!NF51)","v":" "},1,"-",3,{"$f":"ResultsCalc(Players!$E51,Players!$G51,Players!NH51,Players!NJ51)","v":" "},1,"-",2,{"$f":"ResultsCalc(Players!$E51,Players!$G51,Players!NL51,Players!NN51)","v":" "},1,"-",2,{"$f":"ResultsCalc(Players!$E51,Players!$G51,Players!NP51,Players!NR51)","v":" "},3,"-",4,{"$f":"ResultsCalc(Players!$E51,Players!$G51,Players!NT51,Players!NV51)","v":" "},0,"-",1,{"$f":"ResultsCalc(Players!$E51,Players!$G51,Players!NX51,Players!NZ51)","v":" "},1,"-",2,{"$f":"ResultsCalc(Players!$E51,Players!$G51,Players!OB51,Players!OD51)","v":" "},0,"-",1,{"$f":"ResultsCalc(Players!$E51,Players!$G51,Players!OF51,Players!OH51)","v":" "},0,"-",2,{"$f":"ResultsCalc(Players!$E51,Players!$G51,Players!OJ51,Players!OL51)","v":" "},1,"-",2,{"$f":"ResultsCalc(Players!$E51,Players!$G51,Players!ON51,Players!OP51)","v":" "},1,"-",2,{"$f":"ResultsCalc(Players!$E51,Players!$G51,Players!OR51,Players!OT51)","v":" "},3,"-",5,{"$f":"ResultsCalc(Players!$E51,Players!$G51,Players!OV51,Players!OX51)","v":" "},3,"-",1,{"$f":"ResultsCalc(Players!$E51,Players!$G51,Players!OZ51,Players!PB51)","v":" "},0,"-",2,{"$f":"ResultsCalc(Players!$E51,Players!$G51,Players!PD51,Players!PF51)","v":" "},2,"-",1,{"$f":"ResultsCalc(Players!$E51,Players!$G51,Players!PH51,Players!PJ51)","v":" "},0,"-",5,{"$f":"ResultsCalc(Players!$E51,Players!$G51,Players!PL51,Players!PN51)","v":" "},3,"-",3,{"$f":"ResultsCalc(Players!$E51,Players!$G51,Players!PP51,Players!PR51)","v":" "},5,"-",2,{"$f":"ResultsCalc(Players!$E51,Players!$G51,Players!PT51,Players!PV51)","v":" "},1,"-",1,{"$f":"ResultsCalc(Players!$E51,Players!$G51,Players!PX51,Players!PZ51)","v":" "},null,"-",null,{"$f":"ResultsCalc(Players!$E51,Players!$G51,Players!QB51,Players!QD51)","v":" "},2,"-",3,{"$f":"ResultsCalc(Players!$E51,Players!$G51,Players!QF51,Players!QH51)","v":" "},1,"-",1,{"$f":"ResultsCalc(Players!$E51,Players!$G51,Players!QJ51,Players!QL51)","v":" "},null,0,null,5,3]
["2021-07-06",1,"W1","W2",null,"-",null,2,"-",1,{"$f":"ResultsCalc(Players!$E52,Players!$G52,Players!H52,Players!J52)","v":" "},1,"-",0,{"$f":"ResultsCalc(Players!$E52,Players!$G52,Players!L52,Players!N52)","v":" "},2,"-",0,{"$f":"ResultsCalc(Players!$E52,Players!$G52,Players!P52,Players!R52)","v":" "},2,"-",0,{"$f":"ResultsCalc(Players!$E52,Players!$G52,Players!T52,Players!V52)","v":" "},3,"-",2,{"$f":"ResultsCalc(Players!$E52,Players!$G52,Players!X52,Players!Z52)","v":" "},2,"-",1,{"$f":"ResultsCalc(Players!$E52,Players!$G52,Players!AB52,Players!AD52)","v":" "},1,"-",0,{"$f":"ResultsCalc(Players!$E52,Players!$G52,Players!AF52,Players!AH52)","v":" "},3,"-",2,{"$f":"ResultsCalc(Players!$E52,Players!$G52,Players!AJ52,Players!AL52)","v":" "},1,"-",1,{"$f":"ResultsCalc(Players!$E52,Players!$G52,Players!AN52,Players!AP52)","v":" "},1,"-",1,{"$f":"ResultsCalc(Players!$E52,Players!$G52,Players!AR52,Players!AT52)","v":" "},1,"-",1,{"$f":"ResultsCalc(Players!$E52,Players!$G52,Players!AV52,Players!AX52)","v":" "},1,"-",2,{"$f":"ResultsCalc(Players!$E52,Players!$G52,Players!AZ52,Players!BB52)","v":" "},1,"-",1,{"$f":"ResultsCalc(Players!$E52,Players!$G52,Players!BD52,Players!BF52)","v":" "},1,"-",1,{"$f":"ResultsCalc(Players!$E52,Players!$G52,Players!BH52,Players!BJ52)","v":" "},1,"-",2,{"$f":"ResultsCalc(Players!$E52,Players!$G52,Players!BL52,Players!BN52)","v":" "},3,"-",2,{"$f":"ResultsCalc(Players!$E52,Players!$G52,Players!BP52,Players!BR52)","v":" "},2,"-",1,{"$f":"ResultsCalc(Players!$E52,Players!$G52,Players!BT52,Players!BV52)","v":" "},2,"-",1,{"$f":"ResultsCalc(Players!$E52,Players!$G52,Players!BX52,Players!BZ52)","v":" "},1,"-",0,{"$f":"ResultsCalc(Players!$E52,Players!$G52,Players!CB52,Players!CD52)","v":" "},2,"-",0,{"$f":"ResultsCalc(Players!$E52,Players!$G52,Players!CF52,Players!CH52)","v":" "},1,"-",2,{"$f":"ResultsCalc(Players!$E52,Players!$G52,Players!CJ52,Players!CL52)","v":" "},0,"-",1,{"$f":"ResultsCalc(Players!$E52,Players!$G52,Players!CN52,Players!CP52)","v":" "},0,"-",1,{"$f":"ResultsCalc(Players!$E52,Players!$G52,Players!CR52,Players!CT52)","v":" "},1,"-",2,{"$f":"ResultsCalc(Players!$E52,Players!$G52,Players!CV52,Players!CX52)","v":" "},2,"-",1,{"$f":"ResultsCalc(Players!$E52,Players!$G52,Players!CZ52,Players!DB52)","v":" "},3,"-",2,{"$f":"ResultsCalc(Players!$E52,Players!$G52,Players!DD52,Players!DF52)","v":" "},1,"-",1,{"$f":"ResultsCalc(Players!$E52,Players!$G52,Players!DH52,Players!DJ52)","v":" "},3,"-",1,{"$f":"ResultsCalc(Players!$E52,Players!$G52,Players!DL52,Players!DN52)","v":" "},1,"-",2,{"$f":"ResultsCalc(Players!$E52,Players!$G52,Players!DP52,Players!DR52)","v":" "},3,"-",2,{"$f":"ResultsCalc(Players!$E52,Players!$G52,Players!DT52,Players!DV52)","v":" "},1,"-",2,{"$f":"ResultsCalc(Players!$E52,Players!$G52,Players!DX52,Players!DZ52)","v":" "},2,"-",1,{"$f":"ResultsCalc(Players!$E52,Players!$G52,Players!EB52,Players!ED52)","v":" "},1,"-",2,{"$f":"ResultsCalc(Players!$E52,Players!$G52,Players!EF52,Players!EH52)","v":" "},2,"-",1,{"$f":"ResultsCalc(Players!$E52,Players!$G52,Players!EJ52,Players!EL52)","v":" "},1,"-",2,{"$f":"ResultsCalc(Players!$E52,Players!$G52,Players!EN52,Players!EP52)","v":" "},2,"-",1,{"$f":"ResultsCalc(Players!$E52,Players!$G52,Players!ER52,Players!ET52)","v":" "},1,"-",0,{"$f":"ResultsCalc(Players!$E52,Players!$G52,Players!EV52,Players!EX52)","v":" "},2,"-",1,{"$f":"ResultsCalc(Players!$E52,Players!$G52,Players!EZ52,Players!FB52)","v":" "},0,"-",1,{"$f":"ResultsCalc(Players!$E52,Players!$G52,Players!FD52,Players!FF52)","v":" "},1,"-",1,{"$f":"ResultsCalc(Players!$E52,Players!$G52,Players!FH52,Players!FJ52)","v":" "},1,"-",2,{"$f":"ResultsCalc(Players!$E52,Players!$G52,Players!FL52,Players!FN52)","v":" "},1,"-",1,{"$f":"ResultsCalc(Players!$E52,Players!$G52,Players!FP52,Players!FR52)","v":" "},1,"-",1,{"$f":"ResultsCalc(Players!$E52,Players!$G52,Players!FT52,Players!FV52)","v":" "},1,"-",1,{"$f":"ResultsCalc(Players!$E52,Players!$G52,Players!FX52,Players!FZ52)","v":" "},2,"-",3,{"$f":"ResultsCalc(Players!$E52,Players!$G52,Players!GB52,Players!GD52)","v":" "},2,"-",2,{"$f":"ResultsCalc(Players!$E52,Players!$G52,Players!GF52,Players!GH52)","v":" "},1,"-",0,{"$f":"ResultsCalc(Players!$E52,Players!$G52,Players!GJ52,Players!GL52)","v":" "},2,"-",0,{"$f":"ResultsCalc(Players!$E52,Players!$G52,Players!GN52,Players!GP52)","v":" "},4,"-",2,{"$f":"ResultsCalc(Players!$E52,Players!$G52,Players!GR52,Players!GT52)","v":" "},3,"-",1,{"$f":"ResultsCalc(Players!$E52,Players!$G52,Players!GV52,Players!GX52)","v":" "},2,"-",1,{"$f":"ResultsCalc(Players!$E52,Players!$G52,Players!GZ52,Players!HB52)","v":" "},1,"-",2,{"$f":"ResultsCalc(Players!$E52,Players!$G52,Players!HD52,Players!HF52)","v":" "},3,"-",4,{"$f":"ResultsCalc(Players!$E52,Players!$G52,Players!HH52,Players!HJ52)","v":" "},1,"-",1,{"$f":"ResultsCalc(Players!$E52,Players!$G52,Players!HL52,Players!HN52)","v":" "},3,"-",2,{"$f":"ResultsCalc(Players!$E52,Players!$G52,Players!HP52,Players!HR52)","v":" "},2,"-",1,{"$f":"ResultsCalc(Players!$E52,Players!$G52,Players!HT52,Players!HV52)","v":" "},0,"-",2,{"$f":"ResultsCalc(Players!$E52,Players!$G52,Players!HX52,Players!HZ52)","v":" "},0,"-",2,{"$f":"ResultsCalc(Players!$E52,Players!$G52,Players!IB52,Players!ID52)","v":" "},2,"-",1,{"$f":"ResultsCalc(Players!$E52,Players!$G52,Players!IF52,Players!IH52)","v":" "},0,"-",2,{"$f":"ResultsCalc(Players!$E52,Players!$G52,Players!IJ52,Players!IL52)","v":" "},1,"-",1,{"$f":"ResultsCalc(Players!$E52,Players!$G52,Players!IN52,Players!IP52)","v":" "},4,"-",3,{"$f":"ResultsCalc(Players!$E52,Players!$G52,Players!IR52,Players!IT52)","v":" "},2,"-",1,{"$f":"ResultsCalc(Players!$E52,Players!$G52,Players!IV52,Players!IX52)","v":" "},2,"-",1,{"$f":"ResultsCalc(Players!$E52,Players!$G52,Players!IZ52,Players!JB52)","v":" "},2,"-",0,{"$f":"ResultsCalc(Players!$E52,Players!$G52,Players!JD52,Players!JF52)","v":" "},1,"-",2,{"$f":"ResultsCalc(Players!$E52,Players!$G52,Players!JH52,Players!JJ52)","v":" "},1,"-",0,{"$f":"ResultsCalc(Players!$E52,Players!$G52,Players!JL52,Players!JN52)","v":" "},2,"-",1,{"$f":"ResultsCalc(Players!$E52,Players!$G52,Players!JP52,Players!JR52)","v":" "},1,"-",1,{"$f":"ResultsCalc(Players!$E52,Players!$G52,Players!JT52,Players!JV52)","v":" "},1,"-",2,{"$f":"ResultsCalc(Players!$E52,Players!$G52,Players!JX52,Players!JZ52)","v":" "},3,"-",1,{"$f":"ResultsCalc(Players!$E52,Players!$G52,Players!KB52,Players!KD52)","v":" "},0,"-",1,{"$f":"ResultsCalc(Players!$E52,Players!$G52,Players!KF52,Players!KH52)","v":" "},1,"-",2,{"$f":"ResultsCalc(Players!$E52,Players!$G52,Players!KJ52,Players!KL52)","v":" "},1,"-",2,{"$f":"ResultsCalc(Players!$E52,Players!$G52,Players!KN52,Players!KP52)","v":" "},3,"-",1,{"$f":"ResultsCalc(Players!$E52,Players!$G52,Players!KR52,Players!KT52)","v":" "},3,"-",2,{"$f":"ResultsCalc(Players!$E52,Players!$G52,Players!KV52,Players!KX52)","v":" "},1,"-",2,{"$f":"ResultsCalc(Players!$E52,Players!$G52,Players!KZ52,Players!LB52)","v":" "},1,"-",1,{"$f":"ResultsCalc(Players!$E52,Players!$G52,Players!LD52,Players!LF52)","v":" "},2,"-",1,{"$f":"ResultsCalc(Players!$E52,Players!$G52,Players!LH52,Players!LJ52)","v":" "},1,"-",2,{"$f":"ResultsCalc(Players!$E52,Players!$G52,Players!LL52,Players!LN52)","v":" "},2,"-",1,{"$f":"ResultsCalc(Players!$E52,Players!$G52,Players!LP52,Players!LR52)","v":" "},0,"-",1,{"$f":"ResultsCalc(Players!$E52,Players!$G52,Players!LT52,Players!LV52)","v":" "},2,"-",1,{"$f":"ResultsCalc(Players!$E52,Players!$G52,Players!LX52,Players!LZ52)","v":" "},1,"-",1,{"$f":"ResultsCalc(Players!$E52,Players!$G52,Players!MB52,Players!MD52)","v":" "},1,"-",1,{"$f":"ResultsCalc(Players!$E52,Players!$G52,Players!MF52,Players!MH52)","v":" "},2,"-",1,{"$f":"ResultsCalc(Players!$E52,Players!$G52,Players!MJ52,Players!ML52)","v":" "},2,"-",1,{"$f":"ResultsCalc(Players!$E52,Players!$G52,Players!MN52,Players!MP52)","v":" "},3,"-",1,{"$f":"ResultsCalc(Players!$E52,Players!$G52,Players!MR52,Players!MT52)","v":" "},1,"-",2,{"$f":"ResultsCalc(Players!$E52,Players!$G52,Players!MV52,Players!MX52)","v":" "},4,"-",1,{"$f":"ResultsCalc(Players!$E52,Players!$G52,Players!MZ52,Players!NB52)","v":" "},3,"-",3,{"$f":"ResultsCalc(Players!$E52,Players!$G52,Players!ND52,Players!NF52)","v":" "},1,"-",2,{"$f":"ResultsCalc(Players!$E52,Players!$G52,Players!NH52,Players!NJ52)","v":" "},3,"-",2,{"$f":"ResultsCalc(Players!$E52,Players!$G52,Players!NL52,Players!NN52)","v":" "},3,"-",1,{"$f":"ResultsCalc(Players!$E52,Players!$G52,Players!NP52,Players!NR52)","v":" "},1,"-",2,{"$f":"ResultsCalc(Players!$E52,Players!$G52,Players!NT52,Players!NV52)","v":" "},0,"-",1,{"$f":"ResultsCalc(Players!$E52,Players!$G52,Players!NX52,Players!NZ52)","v":" "},2,"-",1,{"$f":"ResultsCalc(Players!$E52,Players!$G52,Players!OB52,Players!OD52)","v":" "},2,"-",1,{"$f":"ResultsCalc(Players!$E52,Players!$G52,Players!OF52,Players!OH52)","v":" "},2,"-",1,{"$f":"ResultsCalc(Players!$E52,Players!$G52,Players!OJ52,Players!OL52)","v":" "},0,"-",1,{"$f":"ResultsCalc(Players!$E52,Players!$G52,Players!ON52,Players!OP52)","v":" "},1,"-",0,{"$f":"ResultsCalc(Players!$E52,Players!$G52,Players!OR52,Players!OT52)","v":" "},2,"-",3,{"$f":"ResultsCalc(Players!$E52,Players!$G52,Players!OV52,Players!OX52)","v":" "},1,"-",2,{"$f":"ResultsCalc(Players!$E52,Players!$G52,Players!OZ52,Players!PB52)","v":" "},2,"-",1,{"$f":"ResultsCalc(Players!$E52,Players!$G52,Players!PD52,Players!PF52)","v":" "},2,"-",1,{"$f":"ResultsCalc(Players!$E52,Players!$G52,Players!PH52,Players!PJ52)","v":" "},2,"-",1,{"$f":"ResultsCalc(Players!$E52,Players!$G52,Players!PL52,Players!PN52)","v":" "},3,"-",2,{"$f":"ResultsCalc(Players!$E52,Players!$G52,Players!PP52,Players!PR52)","v":" "},2,"-",2,{"$f":"ResultsCalc(Players!$E52,Players!$G52,Players!PT52,Players!PV52)","v":" "},1,"-",1,{"$f":"ResultsCalc(Players!$E52,Players!$G52,Players!PX52,Players!PZ52)","v":" "},null,"-",null,{"$f":"ResultsCalc(Players!$E52,Players!$G52,Players!QB52,Players!QD52)","v":" "},3,"-",2,{"$f":"ResultsCalc(Players!$E52,Players!$G52,Players!QF52,Players!QH52)","v":" "},1,"-",1,{"$f":"ResultsCalc(Players!$E52,Players!$G52,Players!QJ52,Players!QL52)","v":" "},null,0,null,4,4]
["2021-07-07",2,"W3","W4",null,"-",null,2,"-",1,{"$f":"ResultsCalc(Players!$E53,Players!$G53,Players!H53,Players!J53)","v":" "},1,"-",3,{"$f":"ResultsCalc(Players!$E53,Players!$G53,Players!L53,Players!N53)","v":" "},1,"-",0,{"$f":"ResultsCalc(Players!$E53,Players!$G53,Players!P53,Players!R53)","v":" "},2,"-",2,{"$f":"ResultsCalc(Players!$E53,Players!$G53,Players!T53,Players!V53)","v":" "},1,"-",2,{"$f":"ResultsCalc(Players!$E53,Players!$G53,Players!X53,Players!Z53)","v":" "},1,"-",2,{"$f":"ResultsCalc(Players!$E53,Players!$G53,Players!AB53,Players!AD53)","v":" "},1,"-",2,{"$f":"ResultsCalc(Players!$E53,Players!$G53,Players!AF53,Players!AH53)","v":" "},1,"-",0,{"$f":"ResultsCalc(Players!$E53,Players!$G53,Players!AJ53,Players!AL53)","v":" "},1,"-",1,{"$f":"ResultsCalc(Players!$E53,Players!$G53,Players!AN53,Players!AP53)","v":" "},1,"-",1,{"$f":"ResultsCalc(Players!$E53,Players!$G53,Players!AR53,Players!AT53)","v":" "},1,"-",1,{"$f":"ResultsCalc(Players!$E53,Players!$G53,Players!AV53,Players!AX53)","v":" "},0,"-",1,{"$f":"ResultsCalc(Players!$E53,Players!$G53,Players!AZ53,Players!BB53)","v":" "},1,"-",2,{"$f":"ResultsCalc(Players!$E53,Players!$G53,Players!BD53,Players!BF53)","v":" "},1,"-",1,{"$f":"ResultsCalc(Players!$E53,Players!$G53,Players!BH53,Players!BJ53)","v":" "},1,"-",2,{"$f":"ResultsCalc(Players!$E53,Players!$G53,Players!BL53,Players!BN53)","v":" "},1,"-",1,{"$f":"ResultsCalc(Players!$E53,Players!$G53,Players!BP53,Players!BR53)","v":" "},3,"-",1,{"$f":"ResultsCalc(Players!$E53,Players!$G53,Players!BT53,Players!BV53)","v":" "},2,"-",2,{"$f":"ResultsCalc(Players!$E53,Players!$G53,Players!BX53,Players!BZ53)","v":" "},0,"-",2,{"$f":"ResultsCalc(Players!$E53,Players!$G53,Players!CB53,Players!CD53)","v":" "},2,"-",3,{"$f":"ResultsCalc(Players!$E53,Players!$G53,Players!CF53,Players!CH53)","v":" "},0,"-",2,{"$f":"ResultsCalc(Players!$E53,Players!$G53,Players!CJ53,Players!CL53)","v":" "},1,"-",1,{"$f":"ResultsCalc(Players!$E53,Players!$G53,Players!CN53,Players!CP53)","v":" "},0,"-",1,{"$f":"ResultsCalc(Players!$E53,Players!$G53,Players!CR53,Players!CT53)","v":" "},0,"-",2,{"$f":"ResultsCalc(Players!$E53,Players!$G53,Players!CV53,Players!CX53)","v":" "},0,"-",1,{"$f":"ResultsCalc(Players!$E53,Players!$G53,Players!CZ53,Players!DB53)","v":" "},2,"-",3,{"$f":"ResultsCalc(Players!$E53,Players!$G53,Players!DD53,Players!DF53)","v":" "},1,"-",1,{"$f":"ResultsCalc(Players!$E53,Players!$G53,Players!DH53,Players!DJ53)","v":" "},1,"-",3,{"$f":"ResultsCalc(Players!$E53,Players!$G53,Players!DL53,Players!DN53)","v":" "},1,"-",2,{"$f":"ResultsCalc(Players!$E53,Players!$G53,Players!DP53,Players!DR53)","v":" "},1,"-",2,{"$f":"ResultsCalc(Players!$E53,Players!$G53,Players!DT53,Players!DV53)","v":" "},2,"-",3,{"$f":"ResultsCalc(Players!$E53,Players!$G53,Players!DX53,Players!DZ53)","v":" "},1,"-",2,{"$f":"ResultsCalc(Players!$E53,Players!$G53,Players!EB53,Players!ED53)","v":" "},1,"-",2,{"$f":"ResultsCalc(Players!$E53,Players!$G53,Players!EF53,Players!EH53)","v":" "},0,"-",1,{"$f":"ResultsCalc(Players!$E53,Players!$G53,Players!EJ53,Players!EL53)","v":" "},2,"-",2,{"$f":"ResultsCalc(Players!$E53,Players!$G53,Players!EN53,Players!EP53)","v":" "},2,"-",3,{"$f":"ResultsCalc(Players!$E53,Players!$G53,Players!ER53,Players!ET53)","v":" "},1,"-",2,{"$f":"ResultsCalc(Players!$E53,Players!$G53,Players!EV53,Players!EX53)","v":" "},0,"-",1,{"$f":"ResultsCalc(Players!$E53,Players!$G53,Players!EZ53,Players!FB53)","v":" "},0,"-",2,{"$f":"ResultsCalc(Players!$E53,Players!$G53,Players!FD53,Players!FF53)","v":" "},2,"-",2,{"$f":"ResultsCalc(Players!$E53,Players!$G53,Players!FH53,Players!FJ53)","v":" "},1,"-",0,{"$f":"ResultsCalc(Players!$E53,Players!$G53,Players!FL53,Players!FN53)","v":" "},1,"-",1,{"$f":"ResultsCalc(Players!$E53,Players!$G53,Players!FP53,Players!FR53)","v":" "},2,"-",1,{"$f":"ResultsCalc(Players!$E53,Players!$G53,Players!FT53,Players!FV53)","v":" "},1,"-",1,{"$f":"ResultsCalc(Players!$E53,Players!$G53,Players!FX53,Players!FZ53)","v":" "},3,"-",1,{"$f":"ResultsCalc(Players!$E53,Players!$G53,Players!GB53,Players!GD53)","v":" "},1,"-",2,{"$f":"ResultsCalc(Players!$E53,Players!$G53,Players!GF53,Players!GH53)","v":" "},1,"-",2,{"$f":"ResultsCalc(Players!$E53,Players!$G53,Players!GJ53,Players!GL53)","v":" "},1,"-",2,{"$f":"ResultsCalc(Players!$E53,Players!$G53,Players!GN53,Players!GP53)","v":" "},1,"-",1,{"$f":"ResultsCalc(Players!$E53,Players!$G53,Players!GR53,Players!GT53)","v":" "},1,"-",1,{"$f":"ResultsCalc(Players!$E53,Players!$G53,Players!GV53,Players!GX53)","v":" "},3,"-",1,{"$f":"ResultsCalc(Players!$E53,Players!$G53,Players!GZ53,Players!HB53)","v":" "},0,"-",2,{"$f":"ResultsCalc(Players!$E53,Players!$G53,Players!HD53,Players!HF53)","v":" "},0,"-",1,{"$f":"ResultsCalc(Players!$E53,Players!$G53,Players!HH53,Players!HJ53)","v":" "},1,"-",1,{"$f":"ResultsCalc(Players!$E53,Players!$G53,Players!HL53,Players!HN53)","v":" "},2,"-",3,{"$f":"ResultsCalc(Players!$E53,Players!$G53,Players!HP53,Players!HR53)","v":" "},1,"-",2,{"$f":"ResultsCalc(Players!$E53,Players!$G53,Players!HT53,Players!HV53)","v":" "},1,"-",1,{"$f":"ResultsCalc(Players!$E53,Players!$G53,Players!HX53,Players!HZ53)","v":" "},1,"-",2,{"$f":"ResultsCalc(Players!$E53,Players!$G53,Players!IB53,Players!ID53)","v":" "},0,"-",2,{"$f":"ResultsCalc(Players!$E53,Players!$G53,Players!IF53,Players!IH53)","v":" "},2,"-",3,{"$f":"ResultsCalc(Players!$E53,Players!$G53,Players!IJ53,Players!IL53)","v":" "},1,"-",1,{"$f":"ResultsCalc(Players!$E53,Players!$G53,Players!IN53,Players!IP53)","v":" "},1,"-",2,{"$f":"ResultsCalc(Players!$E53,Players!$G53,Players!IR53,Players!IT53)","v":" "},0,"-",1,{"$f":"ResultsCalc(Players!$E53,Players!$G53,Players!IV53,Players!IX53)","v":" "},0,"-",2,{"$f":"ResultsCalc(Players!$E53,Players!$G53,Players!IZ53,Players!JB53)","v":" "},2,"-",0,{"$f":"ResultsCalc(Players!$E53,Players!$G53,Players!JD53,Players!JF53)","v":" "},2,"-",1,{"$f":"ResultsCalc(Players!$E53,Players!$G53,Players!JH53,Players!JJ53)","v":" "},0,"-",1,{"$f":"ResultsCalc(Players!$E53,Players!$G53,Players!JL53,Players!JN53)","v":" "},0,"-",2,{"$f":"ResultsCalc(Players!$E53,Players!$G53,Players!JP53,Players!JR53)","v":" "},1,"-",1,{"$f":"ResultsCalc(Players!$E53,Players!$G53,Players!JT53,Players!JV53)","v":" "},0,"-",3,{"$f":"ResultsCalc(Players!$E53,Players!$G53,Players!JX53,Players!JZ53)","v":" "},0,"-",1,{"$f":"ResultsCalc(Players!$E53,Players!$G53,Players!KB53,Players!KD53)","v":" "},1,"-",2,{"$f":"ResultsCalc(Players!$E53,Players!$G53,Players!KF53,Players!KH53)","v":" "},0,"-",1,{"$f":"ResultsCalc(Players!$E53,Players!$G53,Players!KJ53,Players!KL53)","v":" "},2,"-",1,{"$f":"ResultsCalc(Players!$E53,Players!$G53,Players!KN53,Players!KP53)","v":" "},1,"-",2,{"$f":"ResultsCalc(Players!$E53,Players!$G53,Players!KR53,Players!KT53)","v":" "},2,"-",3,{"$f":"ResultsCalc(Players!$E53,Players!$G53,Players!KV53,Players!KX53)","v":" "},1,"-",3,{"$f":"ResultsCalc(Players!$E53,Players!$G53,Players!KZ53,Players!LB53)","v":" "},1,"-",1,{"$f":"ResultsCalc(Players!$E53,Players!$G53,Players!LD53,Players!LF53)","v":" "},0,"-",2,{"$f":"ResultsCalc(Players!$E53,Players!$G53,Players!LH53,Players!LJ53)","v":" "},0,"-",1,{"$f":"ResultsCalc(Players!$E53,Players!$G53,Players!LL53,Players!LN53)","v":" "},1,"-",2,{"$f":"ResultsCalc(Players!$E53,Players!$G53,Players!LP53,Players!LR53)","v":" "},1,"-",1,{"$f":"ResultsCalc(Players!$E53,Players!$G53,Players!LT53,Players!LV53)","v":" "},1,"-",0,{"$f":"ResultsCalc(Players!$E53,Players!$G53,Players!LX53,Players!LZ53)","v":" "},5,"-",1,{"$f":"ResultsCalc(Players!$E53,Players!$G53,Players!MB53,Players!MD53)","v":" "},1,"-",1,{"$f":"ResultsCalc(Players!$E53,Players!$G53,Players!MF53,Players!MH53)","v":" "},3,"-",2,{"$f":"ResultsCalc(Players!$E53,Players!$G53,Players!MJ53,Players!ML53)","v":" "},1,"-",2,{"$f":"ResultsCalc(Players!$E53,Players!$G53,Players!MN53,Players!MP53)","v":" "},1,"-",3,{"$f":"ResultsCalc(Players!$E53,Players!$G53,Players!MR53,Players!MT53)","v":" "},1,"-",2,{"$f":"ResultsCalc(Players!$E53,Players!$G53,Players!MV53,Players!MX53)","v":" "},0,"-",2,{"$f":"ResultsCalc(Players!$E53,Players!$G53,Players!MZ53,Players!NB53)","v":" "},1,"-",3,{"$f":"ResultsCalc(Players!$E53,Players!$G53,Players!ND53,Players!NF53)","v":" "},1,"-",2,{"$f":"ResultsCalc(Players!$E53,Players!$G53,Players!NH53,Players!NJ53)","v":" "},0,"-",2,{"$f":"ResultsCalc(Players!$E53,Players!$G53,Players!NL53,Players!NN53)","v":" "},2,"-",3,{"$f":"ResultsCalc(Players!$E53,Players!$G53,Players!NP53,Players!NR53)","v":" "},0,"-",2,{"$f":"ResultsCalc(Players!$E53,Players!$G53,Players!NT53,Players!NV53)","v":" "},1,"-",2,{"$f":"ResultsCalc(Players!$E53,Players!$G53,Players!NX53,Players!NZ53)","v":" "},1,"-",3,{"$f":"ResultsCalc(Players!$E53,Players!$G53,Players!OB53,Players!OD53)","v":" "},1,"-",3,{"$f":"ResultsCalc(Players!$E53,Players!$G53,Players!OF53,Players!OH53)","v":" "},1,"-",1,{"$f":"ResultsCalc(Players!$E53,Players!$G53,Players!OJ53,Players!OL53)","v":" "},1,"-",2,{"$f":"ResultsCalc(Players!$E53,Players!$G53,Players!ON53,Players!OP53)","v":" "},0,"-",2,{"$f":"ResultsCalc(Players!$E53,Players!$G53,Players!OR53,Players!OT53)","v":" "},1,"-",5,{"$f":"ResultsCalc(Players!$E53,Players!$G53,Players!OV53,Players!OX53)","v":" "},0,"-",2,{"$f":"ResultsCalc(Players!$E53,Players!$G53,Players!OZ53,Players!PB53)","v":" "},1,"-",2,{"$f":"ResultsCalc(Players!$E53,Players!$G53,Players!PD53,Players!PF53)","v":" "},1,"-",3,{"$f":"ResultsCalc(Players!$E53,Players!$G53,Players!PH53,Players!PJ53)","v":" "},3,"-",4,{"$f":"ResultsCalc(Players!$E53,Players!$G53,Players!PL53,Players!PN53)","v":" "},2,"-",3,{"$f":"ResultsCalc(Players!$E53,Players!$G53,Players!PP53,Players!PR53)","v":" "},2,"-",5,{"$f":"ResultsCalc(Players!$E53,Players!$G53,Players!PT53,Players!PV53)","v":" "},1,"-",1,{"$f":"ResultsCalc(Players!$E53,Players!$G53,Players!PX53,Players!PZ53)","v":" "},null,"-",null,{"$f":"ResultsCalc(Players!$E53,Players!$G53,Players!QB53,Players!QD53)","v":" "},1,"-",3,{"$f":"ResultsCalc(Players!$E53,Players!$G53,Players!QF53,Players!QH53)","v":" "},1,"-",1,{"$f":"ResultsCalc(Players!$E53,Players!$G53,Players!QJ53,Players!QL53)","v":" "},null,0,null,5,3]
["2021-07-11",51,"W1","W2",null,"-",null,1,"-",3,{"$f":"ResultsCalc(Players!$E54,Players!$G54,Players!H54,Players!J54)","v":" "},1,"-",2,{"$f":"ResultsCalc(Players!$E54,Players!$G54,Players!L54,Players!N54)","v":" "},2,"-",1,{"$f":"ResultsCalc(Players!$E54,Players!$G54,Players!P54,Players!R54)","v":" "},2,"-",0,{"$f":"ResultsCalc(Players!$E54,Players!$G54,Players!T54,Players!V54)","v":" "},2,"-",4,{"$f":"ResultsCalc(Players!$E54,Players!$G54,Players!X54,Players!Z54)","v":" "},3,"-",1,{"$f":"ResultsCalc(Players!$E54,Players!$G54,Players!AB54,Players!AD54)","v":" "},1,"-",2,{"$f":"ResultsCalc(Players!$E54,Players!$G54,Players!AF54,Players!AH54)","v":" "},4,"-",1,{"$f":"ResultsCalc(Players!$E54,Players!$G54,Players!AJ54,Players!AL54)","v":" "},2,"-",1,{"$f":"ResultsCalc(Players!$E54,Players!$G54,Players!AN54,Players!AP54)","v":" "},1,"-",0,{"$f":"ResultsCalc(Players!$E54,Players!$G54,Players!AR54,Players!AT54)","v":" "},1,"-",1,{"$f":"ResultsCalc(Players!$E54,Players!$G54,Players!AV54,Players!AX54)","v":" "},1,"-",2,{"$f":"ResultsCalc(Players!$E54,Players!$G54,Players!AZ54,Players!BB54)","v":" "},2,"-",0,{"$f":"ResultsCalc(Players!$E54,Players!$G54,Players!BD54,Players!BF54)","v":" "},1,"-",1,{"$f":"ResultsCalc(Players!$E54,Players!$G54,Players!BH54,Players!BJ54)","v":" "},1,"-",3,{"$f":"ResultsCalc(Players!$E54,Players!$G54,Players!BL54,Players!BN54)","v":" "},2,"-",1,{"$f":"ResultsCalc(Players!$E54,Players!$G54,Players!BP54,Players!BR54)","v":" "},2,"-",1,{"$f":"ResultsCalc(Players!$E54,Players!$G54,Players!BT54,Players!BV54)","v":" "},0,"-",2,{"$f":"ResultsCalc(Players!$E54,Players!$G54,Players!BX54,Players!BZ54)","v":" "},1,"-",2,{"$f":"ResultsCalc(Players!$E54,Players!$G54,Players!CB54,Players!CD54)","v":" "},3,"-",2,{"$f":"ResultsCalc(Players!$E54,Players!$G54,Players!CF54,Players!CH54)","v":" "},3,"-",0,{"$f":"ResultsCalc(Players!$E54,Players!$G54,Players!CJ54,Players!CL54)","v":" "},2,"-",0,{"$f":"ResultsCalc(Players!$E54,Players!$G54,Players!CN54,Players!CP54)","v":" "},3,"-",0,{"$f":"ResultsCalc(Players!$E54,Players!$G54,Players!CR54,Players!CT54)","v":" "},1,"-",1,{"$f":"ResultsCalc(Players!$E54,Players!$G54,Players!CV54,Players!CX54)","v":" "},2,"-",1,{"$f":"ResultsCalc(Players!$E54,Players!$G54,Players!CZ54,Players!DB54)","v":" "},3,"-",1,{"$f":"ResultsCalc(Players!$E54,Players!$G54,Players!DD54,Players!DF54)","v":" "},1,"-",1,{"$f":"ResultsCalc(Players!$E54,Players!$G54,Players!DH54,Players!DJ54)","v":" "},2,"-",3,{"$f":"ResultsCalc(Players!$E54,Players!$G54,Players!DL54,Players!DN54)","v":" "},2,"-",1,{"$f":"ResultsCalc(Players!$E54,Players!$G54,Players!DP54,Players!DR54)","v":" "},2,"-",3,{"$f":"ResultsCalc(Players!$E54,Players!$G54,Players!DT54,Players!DV54)","v":" "},2,"-",3,{"$f":"ResultsCalc(Players!$E54,Players!$G54,Players!DX54,Players!DZ54)","v":" "},3,"-",2,{"$f":"ResultsCalc(Players!$E54,Players!$G54,Players!EB54,Players!ED54)","v":" "},3,"-",2,{"$f":"ResultsCalc(Players!$E54,Players!$G54,Players!EF54,Players!EH54)","v":" "},1,"-",2,{"$f":"ResultsCalc(Players!$E54,Players!$G54,Players!EJ54,Players!EL54)","v":" "},2,"-",1,{"$f":"ResultsCalc(Players!$E54,Players!$G54,Players!EN54,Players!EP54)","v":" "},1,"-",2,{"$f":"ResultsCalc(Players!$E54,Players!$G54,Players!ER54,Players!ET54)","v":" "},1,"-",2,{"$f":"ResultsCalc(Players!$E54,Players!$G54,Players!EV54,Players!EX54)","v":" "},2,"-",1,{"$f":"ResultsCalc(Players!$E54,Players!$G54,Players!EZ54,Players!FB54)","v":" "},1,"-",1,{"$f":"ResultsCalc(Players!$E54,Players!$G54,Players!FD54,Players!FF54)","v":" "},1,"-",3,{"$f":"ResultsCalc(Players!$E54,Players!$G54,Players!FH54,Players!FJ54)","v":" "},2,"-",1,{"$f":"ResultsCalc(Players!$E54,Players!$G54,Players!FL54,Players!FN54)","v":" "},1,"-",1,{"$f":"ResultsCalc(Players!$E54,Players!$G54,Players!FP54,Players!FR54)","v":" "},3,"-",0,{"$f":"ResultsCalc(Players!$E54,Players!$G54,Players!FT54,Players!FV54)","v":" "},1,"-",1,{"$f":"ResultsCalc(Players!$E54,Players!$G54,Players!FX54,Players!FZ54)","v":" "},1,"-",2,{"$f":"ResultsCalc(Players!$E54,Players!$G54,Players!GB54,Players!GD54)","v":" "},1,"-",1,{"$f":"ResultsCalc(Players!$E54,Players!$G54,Players!GF54,Players!GH54)","v":" "},0,"-",1,{"$f":"ResultsCalc(Players!$E54,Players!$G54,Players!GJ54,Players!GL54)","v":" "},1,"-",1,{"$f":"ResultsCalc(Players!$E54,Players!$G54,Players!GN54,Players!GP54)","v":" "},0,"-",2,{"$f":"ResultsCalc(Players!$E54,Players!$G54,Players!GR54,Players!GT54)","v":" "},0,"-",1,{"$f":"ResultsCalc(Players!$E54,Players!$G54,Players!GV54,Players!GX54)","v":" "},2,"-",0,{"$f":"ResultsCalc(Players!$E54,Players!$G54,Players!GZ54,Players!HB54)","v":" "},3,"-",1,{"$f":"ResultsCalc(Players!$E54,Players!$G54,Players!HD54,Players!HF54)","v":" "},1,"-",2,{"$f":"ResultsCalc(Players!$E54,Players!$G54,Players!HH54,Players!HJ54)","v":" "},1,"-",1,{"$f":"ResultsCalc(Players!$E54,Players!$G54,Players!HL54,Players!HN54)","v":" "},1,"-",2,{"$f":"ResultsCalc(Players!$E54,Players!$G54,Players!HP54,Players!HR54)","v":" "},2,"-",0,{"$f":"ResultsCalc(Players!$E54,Players!$G54,Players!HT54,Players!HV54)","v":" "},2,"-",0,{"$f":"ResultsCalc(Players!$E54,Players!$G54,Players!HX54,Players!HZ54)","v":" "},0,"-",1,{"$f":"ResultsCalc(Players!$E54,Players!$G54,Players!IB54,Players!ID54)","v":" "},1,"-",2,{"$f":"ResultsCalc(Players!$E54,Players!$G54,Players!IF54,Players!IH54)","v":" "},3,"-",3,{"$f":"ResultsCalc(Players!$E54,Players!$G54,Players!IJ54,Players!IL54)","v":" "},1,"-",1,{"$f":"ResultsCalc(Players!$E54,Players!$G54,Players!IN54,Players!IP54)","v":" "},1,"-",0,{"$f":"ResultsCalc(Players!$E54,Players!$G54,Players!IR54,Players!IT54)","v":" "},2,"-",1,{"$f":"ResultsCalc(Players!$E54,Players!$G54,Players!IV54,Players!IX54)","v":" "},0,"-",1,{"$f":"ResultsCalc(Players!$E54,Players!$G54,Players!IZ54,Players!JB54)","v":" "},1,"-",1,{"$f":"ResultsCalc(Players!$E54,Players!$G54,Players!JD54,Players!JF54)","v":" "},3,"-",1,{"$f":"ResultsCalc(Players!$E54,Players!$G54,Players!JH54,Players!JJ54)","v":" "},2,"-",1,{"$f":"ResultsCalc(Players!$E54,Players!$G54,Players!JL54,Players!JN54)","v":" "},2,"-",1,{"$f":"ResultsCalc(Players!$E54,Players!$G54,Players!JP54,Players!JR54)","v":" "},1,"-",1,{"$f":"ResultsCalc(Players!$E54,Players!$G54,Players!JT54,Players!JV54)","v":" "},1,"-",3,{"$f":"ResultsCalc(Players!$E54,Players!$G54,Players!JX54,Players!JZ54)","v":" "},2,"-",3,{"$f":"ResultsCalc(Players!$E54,Players!$G54,Players!KB54,Players!KD54)","v":" "},1,"-",3,{"$f":"ResultsCalc(Players!$E54,Players!$G54,Players!KF54,Players!KH54)","v":" "},0,"-",1,{"$f":"ResultsCalc(Players!$E54,Players!$G54,Players!KJ54,Players!KL54)","v":" "},2,"-",0,{"$f":"ResultsCalc(Players!$E54,Players!$G54,Players!KN54,Players!KP54)","v":" "},0,"-",1,{"$f":"ResultsCalc(Players!$E54,Players!$G54,Players!KR54,Players!KT54)","v":" "},2,"-",1,{"$f":"ResultsCalc(Players!$E54,Players!$G54,Players!KV54,Players!KX54)","v":" "},2,"-",0,{"$f":"ResultsCalc(Players!$E54,Players!$G54,Players!KZ54,Players!LB54)","v":" "},1,"-",1,{"$f":"ResultsCalc(Players!$E54,Players!$G54,Players!LD54,Players!LF54)","v":" "},3,"-",2,{"$f":"ResultsCalc(Players!$E54,Players!$G54,Players!LH54,Players!LJ54)","v":" "},2,"-",1,{"$f":"ResultsCalc(Players!$E54,Players!$G54,Players!LL54,Players!LN54)","v":" "},1,"-",2,{"$f":"ResultsCalc(Players!$E54,Players!$G54,Players!LP54,Players!LR54)","v":" "},2,"-",0,{"$f":"ResultsCalc(Players!$E54,Players!$G54,Players!LT54,Players!LV54)","v":" "},0,"-",0,{"$f":"ResultsCalc(Players!$E54,Players!$G54,Players!LX54,Players!LZ54)","v":" "},1,"-",0,{"$f":"ResultsCalc(Players!$E54,Players!$G54,Players!MB54,Players!MD54)","v":" "},1,"-",1,{"$f":"ResultsCalc(Players!$E54,Players!$G54,Players!MF54,Players!MH54)","v":" "},4,"-",2,{"$f":"ResultsCalc(Players!$E54,Players!$G54,Players!MJ54,Players!ML54)","v":" "},2,"-",1,{"$f":"ResultsCalc(Players!$E54,Players!$G54,Players!MN54,Players!MP54)","v":" "},3,"-",3,{"$f":"ResultsCalc(Players!$E54,Players!$G54,Players!MR54,Players!MT54)","v":" "},1,"-",2,{"$f":"ResultsCalc(Players!$E54,Players!$G54,Players!MV54,Players!MX54)","v":" "},1,"-",1,{"$f":"ResultsCalc(Players!$E54,Players!$G54,Players!MZ54,Players!NB54)","v":" "},3,"-",3,{"$f":"ResultsCalc(Players!$E54,Players!$G54,Players!ND54,Players!NF54)","v":" "},1,"-",2,{"$f":"ResultsCalc(Players!$E54,Players!$G54,Players!NH54,Players!NJ54)","v":" "},1,"-",2,{"$f":"ResultsCalc(Players!$E54,Players!$G54,Players!NL54,Players!NN54)","v":" "},1,"-",2,{"$f":"ResultsCalc(Players!$E54,Players!$G54,Players!NP54,Players!NR54)","v":" "},1,"-",2,{"$f":"ResultsCalc(Players!$E54,Players!$G54,Players!NT54,Players!NV54)","v":" "},0,"-",1,{"$f":"ResultsCalc(Players!$E54,Players!$G54,Players!NX54,Players!NZ54)","v":" "},0,"-",2,{"$f":"ResultsCalc(Players!$E54,Players!$G54,Players!OB54,Players!OD54)","v":" "},2,"-",0,{"$f":"ResultsCalc(Players!$E54,Players!$G54,Players!OF54,Players!OH54)","v":" "},2,"-",3,{"$f":"ResultsCalc(Players!$E54,Players!$G54,Players!OJ54,Players!OL54)","v":" "},0,"-",1,{"$f":"ResultsCalc(Players!$E54,Players!$G54,Players!ON54,Players!OP54)","v":" "},1,"-",0,{"$f":"ResultsCalc(Players!$E54,Players!$G54,Players!OR54,Players!OT54)","v":" "},3,"-",3,{"$f":"ResultsCalc(Players!$E54,Players!$G54,Players!OV54,Players!OX54)","v":" "},3,"-",1,{"$f":"ResultsCalc(Players!$E54,Players!$G54,Players!OZ54,Players!PB54)","v":" "},3,"-",1,{"$f":"ResultsCalc(Players!$E54,Players!$G54,Players!PD54,Players!PF54)","v":" "},1,"-",2,{"$f":"ResultsCalc(Players!$E54,Players!$G54,Players!PH54,Players!PJ54)","v":" "},5,"-",0,{"$f":"ResultsCalc(Players!$E54,Players!$G54,Players!PL54,Players!PN54)","v":" "},2,"-",3,{"$f":"ResultsCalc(Players!$E54,Players!$G54,Players!PP54,Players!PR54)","v":" "},1,"-",4,{"$f":"ResultsCalc(Players!$E54,Players!$G54,Players!PT54,Players!PV54)","v":" "},1,"-",1,{"$f":"ResultsCalc(Players!$E54,Players!$G54,Players!PX54,Players!PZ54)","v":" "},null,"-",null,{"$f":"ResultsCalc(Players!$E54,Players!$G54,Players!QB54,Players!QD54)","v":" "},3,"-",1,{"$f":"ResultsCalc(Players!$E54,Players!$G54,Players!QF54,Players!QH54)","v":" "},1,"-",1,{"$f":"ResultsCalc(Players!$E54,Players!$G54,Players!QJ54,Players!QL54)","v":" "},null,0,null,5,1]
["Total Points:",null,null,null,null,null,null,null,null,null,{"$f":"SUM(K39:K54)","v":158},null,null,null,{"$f":"SUM(O39:O54)","v":190},null,null,null,{"$f":"SUM(S39:S54)","v":137},null,null,null,{"$f":"SUM(W39:W54)","v":183},null,null,null,{"$f":"SUM(AA39:AA54)","v":160},null,null,null,{"$f":"SUM(AE39:AE54)","v":149},null,null,null,{"$f":"SUM(AI39:AI54)","v":158},null,null,null,{"$f":"SUM(AM39:AM54)","v":161},null,null,null,{"$f":"SUM(AQ39:AQ54)","v":139},null,null,null,{"$f":"SUM(AU39:AU54)","v":135},null,null,null,{"$f":"SUM(AY39:AY54)","v":132},null,null,null,{"$f":"SUM(BC39:BC54)","v":146},null,null,null,{"$f":"SUM(BG39:BG54)","v":154},null,null,null,{"$f":"SUM(BK39:BK54)","v":128},null,null,null,{"$f":"SUM(BO39:BO54)","v":137},null,null,null,{"$f":"SUM(BS39:BS54)","v":139},null,null,null,{"$f":"SUM(BW39:BW54)","v":145},null,null,null,{"$f":"SUM(CA39:CA54)","v":138},null,null,null,{"$f":"SUM(CE39:CE54)","v":129},null,null,null,{"$f":"SUM(CI39:CI54)","v":119},null,null,null,{"$f":"SUM(CM39:CM54)","v":155},null,null,null,{"$f":"SUM(CQ39:CQ54)","v":133},null,null,null,{"$f":"SUM(CU39:CU54)","v":142},null,null,null,{"$f":"SUM(CY39:CY54)","v":139},null,null,null,{"$f":"SUM(DC39:DC54)","v":174},null,null,null,{"$f":"SUM(DG39:DG54)","v":169},null,null,null,{"$f":"SUM(DK39:DK54)","v":150},null,null,null,{"$f":"SUM(DO39:DO54)","v":193},null,null,null,{"$f":"SUM(DS39:DS54)","v":136},null,null,null,{"$f":"SUM(DW39:DW54)","v":202},null,null,null,{"$f":"SUM(EA39:EA54)","v":159},null,null,null,{"$f":"SUM(EE39:EE54)","v":161},null,null,null,{"$f":"SUM(EI39:EI54)","v":124},null,null,null,{"$f":"SUM(EM39:EM54)","v":174},null,null,null,{"$f":"SUM(EQ39:EQ54)","v":130},null,null,null,{"$f":"SUM(EU39:EU54)","v":156},null,null,null,{"$f":"SUM(EY39:EY54)","v":147},null,null,null,{"$f":"SUM(FC39:FC54)","v":149},null,null,null,{"$f":"SUM(FG39:FG54)","v":137},null,null,null,{"$f":"SUM(FK39:FK54)","v":105},null,null,null,{"$f":"SUM(FO39:FO54)","v":169},null,null,null,{"$f":"SUM(FS39:FS54)","v":80},null,null,null,{"$f":"SUM(FW39:FW54)","v":137},null,null,null,{"$f":"SUM(GA39:GA54)","v":134},null,null,null,{"$f":"SUM(GE39:GE54)","v":157},null,null,null,{"$f":"SUM(GI39:GI54)","v":179},null,null,null,{"$f":"SUM(GM39:GM54)","v":150},null,null,null,{"$f":"SUM(GQ39:GQ54)","v":165},null,null,null,{"$f":"SUM(GU39:GU54)","v":153},null,null,null,{"$f":"SUM(GY39:GY54)","v":138},null,null,null,{"$f":"SUM(HC39:HC54)","v":142},null,null,null,{"$f":"SUM(HG39:HG54)","v":117},null,null,null,{"$f":"SUM(HK39:HK54)","v":135},null,null,null,{"$f":"SUM(HO39:HO54)","v":164},null,null,null,{"$f":"SUM(HS39:HS54)","v":127},null,null,null,{"$f":"SUM(HW39:HW54)","v":194},null,null,null,{"$f":"SUM(IA39:IA54)","v":173},null,null,null,{"$f":"SUM(IE39:IE54)","v":165},null,null,null,{"$f":"SUM(II39:II54)","v":160},null,null,null,{"$f":"SUM(IM39:IM54)","v":124},null,null,null,{"$f":"SUM(IQ39:IQ54)","v":148},null,null,null,{"$f":"SUM(IU39:IU54)","v":169},null,null,null,{"$f":"SUM(IY39:IY54)","v":170},null,null,null,{"$f":"SUM(JC39:JC54)","v":179},null,null,null,{"$f":"SUM(JG39:JG54)","v":167},null,null,null,{"$f":"SUM(JK39:JK54)","v":155},null,null,null,{"$f":"SUM(JO39:JO54)","v":191},null,null,null,{"$f":"SUM(JS39:JS54)","v":169},null,null,null,{"$f":"SUM(JW39:JW54)","v":149},null,null,null,{"$f":"SUM(KA39:KA54)","v":178},null,null,null,{"$f":"SUM(KE39:KE54)","v":157},null,null,null,{"$f":"SUM(KI39:KI54)","v":200},null,null,null,{"$f":"SUM(KM39:KM54)","v":160},null,null,null,{"$f":"SUM(KQ39:KQ54)","v":160},null,null,null,{"$f":"SUM(KU39:KU54)","v":158},null,null,null,{"$f":"SUM(KY39:KY54)","v":157},null,null,null,{"$f":"SUM(LC39:LC54)","v":177},null,null,null,{"$f":"SUM(LG39:LG54)","v":166},null,null,null,{"$f":"SUM(LK39:LK54)","v":159},null,null,null,{"$f":"SUM(LO39:LO54)","v":139},null,null,null,{"$f":"SUM(LS39:LS54)","v":184},null,null,null,{"$f":"SUM(LW39:LW54)","v":142},null,null,null,{"$f":"SUM(MA39:MA54)","v":139},null,null,null,{"$f":"SUM(ME39:ME54)","v":105},null,null,null,{"$f":"SUM(MI39:MI54)","v":170},null,null,null,{"$f":"SUM(MM39:MM54)","v":134},null,null,null,{"$f":"SUM(MQ39:MQ54)","v":172},null,null,null,{"$f":"SUM(MU39:MU54)","v":192},null,null,null,{"$f":"SUM(MY39:MY54)","v":164},null,null,null,{"$f":"SUM(NC39:NC54)","v":151},null,null,null,{"$f":"SUM(NG39:NG54)","v":169},null,null,null,{"$f":"SUM(NK39:NK54)","v":166},null,null,null,{"$f":"SUM(NO39:NO54)","v":125},null,null,null,{"$f":"SUM(NS39:NS54)","v":142},null,null,null,{"$f":"SUM(NW39:NW54)","v":169},null,null,null,{"$f":"SUM(OA39:OA54)","v":157},null,null,null,{"$f":"SUM(OE39:OE54)","v":155},null,null,null,{"$f":"SUM(OI39:OI54)","v":141},null,null,null,{"$f":"SUM(OM39:OM54)","v":191},null,null,null,{"$f":"SUM(OQ39:OQ54)","v":153},null,null,null,{"$f":"SUM(OU39:OU54)","v":166},null,null,null,{"$f":"SUM(OY39:OY54)","v":173},null,null,null,{"$f":"SUM(PC39:PC54)","v":108},null,null,null,{"$f":"SUM(PG39:PG54)","v":180},null,null,null,{"$f":"SUM(PK39:PK54)","v":146},null,null,null,{"$f":"SUM(PO39:PO54)","v":84},null,null,null,{"$f":"SUM(PS39:PS54)","v":142},null,null,null,{"$f":"SUM(PW39:PW54)","v":143},null,null,null,{"$f":"SUM(QA39:QA54)","v":75},null,null,null,{"$f":"SUM(QE39:QE54)","v":137},null,null,null,{"$f":"SUM(QI39:QI54)","v":160},null,null,null,{"$f":"SUM(QM39:QM54)","v":191},"Total Points =",null,{"$f":"SUM(H55:QI55)","v":16878}]
[null,"Yellow =","Score not clear (or not provided so allocated 1-1)",null,null,null,null,{"$f":"H1","v":"Martin Foster"},null,null,null,{"$f":"L1","v":"David Jackson"},null,null,null,{"$f":"P1","v":"Jens Dekeyser"},null,null,null,{"$f":"T1","v":"Louis Maylin"},null,null,null,{"$f":"X1","v":"Ian Maylin"},null,null,null,{"$f":"AB1","v":"Ian Woodland"},null,null,null,{"$f":"AF1","v":"Fran Carbone"},null,null,null,{"$f":"AJ1","v":"Jack Clayton"},null,null,null,{"$f":"AN1","v":"Karen Woodland"},null,null,null,{"$f":"AR1","v":"Andrew Woodland"},null,null,null,{"$f":"AV1","v":"Malcolm Clayton"},null,null,null,{"$f":"AZ1","v":"Liam Pattison"},null,null,null,{"$f":"BD1","v":"Chris Staples"},null,null,null,{"$f":"BH1","v":"Jenny Burgess"},null,null,null,{"$f":"BL1","v":"Andrew Burgess"},null,null,null,{"$f":"BP1","v":"Steve Bell"},null,null,null,{"$f":"BT1","v":"Judith Bell"},null,null,null,{"$f":"BX1","v":"Andy Maylin"},null,null,null,{"$f":"CB1","v":"Sue Overend"},null,null,null,{"$f":"CF1","v":"John Overend"},null,null,null,{"$f":"CJ1","v":"Loic Martens"},null,null,null,{"$f":"CN1","v":"Wesley Piters"},null,null,null,{"$f":"CR1","v":"Carl Van Geysel"},null,null,null,{"$f":"CV1","v":"Stijn Stengele"},null,null,null,{"$f":"CZ1","v":"Lee Henderson"},null,null,null,{"$f":"DD1","v":"Ray Charlton"},null,null,null,{"$f":"DH1","v":"Richard Scorer"},null,null,null,{"$f":"DL1","v":"Joe Glackin"},null,null,null,{"$f":"DP1","v":"Philip Hornby"},null,null,null,{"$f":"DT1","v":"Karen Connerney"},null,null,null,{"$f":"DX1","v":"Andrew Hammond"},null,null,null,{"$f":"EB1","v":"Barry Braine"},null,null,null,{"$f":"EF1","v":"Jack Braine"},null,null,null,{"$f":"EJ1","v":"Sophia Braine"},null,null,null,{"$f":"EN1","v":"Tony Cathrew"},null,null,null,{"$f":"ER1","v":"Glen Fulham"},null,null,null,{"$f":"EV1","v":"Hannah Braine"},null,null,null,{"$f":"EZ1","v":"Dave Herbert"},null,null,null,{"$f":"FD1","v":"Rhoda Miles"},null,null,null,{"$f":"FH1","v":"Kevin West"},null,null,null,{"$f":"FL1","v":"Terry Bennett"},null,null,null,{"$f":"FP1","v":"Fiona Bennett"},null,null,null,{"$f":"FT1","v":"Alfie Bennett"},null,null,null,{"$f":"FX1","v":"Helena Bennett"},null,null,null,{"$f":"GB1","v":"Wal West"},null,null,null,{"$f":"GF1","v":"Graham Clayton"},null,null,null,{"$f":"GJ1","v":"Tom Clayton"},null,null,null,{"$f":"GN1","v":"Joe Kendal"},null,null,null,{"$f":"GR1","v":"Matt Bowld"},null,null,null,{"$f":"GV1","v":"Dan Clarke"},null,null,null,{"$f":"GZ1","v":"Oscar Brown"},null,null,null,{"$f":"HD1","v":"Vid Brownlee"},null,null,null,{"$f":"HH1","v":"Diana Brownlee"},null,null,null,{"$f":"HL1","v":"Chris Maylin"},null,null,null,{"$f":"HP1","v":"Lindy Berry"},null,null,null,{"$f":"HT1","v":"Steve Berry"},null,null,null,{"$f":"HX1","v":"Andrew Foggo"},null,null,null,{"$f":"IB1","v":"John Irwin"},null,null,null,{"$f":"IF1","v":"Nigel Newman"},null,null,null,{"$f":"IJ1","v":"Andy Kay"},null,null,null,{"$f":"IN1","v":"John Walshe"},null,null,null,{"$f":"IR1","v":"Lawrence Barnard"},null,null,null,{"$f":"IV1","v":"Andy Mallett"},null,null,null,{"$f":"IZ1","v":"Andy Breen"},null,null,null,{"$f":"JD1","v":"Michael Frain"},null,null,null,{"$f":"JH1","v":"Adrian Jones"},null,null,null,{"$f":"JL1","v":"Steve James"},null,null,null,{"$f":"JP1","v":"Molly James"},null,null,null,{"$f":"JT1","v":"Claire Yates"},null,null,null,{"$f":"JX1","v":"Dan Newell"},null,null,null,{"$f":"KB1","v":"Jack Newell"},null,null,null,{"$f":"KF1","v":"Jonathan Harriss"},null,null,null,{"$f":"KJ1","v":"Neil Thompson"},null,null,null,{"$f":"KN1","v":"Rob Pitman"},null,null,null,{"$f":"KR1","v":"John Whittle"},null,null,null,{"$f":"KV1","v":"Farzad Mohebati"},null,null,null,{"$f":"KZ1","v":"Andy Turvil"},null,null,null,{"$f":"LD1","v":"Richard Cogan"},null,null,null,{"$f":"LH1","v":"Vitalii Caisin"},null,null,null,{"$f":"LL1","v":"Jack O'Toole"},null,null,null,{"$f":"LP1","v":"Jon Jackson"},null,null,null,{"$f":"LT1","v":"Gordon Geddes"},null,null,null,{"$f":"LX1","v":"Mark Akhurst"},null,null,null,{"$f":"MB1","v":"Jon Gregory"},null,null,null,{"$f":"MF1","v":"Chaz Brookes"},null,null,null,{"$f":"MJ1","v":"Stewie Burgess"},null,null,null,{"$f":"MN1","v":"Matt Burgess"},null,null,null,{"$f":"MR1","v":"Sam Thompson"},null,null,null,{"$f":"MV1","v":"Alex Berry"},null,null,null,{"$f":"MZ1","v":"Sam May"},null,null,null,{"$f":"ND1","v":"Scott McEvoy"},null,null,null,{"$f":"NH1","v":"Dick Falkner"},null,null,null,{"$f":"NL1","v":"Amy Bridge"},null,null,null,{"$f":"NP1","v":"Josh Lucas"},null,null,null,{"$f":"NT1","v":"Theo Smout"},null,null,null,{"$f":"NX1","v":"James Evans"},null,null,null,{"$f":"OB1","v":"Sam King"},null,null,null,{"$f":"OF1","v":"Sam Merrick"},null,null,null,{"$f":"OJ1","v":"Elliot Taylor"},null,null,null,{"$f":"ON1","v":"Connor Falkner"},null,null,null,{"$f":"OR1","v":"Rob Collins"},null,null,null,{"$f":"OV1","v":"Hamish Owen"},null,null,null,{"$f":"OZ1","v":"George Geaves"},null,null,null,{"$f":"PD1","v":"Jack Butler"},null,null,null,{"$f":"PH1","v":"Beth Hemming"},null,null,null,{"$f":"PL1","v":"Moeti Sparks"},null,null,null,{"$f":"PP1","v":"Tess Bannister"},null,null,null,{"$f":"PT1","v":"Cat Moreira"},null,null,null,{"$f":"PX1","v":"Jes Moon"},null,null,null,{"$f":"QB1","v":"Tony Martin"},null,null,null,{"$f":"QF1","v":"Dan Hughes"},null,null,null,{"$f":"QJ1","v":"Steve Melton"},null,null,null,"Total Red Tens =",{"$f":"SUM(QO3:QO54)","v":410},"= Total Red Tens"]
[null,"Cyan =","New score guess provided afresh after group stage"]
[]
[null,null,null,"Red Tens Round 1:",null,null,null,null,null,null,{"$f":"COUNTIF(K3:K38, \">9\")","v":6},null,null,null,{"$f":"COUNTIF(O3:O38, \">9\")","v":8},null,null,null,{"$f":"COUNTIF(S3:S38, \">9\")","v":2},null,null,null,{"$f":"COUNTIF(W3:W38, \">9\")","v":5},null,null,null,{"$f":"COUNTIF(AA3:AA38, \">9\")","v":4},null,null,null,{"$f":"COUNTIF(AE3:AE38, \">9\")","v":4},null,null,null,{"$f":"COUNTIF(AI3:AI38, \">9\")","v":3},null,null,null,{"$f":"COUNTIF(AM3:AM38, \">9\")","v":3},null,null,null,{"$f":"COUNTIF(AQ3:AQ38, \">9\")","v":3},null,null,null,{"$f":"COUNTIF(AU3:AU38, \">9\")","v":5},null,null,null,{"$f":"COUNTIF(AY3:AY38, \">9\")","v":4},null,null,null,{"$f":"COUNTIF(BC3:BC38, \">9\")","v":3},null,null,null,{"$f":"COUNTIF(BG3:BG38, \">9\")","v":4},null,null,null,{"$f":"COUNTIF(BK3:BK38, \">9\")","v":1},null,null,null,{"$f":"COUNTIF(BO3:BO38, \">9\")","v":4},null,null,null,{"$f":"COUNTIF(BS3:BS38, \">9\")","v":2},null,null,null,{"$f":"COUNTIF(BW3:BW38, \">9\")","v":3},null,null,null,{"$f":"COUNTIF(CA3:CA38, \">9\")","v":2},null,null,null,{"$f":"COUNTIF(CE3:CE38, \">9\")","v":4},null,null,null,{"$f":"COUNTIF(CI3:CI38, \">9\")","v":1},null,null,null,{"$f":"COUNTIF(CM3:CM38, \">9\")","v":2},null,null,null,{"$f":"COUNTIF(CQ3:CQ38, \">9\")","v":1},null,null,null,{"$f":"COUNTIF(CU3:CU38, \">9\")","v":4},null,null,null,{"$f":"COUNTIF(CY3:CY38, \">9\")","v":2},null,null,null,{"$f":"COUNTIF(DC3:DC38, \">9\")","v":6},null,null,null,{"$f":"COUNTIF(DG3:DG38, \">9\")","v":6},null,null,null,{"$f":"COUNTIF(DK3:DK38, \">9\")","v":4},null,null,null,{"$f":"COUNTIF(DO3:DO38, \">9\")","v":7},null,null,null,{"$f":"COUNTIF(DS3:DS38, \">9\")","v":0},null,null,null,{"$f":"COUNTIF(DW3:DW38, \">9\")","v":6},null,null,null,{"$f":"COUNTIF(EA3:EA38, \">9\")","v":2},null,null,null,{"$f":"COUNTIF(EE3:EE38, \">9\")","v":6},null,null,null,{"$f":"COUNTIF(EI3:EI38, \">9\")","v":2},null,null,null,{"$f":"COUNTIF(EM3:EM38, \">9\")","v":4},null,null,null,{"$f":"COUNTIF(EQ3:EQ38, \">9\")","v":3},null,null,null,{"$f":"COUNTIF(EU3:EU38, \">9\")","v":4},null,null,null,{"$f":"COUNTIF(EY3:EY38, \">9\")","v":2},null,null,null,{"$f":"COUNTIF(FC3:FC38, \">9\")","v":4},null,null,null,{"$f":"COUNTIF(FG3:FG38, \">9\")","v":3},null,null,null,{"$f":"COUNTIF(FK3:FK38, \">9\")","v":1},null,null,null,{"$f":"COUNTIF(FO3:FO38, \">9\")","v":3},null,null,null,{"$f":"COUNTIF(FS3:FS38, \">9\")","v":1},null,null,null,{"$f":"COUNTIF(FW3:FW38, \">9\")","v":4},null,null,null,{"$f":"COUNTIF(GA3:GA38, \">9\")","v":3},null,null,null,{"$f":"COUNTIF(GE3:GE38, \">9\")","v":0},null,null,null,{"$f":"COUNTIF(GI3:GI38, \">9\")","v":3},null,null,null,{"$f":"COUNTIF(GM3:GM38, \">9\")","v":2},null,null,null,{"$f":"COUNTIF(GQ3:GQ38, \">9\")","v":5},null,null,null,{"$f":"COUNTIF(GU3:GU38, \">9\")","v":5},null,null,null,{"$f":"COUNTIF(GY3:GY38, \">9\")","v":3},null,null,null,{"$f":"COUNTIF(HC3:HC38, \">9\")","v":3},null,null,null,{"$f":"COUNTIF(HG3:HG38, \">9\")","v":1},null,null,null,{"$f":"COUNTIF(HK3:HK38, \">9\")","v":2},null,null,null,{"$f":"COUNTIF(HO3:HO38, \">9\")","v":3},null,null,null,{"$f":"COUNTIF(HS3:HS38, \">9\")","v":2},null,null,null,{"$f":"COUNTIF(HW3:HW38, \">9\")","v":6},null,null,null,{"$f":"COUNTIF(IA3:IA38, \">9\")","v":6},null,null,null,{"$f":"COUNTIF(IE3:IE38, \">9\")","v":3},null,null,null,{"$f":"COUNTIF(II3:II38, \">9\")","v":5},null,null,null,{"$f":"COUNTIF(IM3:IM38, \">9\")","v":1},null,null,null,{"$f":"COUNTIF(IQ3:IQ38, \">9\")","v":6},null,null,null,{"$f":"COUNTIF(IU3:IU38, \">9\")","v":6},null,null,null,{"$f":"COUNTIF(IY3:IY38, \">9\")","v":3},null,null,null,{"$f":"COUNTIF(JC3:JC38, \">9\")","v":5},null,null,null,{"$f":"COUNTIF(JG3:JG38, \">9\")","v":2},null,null,null,{"$f":"COUNTIF(JK3:JK38, \">9\")","v":5},null,null,null,{"$f":"COUNTIF(JO3:JO38, \">9\")","v":5},null,null,null,{"$f":"COUNTIF(JS3:JS38, \">9\")","v":4},null,null,null,{"$f":"COUNTIF(JW3:JW38, \">9\")","v":4},null,null,null,{"$f":"COUNTIF(KA3:KA38, \">9\")","v":5},null,null,null,{"$f":"COUNTIF(KE3:KE38, \">9\")","v":4},null,null,null,{"$f":"COUNTIF(KI3:KI38, \">9\")","v":4},null,null,null,{"$f":"COUNTIF(KM3:KM38, \">9\")","v":4},null,null,null,{"$f":"COUNTIF(KQ3:KQ38, \">9\")","v":3},null,null,null,{"$f":"COUNTIF(KU3:KU38, \">9\")","v":4},null,null,null,{"$f":"COUNTIF(KY3:KY38, \">9\")","v":3},null,null,null,{"$f":"COUNTIF(LC3:LC38, \">9\")","v":6},null,null,null,{"$f":"COUNTIF(LG3:LG38, \">9\")","v":7},null,null,null,{"$f":"COUNTIF(LK3:LK38, \">9\")","v":4},null,null,null,{"$f":"COUNTIF(LO3:LO38, \">9\")","v":2},null,null,null,{"$f":"COUNTIF(LS3:LS38, \">9\")","v":5},null,null,null,{"$f":"COUNTIF(LW3:LW38, \">9\")","v":0},null,null,null,{"$f":"COUNTIF(MA3:MA38, \">9\")","v":1},null,null,null,{"$f":"COUNTIF(ME3:ME38, \">9\")","v":1},null,null,null,{"$f":"COUNTIF(MI3:MI38, \">9\")","v":5},null,null,null,{"$f":"COUNTIF(MM3:MM38, \">9\")","v":2},null,null,null,{"$f":"COUNTIF(MQ3:MQ38, \">9\")","v":6},null,null,null,{"$f":"COUNTIF(MU3:MU38, \">9\")","v":5},null,null,null,{"$f":"COUNTIF(MY3:MY38, \">9\")","v":2},null,null,null,{"$f":"COUNTIF(NC3:NC38, \">9\")","v":2},null,null,null,{"$f":"COUNTIF(NG3:NG38, \">9\")","v":5},null,null,null,{"$f":"COUNTIF(NK3:NK38, \">9\")","v":3},null,null,null,{"$f":"COUNTIF(NO3:NO38, \">9\")","v":1},null,null,null,{"$f":"COUNTIF(NS3:NS38, \">9\")","v":3},null,null,null,{"$f":"COUNTIF(NW3:NW38, \">9\")","v":4},null,null,null,{"$f":"COUNTIF(OA3:OA38, \">9\")","v":4},null,null,null,{"$f":"COUNTIF(OE3:OE38, \">9\")","v":5},null,null,null,{"$f":"COUNTIF(OI3:OI38, \">9\")","v":4},null,null,null,{"$f":"COUNTIF(OM3:OM38, \">9\")","v":8},null,null,null,{"$f":"COUNTIF(OQ3:OQ38, \">9\")","v":1},null,null,null,{"$f":"COUNTIF(OU3:OU38, \">9\")","v":5},null,null,null,{"$f":"COUNTIF(OY3:OY38, \">9\")","v":5},null,null,null,{"$f":"COUNTIF(PC3:PC38, \">9\")","v":1},null,null,null,{"$f":"COUNTIF(PG3:PG38, \">9\")","v":6},null,null,null,{"$f":"COUNTIF(PK3:PK38, \">9\")","v":4},null,null,null,{"$f":"COUNTIF(PO3:PO38, \">9\")","v":0},null,null,null,{"$f":"COUNTIF(PS3:PS38, \">9\")","v":2},null,null,null,{"$f":"COUNTIF(PW3:PW38, \">9\")","v":2},null,null,null,{"$f":"COUNTIF(QA3:QA38, \">9\")","v":3},null,null,null,{"$f":"COUNTIF(QE3:QE38, \">9\")","v":2},null,null,null,{"$f":"COUNTIF(QI3:QI38, \">9\")","v":3},null,null,null,{"$f":"COUNTIF(QM3:QM38, \">9\")","v":5}]
[null,null,null,"Red Tens Round 2:",null,null,null,null,null,null,{"$f":"COUNTIF(K40:K54, \">9\")","v":0},null,null,null,{"$f":"COUNTIF(O40:O54, \">9\")","v":0},null,null,null,{"$f":"COUNTIF(S40:S54, \">9\")","v":1},null,null,null,{"$f":"COUNTIF(W40:W54, \">9\")","v":0},null,null,null,{"$f":"COUNTIF(AA40:AA54, \">9\")","v":0},null,null,null,{"$f":"COUNTIF(AE40:AE54, \">9\")","v":0},null,null,null,{"$f":"COUNTIF(AI40:AI54, \">9\")","v":0},null,null,null,{"$f":"COUNTIF(AM40:AM54, \">9\")","v":1},null,null,null,{"$f":"COUNTIF(AQ40:AQ54, \">9\")","v":1},null,null,null,{"$f":"COUNTIF(AU40:AU54, \">9\")","v":0},null,null,null,{"$f":"COUNTIF(AY40:AY54, \">9\")","v":0},null,null,null,{"$f":"COUNTIF(BC40:BC54, \">9\")","v":0},null,null,null,{"$f":"COUNTIF(BG40:BG54, \">9\")","v":0},null,null,null,{"$f":"COUNTIF(BK40:BK54, \">9\")","v":0},null,null,null,{"$f":"COUNTIF(BO40:BO54, \">9\")","v":0},null,null,null,{"$f":"COUNTIF(BS40:BS54, \">9\")","v":0},null,null,null,{"$f":"COUNTIF(BW40:BW54, \">9\")","v":0},null,null,null,{"$f":"COUNTIF(CA40:CA54, \">9\")","v":0},null,null,null,{"$f":"COUNTIF(CE40:CE54, \">9\")","v":0},null,null,null,{"$f":"COUNTIF(CI40:CI54, \">9\")","v":0},null,null,null,{"$f":"COUNTIF(CM40:CM54, \">9\")","v":0},null,null,null,{"$f":"COUNTIF(CQ40:CQ54, \">9\")","v":0},null,null,null,{"$f":"COUNTIF(CU40:CU54, \">9\")","v":1},null,null,null,{"$f":"COUNTIF(CY40:CY54, \">9\")","v":0},null,null,null,{"$f":"COUNTIF(DC40:DC54, \">9\")","v":0},null,null,null,{"$f":"COUNTIF(DG40:DG54, \">9\")","v":0},null,null,null,{"$f":"COUNTIF(DK40:DK54, \">9\")","v":0},null,null,null,{"$f":"COUNTIF(DO40:DO54, \">9\")","v":1},null,null,null,{"$f":"COUNTIF(DS40:DS54, \">9\")","v":0},null,null,null,{"$f":"COUNTIF(DW40:DW54, \">9\")","v":1},null,null,null,{"$f":"COUNTIF(EA40:EA54, \">9\")","v":0},null,null,null,{"$f":"COUNTIF(EE40:EE54, \">9\")","v":0},null,null,null,{"$f":"COUNTIF(EI40:EI54, \">9\")","v":0},null,null,null,{"$f":"COUNTIF(EM40:EM54, \">9\")","v":0},null,null,null,{"$f":"COUNTIF(EQ40:EQ54, \">9\")","v":0},null,null,null,{"$f":"COUNTIF(EU40:EU54, \">9\")","v":0},null,null,null,{"$f":"COUNTIF(EY40:EY54, \">9\")","v":0},null,null,null,{"$f":"COUNTIF(FC40:FC54, \">9\")","v":0},null,null,null,{"$f":"COUNTIF(FG40:FG54, \">9\")","v":0},null,null,null,{"$f":"COUNTIF(FK40:FK54, \">9\")","v":0},null,null,null,{"$f":"COUNTIF(FO40:FO54, \">9\")","v":0},null,null,null,{"$f":"COUNTIF(FS40:FS54, \">9\")","v":0},null,null,null,{"$f":"COUNTIF(FW40:FW54, \">9\")","v":0},null,null,null,{"$f":"COUNTIF(GA40:GA54, \">9\")","v":0},null,null,null,{"$f":"COUNTIF(GE40:GE54, \">9\")","v":1},null,null,null,{"$f":"COUNTIF(GI40:GI54, \">9\")","v":0},null,null,null,{"$f":"COUNTIF(GM40:GM54, \">9\")","v":0},null,null,null,{"$f":"COUNTIF(GQ40:GQ54, \">9\")","v":0},null,null,null,{"$f":"COUNTIF(GU40:GU54, \">9\")","v":0},null,null,null,{"$f":"COUNTIF(GY40:GY54, \">9\")","v":0},null,null,null,{"$f":"COUNTIF(HC40:HC54, \">9\")","v":0},null,null,null,{"$f":"COUNTIF(HG40:HG54, \">9\")","v":0},null,null,null,{"$f":"COUNTIF(HK40:HK54, \">9\")","v":1},null,null,null,{"$f":"COUNTIF(HO40:HO54, \">9\")","v":0},null,null,null,{"$f":"COUNTIF(HS40:HS54, \">9\")","v":1},null,null,null,{"$f":"COUNTIF(HW40:HW54, \">9\")","v":0},null,null,null,{"$f":"COUNTIF(IA40:IA54, \">9\")","v":0},null,null,null,{"$f":"COUNTIF(IE40:IE54, \">9\")","v":0},null,null,null,{"$f":"COUNTIF(II40:II54, \">9\")","v":0},null,null,null,{"$f":"COUNTIF(IM40:IM54, \">9\")","v":0},null,null,null,{"$f":"COUNTIF(IQ40:IQ54, \">9\")","v":0},null,null,null,{"$f":"COUNTIF(IU40:IU54, \">9\")","v":0},null,null,null,{"$f":"COUNTIF(IY40:IY54, \">9\")","v":0},null,null,null,{"$f":"COUNTIF(JC40:JC54, \">9\")","v":0},null,null,null,{"$f":"COUNTIF(JG40:JG54, \">9\")","v":1},null,null,null,{"$f":"COUNTIF(JK40:JK54, \">9\")","v":0},null,null,null,{"$f":"COUNTIF(JO40:JO54, \">9\")","v":1},null,null,null,{"$f":"COUNTIF(JS40:JS54, \">9\")","v":1},null,null,null,{"$f":"COUNTIF(JW40:JW54, \">9\")","v":0},null,null,null,{"$f":"COUNTIF(KA40:KA54, \">9\")","v":0},null,null,null,{"$f":"COUNTIF(KE40:KE54, \">9\")","v":0},null,null,null,{"$f":"COUNTIF(KI40:KI54, \">9\")","v":1},null,null,null,{"$f":"COUNTIF(KM40:KM54, \">9\")","v":0},null,null,null,{"$f":"COUNTIF(KQ40:KQ54, \">9\")","v":0},null,null,null,{"$f":"COUNTIF(KU40:KU54, \">9\")","v":0},null,null,null,{"$f":"COUNTIF(KY40:KY54, \">9\")","v":0},null,null,null,{"$f":"COUNTIF(LC40:LC54, \">9\")","v":0},null,null,null,{"$f":"COUNTIF(LG40:LG54, \">9\")","v":0},null,null,null,{"$f":"COUNTIF(LK40:LK54, \">9\")","v":1},null,null,null,{"$f":"COUNTIF(LO40:LO54, \">9\")","v":0},null,null,null,{"$f":"COUNTIF(LS40:LS54, \">9\")","v":1},null,null,null,{"$f":"COUNTIF(LW40:LW54, \">9\")","v":0},null,null,null,{"$f":"COUNTIF(MA40:MA54, \">9\")","v":0},null,null,null,{"$f":"COUNTIF(ME40:ME54, \">9\")","v":0},null,null,null,{"$f":"COUNTIF(MI40:MI54, \">9\")","v":0},null,null,null,{"$f":"COUNTIF(MM40:MM54, \">9\")","v":0},null,null,null,{"$f":"COUNTIF(MQ40:MQ54, \">9\")","v":0},null,null,null,{"$f":"COUNTIF(MU40:MU54, \">9\")","v":0},null,null,null,{"$f":"COUNTIF(MY40:MY54, \">9\")","v":0},null,null,null,{"$f":"COUNTIF(NC40:NC54, \">9\")","v":0},null,null,null,{"$f":"COUNTIF(NG40:NG54, \">9\")","v":0},null,null,null,{"$f":"COUNTIF(NK40:NK54, \">9\")","v":0},null,null,null,{"$f":"COUNTIF(NO40:NO54, \">9\")","v":0},null,null,null,{"$f":"COUNTIF(NS40:NS54, \">9\")","v":0},null,null,null,{"$f":"COUNTIF(NW40:NW54, \">9\")","v":1},null,null,null,{"$f":"COUNTIF(OA40:OA54, \">9\")","v":0},null,null,null,{"$f":"COUNTIF(OE40:OE54, \">9\")","v":0},null,null,null,{"$f":"COUNTIF(OI40:OI54, \">9\")","v":0},null,null,null,{"$f":"COUNTIF(OM40:OM54, \">9\")","v":0},null,null,null,{"$f":"COUNTIF(OQ40:OQ54, \">9\")","v":1},null,null,null,{"$f":"COUNTIF(OU40:OU54, \">9\")","v":0},null,null,null,{"$f":"COUNTIF(OY40:OY54, \">9\")","v":0},null,null,null,{"$f":"COUNTIF(PC40:PC54, \">9\")","v":0},null,null,null,{"$f":"COUNTIF(PG40:PG54, \">9\")","v":0},null,null,null,{"$f":"COUNTIF(PK40:PK54, \">9\")","v":0},null,null,null,{"$f":"COUNTIF(PO40:PO54, \">9\")","v":0},null,null,null,{"$f":"COUNTIF(PS40:PS54, \">9\")","v":0},null,null,null,{"$f":"COUNTIF(PW40:PW54, \">9\")","v":1},null,null,null,{"$f":"COUNTIF(QA40:QA54, \">9\")","v":0},null,null,null,{"$f":"COUNTIF(QE40:QE54, \">9\")","v":0},null,null,null,{"$f":"COUNTIF(QI40:QI54, \">9\")","v":0},null,null,null,{"$f":"COUNTIF(QM40:QM54, \">9\")","v":0}]
[null,null,null,"Red Tens Total:",null,null,null,null,null,null,{"$f":"K59+K60","v":6},null,null,null,{"$f":"O59+O60","v":8},null,null,null,{"$f":"S59+S60","v":3},null,null,null,{"$f":"W59+W60","v":5},null,null,null,{"$f":"AA59+AA60","v":4},null,null,null,{"$f":"AE59+AE60","v":4},null,null,null,{"$f":"AI59+AI60","v":3},null,null,null,{"$f":"AM59+AM60","v":4},null,null,null,{"$f":"AQ59+AQ60","v":4},null,null,null,{"$f":"AU59+AU60","v":5},null,null,null,{"$f":"AY59+AY60","v":4},null,null,null,{"$f":"BC59+BC60","v":3},null,null,null,{"$f":"BG59+BG60","v":4},null,null,null,{"$f":"BK59+BK60","v":1},null,null,null,{"$f":"BO59+BO60","v":4},null,null,null,{"$f":"BS59+BS60","v":2},null,null,null,{"$f":"BW59+BW60","v":3},null,null,null,{"$f":"CA59+CA60","v":2},null,null,null,{"$f":"CE59+CE60","v":4},null,null,null,{"$f":"CI59+CI60","v":1},null,null,null,{"$f":"CM59+CM60","v":2},null,null,null,{"$f":"CQ59+CQ60","v":1},null,null,null,{"$f":"CU59+CU60","v":5},null,null,null,{"$f":"CY59+CY60","v":2},null,null,null,{"$f":"DC59+DC60","v":6},null,null,null,{"$f":"DG59+DG60","v":6},null,null,null,{"$f":"DK59+DK60","v":4},null,null,null,{"$f":"DO59+DO60","v":8},null,null,null,{"$f":"DS59+DS60","v":0},null,null,null,{"$f":"DW59+DW60","v":7},null,null,null,{"$f":"EA59+EA60","v":2},null,null,null,{"$f":"EE59+EE60","v":6},null,null,null,{"$f":"EI59+EI60","v":2},null,null,null,{"$f":"EM59+EM60","v":4},null,null,null,{"$f":"EQ59+EQ60","v":3},null,null,null,{"$f":"EU59+EU60","v":4},null,null,null,{"$f":"EY59+EY60","v":2},null,null,null,{"$f":"FC59+FC60","v":4},null,null,null,{"$f":"FG59+FG60","v":3},null,null,null,{"$f":"FK59+FK60","v":1},null,null,null,{"$f":"FO59+FO60","v":3},null,null,null,{"$f":"FS59+FS60","v":1},null,null,null,{"$f":"FW59+FW60","v":4},null,null,null,{"$f":"GA59+GA60","v":3},null,null,null,{"$f":"GE59+GE60","v":1},null,null,null,{"$f":"GI59+GI60","v":3},null,null,null,{"$f":"GM59+GM60","v":2},null,null,null,{"$f":"GQ59+GQ60","v":5},null,null,null,{"$f":"GU59+GU60","v":5},null,null,null,{"$f":"GY59+GY60","v":3},null,null,null,{"$f":"HC59+HC60","v":3},null,null,null,{"$f":"HG59+HG60","v":1},null,null,null,{"$f":"HK59+HK60","v":3},null,null,null,{"$f":"HO59+HO60","v":3},null,null,null,{"$f":"HS59+HS60","v":3},null,null,null,{"$f":"HW59+HW60","v":6},null,null,null,{"$f":"IA59+IA60","v":6},null,null,null,{"$f":"IE59+IE60","v":3},null,null,null,{"$f":"II59+II60","v":5},null,null,null,{"$f":"IM59+IM60","v":1},null,null,null,{"$f":"IQ59+IQ60","v":6},null,null,null,{"$f":"IU59+IU60","v":6},null,null,null,{"$f":"IY59+IY60","v":3},null,null,null,{"$f":"JC59+JC60","v":5},null,null,null,{"$f":"JG59+JG60","v":3},null,null,null,{"$f":"JK59+JK60","v":5},null,null,null,{"$f":"JO59+JO60","v":6},null,null,null,{"$f":"JS59+JS60","v":5},null,null,null,{"$f":"JW59+JW60","v":4},null,null,null,{"$f":"KA59+KA60","v":5},null,null,null,{"$f":"KE59+KE60","v":4},null,null,null,{"$f":"KI59+KI60","v":5},null,null,null,{"$f":"KM59+KM60","v":4},null,null,null,{"$f":"KQ59+KQ60","v":3},null,null,null,{"$f":"KU59+KU60","v":4},null,null,null,{"$f":"KY59+KY60","v":3},null,null,null,{"$f":"LC59+LC60","v":6},null,null,null,{"$f":"LG59+LG60","v":7},null,null,null,{"$f":"LK59+LK60","v":5},null,null,null,{"$f":"LO59+LO60","v":2},null,null,null,{"$f":"LS59+LS60","v":6},null,null,null,{"$f":"LW59+LW60","v":0},null,null,null,{"$f":"MA59+MA60","v":1},null,null,null,{"$f":"ME59+ME60","v":1},null,null,null,{"$f":"MI59+MI60","v":5},null,null,null,{"$f":"MM59+MM60","v":2},null,null,null,{"$f":"MQ59+MQ60","v":6},null,null,null,{"$f":"MU59+MU60","v":5},null,null,null,{"$f":"MY59+MY60","v":2},null,null,null,{"$f":"NC59+NC60","v":2},null,null,null,{"$f":"NG59+NG60","v":5},null,null,null,{"$f":"NK59+NK60","v":3},null,null,null,{"$f":"NO59+NO60","v":1},null,null,null,{"$f":"NS59+NS60","v":3},null,null,null,{"$f":"NW59+NW60","v":5},null,null,null,{"$f":"OA59+OA60","v":4},null,null,null,{"$f":"OE59+OE60","v":5},null,null,null,{"$f":"OI59+OI60","v":4},null,null,null,{"$f":"OM59+OM60","v":8},null,null,null,{"$f":"OQ59+OQ60","v":2},null,null,null,{"$f":"OU59+OU60","v":5},null,null,null,{"$f":"OY59+OY60","v":5},null,null,null,{"$f":"PC59+PC60","v":1},null,null,null,{"$f":"PG59+PG60","v":6},null,null,null,{"$f":"PK59+PK60","v":4},null,null,null,{"$f":"PO59+PO60","v":0},null,null,null,{"$f":"PS59+PS60","v":2},null,null,null,{"$f":"PW59+PW60","v":3},null,null,null,{"$f":"QA59+QA60","v":3},null,null,null,{"$f":"QE59+QE60","v":2},null,null,null,{"$f":"QI59+QI60","v":3},null,null,null,{"$f":"QM59+QM60","v":5}]
[]
[null,null,null,"Correct Results Round 1:",null,null,null,null,null,null,{"$f":"COUNTIF(K3:K38, \">=4\")","v":19},null,null,null,{"$f":"COUNTIF(O3:O38, \">=4\")","v":22},null,null,null,{"$f":"COUNTIF(S3:S38, \">=4\")","v":17},null,null,null,{"$f":"COUNTIF(W3:W38, \">=4\")","v":23},null,null,null,{"$f":"COUNTIF(AA3:AA38, \">=4\")","v":20},null,null,null,{"$f":"COUNTIF(AE3:AE38, \">=4\")","v":18},null,null,null,{"$f":"COUNTIF(AI3:AI38, \">=4\")","v":21},null,null,null,{"$f":"COUNTIF(AM3:AM38, \">=4\")","v":19},null,null,null,{"$f":"COUNTIF(AQ3:AQ38, \">=4\")","v":14},null,null,null,{"$f":"COUNTIF(AU3:AU38, \">=4\")","v":13},null,null,null,{"$f":"COUNTIF(AY3:AY38, \">=4\")","v":14},null,null,null,{"$f":"COUNTIF(BC3:BC38, \">=4\")","v":17},null,null,null,{"$f":"COUNTIF(BG3:BG38, \">=4\")","v":19},null,null,null,{"$f":"COUNTIF(BK3:BK38, \">=4\")","v":16},null,null,null,{"$f":"COUNTIF(BO3:BO38, \">=4\")","v":17},null,null,null,{"$f":"COUNTIF(BS3:BS38, \">=4\")","v":17},null,null,null,{"$f":"COUNTIF(BW3:BW38, \">=4\")","v":18},null,null,null,{"$f":"COUNTIF(CA3:CA38, \">=4\")","v":18},null,null,null,{"$f":"COUNTIF(CE3:CE38, \">=4\")","v":13},null,null,null,{"$f":"COUNTIF(CI3:CI38, \">=4\")","v":15},null,null,null,{"$f":"COUNTIF(CM3:CM38, \">=4\")","v":21},null,null,null,{"$f":"COUNTIF(CQ3:CQ38, \">=4\")","v":19},null,null,null,{"$f":"COUNTIF(CU3:CU38, \">=4\")","v":15},null,null,null,{"$f":"COUNTIF(CY3:CY38, \">=4\")","v":20},null,null,null,{"$f":"COUNTIF(DC3:DC38, \">=4\")","v":20},null,null,null,{"$f":"COUNTIF(DG3:DG38, \">=4\")","v":19},null,null,null,{"$f":"COUNTIF(DK3:DK38, \">=4\")","v":18},null,null,null,{"$f":"COUNTIF(DO3:DO38, \">=4\")","v":18},null,null,null,{"$f":"COUNTIF(DS3:DS38, \">=4\")","v":18},null,null,null,{"$f":"COUNTIF(DW3:DW38, \">=4\")","v":24},null,null,null,{"$f":"COUNTIF(EA3:EA38, \">=4\")","v":22},null,null,null,{"$f":"COUNTIF(EE3:EE38, \">=4\")","v":17},null,null,null,{"$f":"COUNTIF(EI3:EI38, \">=4\")","v":13},null,null,null,{"$f":"COUNTIF(EM3:EM38, \">=4\")","v":22},null,null,null,{"$f":"COUNTIF(EQ3:EQ38, \">=4\")","v":14},null,null,null,{"$f":"COUNTIF(EU3:EU38, \">=4\")","v":20},null,null,null,{"$f":"COUNTIF(EY3:EY38, \">=4\")","v":19},null,null,null,{"$f":"COUNTIF(FC3:FC38, \">=4\")","v":18},null,null,null,{"$f":"COUNTIF(FG3:FG38, \">=4\")","v":17},null,null,null,{"$f":"COUNTIF(FK3:FK38, \">=4\")","v":14},null,null,null,{"$f":"COUNTIF(FO3:FO38, \">=4\")","v":20},null,null,null,{"$f":"COUNTIF(FS3:FS38, \">=4\")","v":9},null,null,null,{"$f":"COUNTIF(FW3:FW38, \">=4\")","v":18},null,null,null,{"$f":"COUNTIF(GA3:GA38, \">=4\")","v":20},null,null,null,{"$f":"COUNTIF(GE3:GE38, \">=4\")","v":22},null,null,null,{"$f":"COUNTIF(GI3:GI38, \">=4\")","v":23},null,null,null,{"$f":"COUNTIF(GM3:GM38, \">=4\")","v":22},null,null,null,{"$f":"COUNTIF(GQ3:GQ38, \">=4\")","v":21},null,null,null,{"$f":"COUNTIF(GU3:GU38, \">=4\")","v":18},null,null,null,{"$f":"COUNTIF(GY3:GY38, \">=4\")","v":16},null,null,null,{"$f":"COUNTIF(HC3:HC38, \">=4\")","v":18},null,null,null,{"$f":"COUNTIF(HG3:HG38, \">=4\")","v":16},null,null,null,{"$f":"COUNTIF(HK3:HK38, \">=4\")","v":16},null,null,null,{"$f":"COUNTIF(HO3:HO38, \">=4\")","v":20},null,null,null,{"$f":"COUNTIF(HS3:HS38, \">=4\")","v":15},null,null,null,{"$f":"COUNTIF(HW3:HW38, \">=4\")","v":22},null,null,null,{"$f":"COUNTIF(IA3:IA38, \">=4\")","v":20},null,null,null,{"$f":"COUNTIF(IE3:IE38, \">=4\")","v":21},null,null,null,{"$f":"COUNTIF(II3:II38, \">=4\")","v":16},null,null,null,{"$f":"COUNTIF(IM3:IM38, \">=4\")","v":20},null,null,null,{"$f":"COUNTIF(IQ3:IQ38, \">=4\")","v":17},null,null,null,{"$f":"COUNTIF(IU3:IU38, \">=4\")","v":20},null,null,null,{"$f":"COUNTIF(IY3:IY38, \">=4\")","v":23},null,null,null,{"$f":"COUNTIF(JC3:JC38, \">=4\")","v":18},null,null,null,{"$f":"COUNTIF(JG3:JG38, \">=4\")","v":21},null,null,null,{"$f":"COUNTIF(JK3:JK38, \">=4\")","v":17},null,null,null,{"$f":"COUNTIF(JO3:JO38, \">=4\")","v":23},null,null,null,{"$f":"COUNTIF(JS3:JS38, \">=4\")","v":19},null,null,null,{"$f":"COUNTIF(JW3:JW38, \">=4\")","v":20},null,null,null,{"$f":"COUNTIF(KA3:KA38, \">=4\")","v":20},null,null,null,{"$f":"COUNTIF(KE3:KE38, \">=4\")","v":19},null,null,null,{"$f":"COUNTIF(KI3:KI38, \">=4\")","v":26},null,null,null,{"$f":"COUNTIF(KM3:KM38, \">=4\")","v":20},null,null,null,{"$f":"COUNTIF(KQ3:KQ38, \">=4\")","v":20},null,null,null,{"$f":"COUNTIF(KU3:KU38, \">=4\")","v":20},null,null,null,{"$f":"COUNTIF(KY3:KY38, \">=4\")","v":21},null,null,null,{"$f":"COUNTIF(LC3:LC38, \">=4\")","v":21},null,null,null,{"$f":"COUNTIF(LG3:LG38, \">=4\")","v":19},null,null,null,{"$f":"COUNTIF(LK3:LK38, \">=4\")","v":17},null,null,null,{"$f":"COUNTIF(LO3:LO38, \">=4\")","v":21},null,null,null,{"$f":"COUNTIF(LS3:LS38, \">=4\")","v":20},null,null,null,{"$f":"COUNTIF(LW3:LW38, \">=4\")","v":20},null,null,null,{"$f":"COUNTIF(MA3:MA38, \">=4\")","v":20},null,null,null,{"$f":"COUNTIF(ME3:ME38, \">=4\")","v":12},null,null,null,{"$f":"COUNTIF(MI3:MI38, \">=4\")","v":20},null,null,null,{"$f":"COUNTIF(MM3:MM38, \">=4\")","v":17},null,null,null,{"$f":"COUNTIF(MQ3:MQ38, \">=4\")","v":19},null,null,null,{"$f":"COUNTIF(MU3:MU38, \">=4\")","v":23},null,null,null,{"$f":"COUNTIF(MY3:MY38, \">=4\")","v":22},null,null,null,{"$f":"COUNTIF(NC3:NC38, \">=4\")","v":21},null,null,null,{"$f":"COUNTIF(NG3:NG38, \">=4\")","v":21},null,null,null,{"$f":"COUNTIF(NK3:NK38, \">=4\")","v":21},null,null,null,{"$f":"COUNTIF(NO3:NO38, \">=4\")","v":16},null,null,null,{"$f":"COUNTIF(NS3:NS38, \">=4\")","v":17},null,null,null,{"$f":"COUNTIF(NW3:NW38, \">=4\")","v":19},null,null,null,{"$f":"COUNTIF(OA3:OA38, \">=4\")","v":20},null,null,null,{"$f":"COUNTIF(OE3:OE38, \">=4\")","v":18},null,null,null,{"$f":"COUNTIF(OI3:OI38, \">=4\")","v":17},null,null,null,{"$f":"COUNTIF(OM3:OM38, \">=4\")","v":22},null,null,null,{"$f":"COUNTIF(OQ3:OQ38, \">=4\")","v":19},null,null,null,{"$f":"COUNTIF(OU3:OU38, \">=4\")","v":20},null,null,null,{"$f":"COUNTIF(OY3:OY38, \">=4\")","v":20},null,null,null,{"$f":"COUNTIF(PC3:PC38, \">=4\")","v":13},null,null,null,{"$f":"COUNTIF(PG3:PG38, \">=4\")","v":21},null,null,null,{"$f":"COUNTIF(PK3:PK38, \">=4\")","v":17},null,null,null,{"$f":"COUNTIF(PO3:PO38, \">=4\")","v":11},null,null,null,{"$f":"COUNTIF(PS3:PS38, \">=4\")","v":19},null,null,null,{"$f":"COUNTIF(PW3:PW38, \">=4\")","v":18},null,null,null,{"$f":"COUNTIF(QA3:QA38, \">=4\")","v":5},null,null,null,{"$f":"COUNTIF(QE3:QE38, \">=4\")","v":19},null,null,null,{"$f":"COUNTIF(QI3:QI38, \">=4\")","v":22},null,null,null,{"$f":"COUNTIF(QM3:QM38, \">=4\")","v":22}]
[null,null,null,"Correct Results Round 2:",null,null,null,null,null,null,{"$f":"COUNTIF(K40:K54, \">=4\")","v":2},null,null,null,{"$f":"COUNTIF(O40:O54, \">=4\")","v":2},null,null,null,{"$f":"COUNTIF(S40:S54, \">=4\")","v":1},null,null,null,{"$f":"COUNTIF(W40:W54, \">=4\")","v":1},null,null,null,{"$f":"COUNTIF(AA40:AA54, \">=4\")","v":1},null,null,null,{"$f":"COUNTIF(AE40:AE54, \">=4\")","v":2},null,null,null,{"$f":"COUNTIF(AI40:AI54, \">=4\")","v":2},null,null,null,{"$f":"COUNTIF(AM40:AM54, \">=4\")","v":1},null,null,null,{"$f":"COUNTIF(AQ40:AQ54, \">=4\")","v":2},null,null,null,{"$f":"COUNTIF(AU40:AU54, \">=4\")","v":1},null,null,null,{"$f":"COUNTIF(AY40:AY54, \">=4\")","v":2},null,null,null,{"$f":"COUNTIF(BC40:BC54, \">=4\")","v":2},null,null,null,{"$f":"COUNTIF(BG40:BG54, \">=4\")","v":2},null,null,null,{"$f":"COUNTIF(BK40:BK54, \">=4\")","v":0},null,null,null,{"$f":"COUNTIF(BO40:BO54, \">=4\")","v":2},null,null,null,{"$f":"COUNTIF(BS40:BS54, \">=4\")","v":2},null,null,null,{"$f":"COUNTIF(BW40:BW54, \">=4\")","v":2},null,null,null,{"$f":"COUNTIF(CA40:CA54, \">=4\")","v":1},null,null,null,{"$f":"COUNTIF(CE40:CE54, \">=4\")","v":2},null,null,null,{"$f":"COUNTIF(CI40:CI54, \">=4\")","v":1},null,null,null,{"$f":"COUNTIF(CM40:CM54, \">=4\")","v":1},null,null,null,{"$f":"COUNTIF(CQ40:CQ54, \">=4\")","v":2},null,null,null,{"$f":"COUNTIF(CU40:CU54, \">=4\")","v":1},null,null,null,{"$f":"COUNTIF(CY40:CY54, \">=4\")","v":1},null,null,null,{"$f":"COUNTIF(DC40:DC54, \">=4\")","v":2},null,null,null,{"$f":"COUNTIF(DG40:DG54, \">=4\")","v":1},null,null,null,{"$f":"COUNTIF(DK40:DK54, \">=4\")","v":0},null,null,null,{"$f":"COUNTIF(DO40:DO54, \">=4\")","v":2},null,null,null,{"$f":"COUNTIF(DS40:DS54, \">=4\")","v":2},null,null,null,{"$f":"COUNTIF(DW40:DW54, \">=4\")","v":2},null,null,null,{"$f":"COUNTIF(EA40:EA54, \">=4\")","v":2},null,null,null,{"$f":"COUNTIF(EE40:EE54, \">=4\")","v":2},null,null,null,{"$f":"COUNTIF(EI40:EI54, \">=4\")","v":1},null,null,null,{"$f":"COUNTIF(EM40:EM54, \">=4\")","v":2},null,null,null,{"$f":"COUNTIF(EQ40:EQ54, \">=4\")","v":2},null,null,null,{"$f":"COUNTIF(EU40:EU54, \">=4\")","v":2},null,null,null,{"$f":"COUNTIF(EY40:EY54, \">=4\")","v":1},null,null,null,{"$f":"COUNTIF(FC40:FC54, \">=4\")","v":1},null,null,null,{"$f":"COUNTIF(FG40:FG54, \">=4\")","v":0},null,null,null,{"$f":"COUNTIF(FK40:FK54, \">=4\")","v":1},null,null,null,{"$f":"COUNTIF(FO40:FO54, \">=4\")","v":2},null,null,null,{"$f":"COUNTIF(FS40:FS54, \">=4\")","v":0},null,null,null,{"$f":"COUNTIF(FW40:FW54, \">=4\")","v":0},null,null,null,{"$f":"COUNTIF(GA40:GA54, \">=4\")","v":0},null,null,null,{"$f":"COUNTIF(GE40:GE54, \">=4\")","v":2},null,null,null,{"$f":"COUNTIF(GI40:GI54, \">=4\")","v":1},null,null,null,{"$f":"COUNTIF(GM40:GM54, \">=4\")","v":2},null,null,null,{"$f":"COUNTIF(GQ40:GQ54, \">=4\")","v":1},null,null,null,{"$f":"COUNTIF(GU40:GU54, \">=4\")","v":1},null,null,null,{"$f":"COUNTIF(GY40:GY54, \">=4\")","v":0},null,null,null,{"$f":"COUNTIF(HC40:HC54, \">=4\")","v":1},null,null,null,{"$f":"COUNTIF(HG40:HG54, \">=4\")","v":0},null,null,null,{"$f":"COUNTIF(HK40:HK54, \">=4\")","v":2},null,null,null,{"$f":"COUNTIF(HO40:HO54, \">=4\")","v":2},null,null,null,{"$f":"COUNTIF(HS40:HS54, \">=4\")","v":1},null,null,null,{"$f":"COUNTIF(HW40:HW54, \">=4\")","v":2},null,null,null,{"$f":"COUNTIF(IA40:IA54, \">=4\")","v":1},null,null,null,{"$f":"COUNTIF(IE40:IE54, \">=4\")","v":2},null,null,null,{"$f":"COUNTIF(II40:II54, \">=4\")","v":2},null,null,null,{"$f":"COUNTIF(IM40:IM54, \">=4\")","v":0},null,null,null,{"$f":"COUNTIF(IQ40:IQ54, \">=4\")","v":0},null,null,null,{"$f":"COUNTIF(IU40:IU54, \">=4\")","v":0},null,null,null,{"$f":"COUNTIF(IY40:IY54, \">=4\")","v":2},null,null,null,{"$f":"COUNTIF(JC40:JC54, \">=4\")","v":2},null,null,null,{"$f":"COUNTIF(JG40:JG54, \">=4\")","v":2},null,null,null,{"$f":"COUNTIF(JK40:JK54, \">=4\")","v":1},null,null,null,{"$f":"COUNTIF(JO40:JO54, \">=4\")","v":2},null,null,null,{"$f":"COUNTIF(JS40:JS54, \">=4\")","v":2},null,null,null,{"$f":"COUNTIF(JW40:JW54, \">=4\")","v":0},null,null,null,{"$f":"COUNTIF(KA40:KA54, \">=4\")","v":2},null,null,null,{"$f":"COUNTIF(KE40:KE54, \">=4\")","v":1},null,null,null,{"$f":"COUNTIF(KI40:KI54, \">=4\")","v":2},null,null,null,{"$f":"COUNTIF(KM40:KM54, \">=4\")","v":1},null,null,null,{"$f":"COUNTIF(KQ40:KQ54, \">=4\")","v":1},null,null,null,{"$f":"COUNTIF(KU40:KU54, \">=4\")","v":2},null,null,null,{"$f":"COUNTIF(KY40:KY54, \">=4\")","v":2},null,null,null,{"$f":"COUNTIF(LC40:LC54, \">=4\")","v":2},null,null,null,{"$f":"COUNTIF(LG40:LG54, \">=4\")","v":0},null,null,null,{"$f":"COUNTIF(LK40:LK54, \">=4\")","v":1},null,null,null,{"$f":"COUNTIF(LO40:LO54, \">=4\")","v":1},null,null,null,{"$f":"COUNTIF(LS40:LS54, \">=4\")","v":2},null,null,null,{"$f":"COUNTIF(LW40:LW54, \">=4\")","v":1},null,null,null,{"$f":"COUNTIF(MA40:MA54, \">=4\")","v":2},null,null,null,{"$f":"COUNTIF(ME40:ME54, \">=4\")","v":1},null,null,null,{"$f":"COUNTIF(MI40:MI54, \">=4\")","v":1},null,null,null,{"$f":"COUNTIF(MM40:MM54, \">=4\")","v":1},null,null,null,{"$f":"COUNTIF(MQ40:MQ54, \">=4\")","v":1},null,null,null,{"$f":"COUNTIF(MU40:MU54, \">=4\")","v":2},null,null,null,{"$f":"COUNTIF(MY40:MY54, \">=4\")","v":1},null,null,null,{"$f":"COUNTIF(NC40:NC54, \">=4\")","v":1},null,null,null,{"$f":"COUNTIF(NG40:NG54, \">=4\")","v":1},null,null,null,{"$f":"COUNTIF(NK40:NK54, \">=4\")","v":1},null,null,null,{"$f":"COUNTIF(NO40:NO54, \">=4\")","v":2},null,null,null,{"$f":"COUNTIF(NS40:NS54, \">=4\")","v":1},null,null,null,{"$f":"COUNTIF(NW40:NW54, \">=4\")","v":1},null,null,null,{"$f":"COUNTIF(OA40:OA54, \">=4\")","v":1},null,null,null,{"$f":"COUNTIF(OE40:OE54, \">=4\")","v":1},null,null,null,{"$f":"COUNTIF(OI40:OI54, \">=4\")","v":1},null,null,null,{"$f":"COUNTIF(OM40:OM54, \">=4\")","v":1},null,null,null,{"$f":"COUNTIF(OQ40:OQ54, \">=4\")","v":1},null,null,null,{"$f":"COUNTIF(OU40:OU54, \">=4\")","v":1},null,null,null,{"$f":"COUNTIF(OY40:OY54, \">=4\")","v":2},null,null,null,{"$f":"COUNTIF(PC40:PC54, \">=4\")","v":1},null,null,null,{"$f":"COUNTIF(PG40:PG54, \">=4\")","v":1},null,null,null,{"$f":"COUNTIF(PK40:PK54, \">=4\")","v":0},null,null,null,{"$f":"COUNTIF(PO40:PO54, \">=4\")","v":2},null,null,null,{"$f":"COUNTIF(PS40:PS54, \">=4\")","v":0},null,null,null,{"$f":"COUNTIF(PW40:PW54, \">=4\")","v":2},null,null,null,{"$f":"COUNTIF(QA40:QA54, \">=4\")","v":0},null,null,null,{"$f":"COUNTIF(QE40:QE54, \">=4\")","v":0},null,null,null,{"$f":"COUNTIF(QI40:QI54, \">=4\")","v":1},null,null,null,{"$f":"COUNTIF(QM40:QM54, \">=4\")","v":1}]
[null,null,null,"Correct Results Total:",null,null,null,null,null,null,{"$f":"K63+K64","v":21},null,null,null,{"$f":"O63+O64","v":24},null,null,null,{"$f":"S63+S64","v":18},null,null,null,{"$f":"W63+W64","v":24},null,null,null,{"$f":"AA63+AA64","v":21},null,null,null,{"$f":"AE63+AE64","v":20},null,null,null,{"$f":"AI63+AI64","v":23},null,null,null,{"$f":"AM63+AM64","v":20},null,null,null,{"$f":"AQ63+AQ64","v":16},null,null,null,{"$f":"AU63+AU64","v":14},null,null,null,{"$f":"AY63+AY64","v":16},null,null,null,{"$f":"BC63+BC64","v":19},null,null,null,{"$f":"BG63+BG64","v":21},null,null,null,{"$f":"BK63+BK64","v":16},null,null,null,{"$f":"BO63+BO64","v":19},null,null,null,{"$f":"BS63+BS64","v":19},null,null,null,{"$f":"BW63+BW64","v":20},null,null,null,{"$f":"CA63+CA64","v":19},null,null,null,{"$f":"CE63+CE64","v":15},null,null,null,{"$f":"CI63+CI64","v":16},null,null,null,{"$f":"CM63+CM64","v":22},null,null,null,{"$f":"CQ63+CQ64","v":21},null,null,null,{"$f":"CU63+CU64","v":16},null,null,null,{"$f":"CY63+CY64","v":21},null,null,null,{"$f":"DC63+DC64","v":22},null,null,null,{"$f":"DG63+DG64","v":20},null,null,null,{"$f":"DK63+DK64","v":18},null,null,null,{"$f":"DO63+DO64","v":20},null,null,null,{"$f":"DS63+DS64","v":20},null,null,null,{"$f":"DW63+DW64","v":26},null,null,null,{"$f":"EA63+EA64","v":24},null,null,null,{"$f":"EE63+EE64","v":19},null,null,null,{"$f":"EI63+EI64","v":14},null,null,null,{"$f":"EM63+EM64","v":24},null,null,null,{"$f":"EQ63+EQ64","v":16},null,null,null,{"$f":"EU63+EU64","v":22},null,null,null,{"$f":"EY63+EY64","v":20},null,null,null,{"$f":"FC63+FC64","v":19},null,null,null,{"$f":"FG63+FG64","v":17},null,null,null,{"$f":"FK63+FK64","v":15},null,null,null,{"$f":"FO63+FO64","v":22},null,null,null,{"$f":"FS63+FS64","v":9},null,null,null,{"$f":"FW63+FW64","v":18},null,null,null,{"$f":"GA63+GA64","v":20},null,null,null,{"$f":"GE63+GE64","v":24},null,null,null,{"$f":"GI63+GI64","v":24},null,null,null,{"$f":"GM63+GM64","v":24},null,null,null,{"$f":"GQ63+GQ64","v":22},null,null,null,{"$f":"GU63+GU64","v":19},null,null,null,{"$f":"GY63+GY64","v":16},null,null,null,{"$f":"HC63+HC64","v":19},null,null,null,{"$f":"HG63+HG64","v":16},null,null,null,{"$f":"HK63+HK64","v":18},null,null,null,{"$f":"HO63+HO64","v":22},null,null,null,{"$f":"HS63+HS64","v":16},null,null,null,{"$f":"HW63+HW64","v":24},null,null,null,{"$f":"IA63+IA64","v":21},null,null,null,{"$f":"IE63+IE64","v":23},null,null,null,{"$f":"II63+II64","v":18},null,null,null,{"$f":"IM63+IM64","v":20},null,null,null,{"$f":"IQ63+IQ64","v":17},null,null,null,{"$f":"IU63+IU64","v":20},null,null,null,{"$f":"IY63+IY64","v":25},null,null,null,{"$f":"JC63+JC64","v":20},null,null,null,{"$f":"JG63+JG64","v":23},null,null,null,{"$f":"JK63+JK64","v":18},null,null,null,{"$f":"JO63+JO64","v":25},null,null,null,{"$f":"JS63+JS64","v":21},null,null,null,{"$f":"JW63+JW64","v":20},null,null,null,{"$f":"KA63+KA64","v":22},null,null,null,{"$f":"KE63+KE64","v":20},null,null,null,{"$f":"KI63+KI64","v":28},null,null,null,{"$f":"KM63+KM64","v":21},null,null,null,{"$f":"KQ63+KQ64","v":21},null,null,null,{"$f":"KU63+KU64","v":22},null,null,null,{"$f":"KY63+KY64","v":23},null,null,null,{"$f":"LC63+LC64","v":23},null,null,null,{"$f":"LG63+LG64","v":19},null,null,null,{"$f":"LK63+LK64","v":18},null,null,null,{"$f":"LO63+LO64","v":22},null,null,null,{"$f":"LS63+LS64","v":22},null,null,null,{"$f":"LW63+LW64","v":21},null,null,null,{"$f":"MA63+MA64","v":22},null,null,null,{"$f":"ME63+ME64","v":13},null,null,null,{"$f":"MI63+MI64","v":21},null,null,null,{"$f":"MM63+MM64","v":18},null,null,null,{"$f":"MQ63+MQ64","v":20},null,null,null,{"$f":"MU63+MU64","v":25},null,null,null,{"$f":"MY63+MY64","v":23},null,null,null,{"$f":"NC63+NC64","v":22},null,null,null,{"$f":"NG63+NG64","v":22},null,null,null,{"$f":"NK63+NK64","v":22},null,null,null,{"$f":"NO63+NO64","v":18},null,null,null,{"$f":"NS63+NS64","v":18},null,null,null,{"$f":"NW63+NW64","v":20},null,null,null,{"$f":"OA63+OA64","v":21},null,null,null,{"$f":"OE63+OE64","v":19},null,null,null,{"$f":"OI63+OI64","v":18},null,null,null,{"$f":"OM63+OM64","v":23},null,null,null,{"$f":"OQ63+OQ64","v":20},null,null,null,{"$f":"OU63+OU64","v":21},null,null,null,{"$f":"OY63+OY64","v":22},null,null,null,{"$f":"PC63+PC64","v":14},null,null,null,{"$f":"PG63+PG64","v":22},null,null,null,{"$f":"PK63+PK64","v":17},null,null,null,{"$f":"PO63+PO64","v":13},null,null,null,{"$f":"PS63+PS64","v":19},null,null,null,{"$f":"PW63+PW64","v":20},null,null,null,{"$f":"QA63+QA64","v":5},null,null,null,{"$f":"QE63+QE64","v":19},null,null,null,{"$f":"QI63+QI64","v":23},null,null,null,{"$f":"QM63+QM64","v":23}]
[]
[null,null,null,"Zeros Round 1:",null,null,null,null,null,null,{"$f":"COUNTIF(K3:K38, \"=0\")","v":12},null,null,null,{"$f":"COUNTIF(O3:O38, \"=0\")","v":9},null,null,null,{"$f":"COUNTIF(S3:S38, \"=0\")","v":11},null,null,null,{"$f":"COUNTIF(W3:W38, \"=0\")","v":7},null,null,null,{"$f":"COUNTIF(AA3:AA38, \"=0\")","v":9},null,null,null,{"$f":"COUNTIF(AE3:AE38, \"=0\")","v":11},null,null,null,{"$f":"COUNTIF(AI3:AI38, \"=0\")","v":9},null,null,null,{"$f":"COUNTIF(AM3:AM38, \"=0\")","v":8},null,null,null,{"$f":"COUNTIF(AQ3:AQ38, \"=0\")","v":11},null,null,null,{"$f":"COUNTIF(AU3:AU38, \"=0\")","v":9},null,null,null,{"$f":"COUNTIF(AY3:AY38, \"=0\")","v":11},null,null,null,{"$f":"COUNTIF(BC3:BC38, \"=0\")","v":10},null,null,null,{"$f":"COUNTIF(BG3:BG38, \"=0\")","v":8},null,null,null,{"$f":"COUNTIF(BK3:BK38, \"=0\")","v":6},null,null,null,{"$f":"COUNTIF(BO3:BO38, \"=0\")","v":14},null,null,null,{"$f":"COUNTIF(BS3:BS38, \"=0\")","v":9},null,null,null,{"$f":"COUNTIF(BW3:BW38, \"=0\")","v":11},null,null,null,{"$f":"COUNTIF(CA3:CA38, \"=0\")","v":10},null,null,null,{"$f":"COUNTIF(CE3:CE38, \"=0\")","v":11},null,null,null,{"$f":"COUNTIF(CI3:CI38, \"=0\")","v":11},null,null,null,{"$f":"COUNTIF(CM3:CM38, \"=0\")","v":8},null,null,null,{"$f":"COUNTIF(CQ3:CQ38, \"=0\")","v":10},null,null,null,{"$f":"COUNTIF(CU3:CU38, \"=0\")","v":11},null,null,null,{"$f":"COUNTIF(CY3:CY38, \"=0\")","v":11},null,null,null,{"$f":"COUNTIF(DC3:DC38, \"=0\")","v":7},null,null,null,{"$f":"COUNTIF(DG3:DG38, \"=0\")","v":7},null,null,null,{"$f":"COUNTIF(DK3:DK38, \"=0\")","v":7},null,null,null,{"$f":"COUNTIF(DO3:DO38, \"=0\")","v":7},null,null,null,{"$f":"COUNTIF(DS3:DS38, \"=0\")","v":7},null,null,null,{"$f":"COUNTIF(DW3:DW38, \"=0\")","v":5},null,null,null,{"$f":"COUNTIF(EA3:EA38, \"=0\")","v":7},null,null,null,{"$f":"COUNTIF(EE3:EE38, \"=0\")","v":10},null,null,null,{"$f":"COUNTIF(EI3:EI38, \"=0\")","v":8},null,null,null,{"$f":"COUNTIF(EM3:EM38, \"=0\")","v":4},null,null,null,{"$f":"COUNTIF(EQ3:EQ38, \"=0\")","v":10},null,null,null,{"$f":"COUNTIF(EU3:EU38, \"=0\")","v":10},null,null,null,{"$f":"COUNTIF(EY3:EY38, \"=0\")","v":6},null,null,null,{"$f":"COUNTIF(FC3:FC38, \"=0\")","v":11},null,null,null,{"$f":"COUNTIF(FG3:FG38, \"=0\")","v":10},null,null,null,{"$f":"COUNTIF(FK3:FK38, \"=0\")","v":13},null,null,null,{"$f":"COUNTIF(FO3:FO38, \"=0\")","v":5},null,null,null,{"$f":"COUNTIF(FS3:FS38, \"=0\")","v":18},null,null,null,{"$f":"COUNTIF(FW3:FW38, \"=0\")","v":12},null,null,null,{"$f":"COUNTIF(GA3:GA38, \"=0\")","v":11},null,null,null,{"$f":"COUNTIF(GE3:GE38, \"=0\")","v":5},null,null,null,{"$f":"COUNTIF(GI3:GI38, \"=0\")","v":4},null,null,null,{"$f":"COUNTIF(GM3:GM38, \"=0\")","v":10},null,null,null,{"$f":"COUNTIF(GQ3:GQ38, \"=0\")","v":12},null,null,null,{"$f":"COUNTIF(GU3:GU38, \"=0\")","v":11},null,null,null,{"$f":"COUNTIF(GY3:GY38, \"=0\")","v":9},null,null,null,{"$f":"COUNTIF(HC3:HC38, \"=0\")","v":8},null,null,null,{"$f":"COUNTIF(HG3:HG38, \"=0\")","v":10},null,null,null,{"$f":"COUNTIF(HK3:HK38, \"=0\")","v":10},null,null,null,{"$f":"COUNTIF(HO3:HO38, \"=0\")","v":6},null,null,null,{"$f":"COUNTIF(HS3:HS38, \"=0\")","v":12},null,null,null,{"$f":"COUNTIF(HW3:HW38, \"=0\")","v":6},null,null,null,{"$f":"COUNTIF(IA3:IA38, \"=0\")","v":9},null,null,null,{"$f":"COUNTIF(IE3:IE38, \"=0\")","v":6},null,null,null,{"$f":"COUNTIF(II3:II38, \"=0\")","v":7},null,null,null,{"$f":"COUNTIF(IM3:IM38, \"=0\")","v":12},null,null,null,{"$f":"COUNTIF(IQ3:IQ38, \"=0\")","v":12},null,null,null,{"$f":"COUNTIF(IU3:IU38, \"=0\")","v":8},null,null,null,{"$f":"COUNTIF(IY3:IY38, \"=0\")","v":7},null,null,null,{"$f":"COUNTIF(JC3:JC38, \"=0\")","v":5},null,null,null,{"$f":"COUNTIF(JG3:JG38, \"=0\")","v":7},null,null,null,{"$f":"COUNTIF(JK3:JK38, \"=0\")","v":11},null,null,null,{"$f":"COUNTIF(JO3:JO38, \"=0\")","v":4},null,null,null,{"$f":"COUNTIF(JS3:JS38, \"=0\")","v":7},null,null,null,{"$f":"COUNTIF(JW3:JW38, \"=0\")","v":7},null,null,null,{"$f":"COUNTIF(KA3:KA38, \"=0\")","v":3},null,null,null,{"$f":"COUNTIF(KE3:KE38, \"=0\")","v":8},null,null,null,{"$f":"COUNTIF(KI3:KI38, \"=0\")","v":5},null,null,null,{"$f":"COUNTIF(KM3:KM38, \"=0\")","v":7},null,null,null,{"$f":"COUNTIF(KQ3:KQ38, \"=0\")","v":8},null,null,null,{"$f":"COUNTIF(KU3:KU38, \"=0\")","v":8},null,null,null,{"$f":"COUNTIF(KY3:KY38, \"=0\")","v":8},null,null,null,{"$f":"COUNTIF(LC3:LC38, \"=0\")","v":9},null,null,null,{"$f":"COUNTIF(LG3:LG38, \"=0\")","v":8},null,null,null,{"$f":"COUNTIF(LK3:LK38, \"=0\")","v":8},null,null,null,{"$f":"COUNTIF(LO3:LO38, \"=0\")","v":7},null,null,null,{"$f":"COUNTIF(LS3:LS38, \"=0\")","v":6},null,null,null,{"$f":"COUNTIF(LW3:LW38, \"=0\")","v":4},null,null,null,{"$f":"COUNTIF(MA3:MA38, \"=0\")","v":10},null,null,null,{"$f":"COUNTIF(ME3:ME38, \"=0\")","v":12},null,null,null,{"$f":"COUNTIF(MI3:MI38, \"=0\")","v":8},null,null,null,{"$f":"COUNTIF(MM3:MM38, \"=0\")","v":8},null,null,null,{"$f":"COUNTIF(MQ3:MQ38, \"=0\")","v":7},null,null,null,{"$f":"COUNTIF(MU3:MU38, \"=0\")","v":6},null,null,null,{"$f":"COUNTIF(MY3:MY38, \"=0\")","v":6},null,null,null,{"$f":"COUNTIF(NC3:NC38, \"=0\")","v":9},null,null,null,{"$f":"COUNTIF(NG3:NG38, \"=0\")","v":9},null,null,null,{"$f":"COUNTIF(NK3:NK38, \"=0\")","v":4},null,null,null,{"$f":"COUNTIF(NO3:NO38, \"=0\")","v":13},null,null,null,{"$f":"COUNTIF(NS3:NS38, \"=0\")","v":9},null,null,null,{"$f":"COUNTIF(NW3:NW38, \"=0\")","v":8},null,null,null,{"$f":"COUNTIF(OA3:OA38, \"=0\")","v":9},null,null,null,{"$f":"COUNTIF(OE3:OE38, \"=0\")","v":10},null,null,null,{"$f":"COUNTIF(OI3:OI38, \"=0\")","v":7},null,null,null,{"$f":"COUNTIF(OM3:OM38, \"=0\")","v":8},null,null,null,{"$f":"COUNTIF(OQ3:OQ38, \"=0\")","v":6},null,null,null,{"$f":"COUNTIF(OU3:OU38, \"=0\")","v":8},null,null,null,{"$f":"COUNTIF(OY3:OY38, \"=0\")","v":6},null,null,null,{"$f":"COUNTIF(PC3:PC38, \"=0\")","v":9},null,null,null,{"$f":"COUNTIF(PG3:PG38, \"=0\")","v":8},null,null,null,{"$f":"COUNTIF(PK3:PK38, \"=0\")","v":8},null,null,null,{"$f":"COUNTIF(PO3:PO38, \"=0\")","v":17},null,null,null,{"$f":"COUNTIF(PS3:PS38, \"=0\")","v":6},null,null,null,{"$f":"COUNTIF(PW3:PW38, \"=0\")","v":10},null,null,null,{"$f":"COUNTIF(QA3:QA38, \"=0\")","v":19},null,null,null,{"$f":"COUNTIF(QE3:QE38, \"=0\")","v":7},null,null,null,{"$f":"COUNTIF(QI3:QI38, \"=0\")","v":9},null,null,null,{"$f":"COUNTIF(QM3:QM38, \"=0\")","v":3}]
[null,null,null,"Zeros Round 2:",null,null,null,null,null,null,{"$f":"COUNTIF(K40:K54, \"=0\")","v":0},null,null,null,{"$f":"COUNTIF(O40:O54, \"=0\")","v":0},null,null,null,{"$f":"COUNTIF(S40:S54, \"=0\")","v":1},null,null,null,{"$f":"COUNTIF(W40:W54, \"=0\")","v":1},null,null,null,{"$f":"COUNTIF(AA40:AA54, \"=0\")","v":1},null,null,null,{"$f":"COUNTIF(AE40:AE54, \"=0\")","v":0},null,null,null,{"$f":"COUNTIF(AI40:AI54, \"=0\")","v":0},null,null,null,{"$f":"COUNTIF(AM40:AM54, \"=0\")","v":1},null,null,null,{"$f":"COUNTIF(AQ40:AQ54, \"=0\")","v":0},null,null,null,{"$f":"COUNTIF(AU40:AU54, \"=0\")","v":1},null,null,null,{"$f":"COUNTIF(AY40:AY54, \"=0\")","v":0},null,null,null,{"$f":"COUNTIF(BC40:BC54, \"=0\")","v":0},null,null,null,{"$f":"COUNTIF(BG40:BG54, \"=0\")","v":0},null,null,null,{"$f":"COUNTIF(BK40:BK54, \"=0\")","v":1},null,null,null,{"$f":"COUNTIF(BO40:BO54, \"=0\")","v":0},null,null,null,{"$f":"COUNTIF(BS40:BS54, \"=0\")","v":0},null,null,null,{"$f":"COUNTIF(BW40:BW54, \"=0\")","v":0},null,null,null,{"$f":"COUNTIF(CA40:CA54, \"=0\")","v":1},null,null,null,{"$f":"COUNTIF(CE40:CE54, \"=0\")","v":0},null,null,null,{"$f":"COUNTIF(CI40:CI54, \"=0\")","v":0},null,null,null,{"$f":"COUNTIF(CM40:CM54, \"=0\")","v":1},null,null,null,{"$f":"COUNTIF(CQ40:CQ54, \"=0\")","v":0},null,null,null,{"$f":"COUNTIF(CU40:CU54, \"=0\")","v":1},null,null,null,{"$f":"COUNTIF(CY40:CY54, \"=0\")","v":1},null,null,null,{"$f":"COUNTIF(DC40:DC54, \"=0\")","v":0},null,null,null,{"$f":"COUNTIF(DG40:DG54, \"=0\")","v":1},null,null,null,{"$f":"COUNTIF(DK40:DK54, \"=0\")","v":1},null,null,null,{"$f":"COUNTIF(DO40:DO54, \"=0\")","v":0},null,null,null,{"$f":"COUNTIF(DS40:DS54, \"=0\")","v":0},null,null,null,{"$f":"COUNTIF(DW40:DW54, \"=0\")","v":0},null,null,null,{"$f":"COUNTIF(EA40:EA54, \"=0\")","v":0},null,null,null,{"$f":"COUNTIF(EE40:EE54, \"=0\")","v":0},null,null,null,{"$f":"COUNTIF(EI40:EI54, \"=0\")","v":1},null,null,null,{"$f":"COUNTIF(EM40:EM54, \"=0\")","v":0},null,null,null,{"$f":"COUNTIF(EQ40:EQ54, \"=0\")","v":0},null,null,null,{"$f":"COUNTIF(EU40:EU54, \"=0\")","v":0},null,null,null,{"$f":"COUNTIF(EY40:EY54, \"=0\")","v":1},null,null,null,{"$f":"COUNTIF(FC40:FC54, \"=0\")","v":1},null,null,null,{"$f":"COUNTIF(FG40:FG54, \"=0\")","v":1},null,null,null,{"$f":"COUNTIF(FK40:FK54, \"=0\")","v":1},null,null,null,{"$f":"COUNTIF(FO40:FO54, \"=0\")","v":0},null,null,null,{"$f":"COUNTIF(FS40:FS54, \"=0\")","v":1},null,null,null,{"$f":"COUNTIF(FW40:FW54, \"=0\")","v":0},null,null,null,{"$f":"COUNTIF(GA40:GA54, \"=0\")","v":1},null,null,null,{"$f":"COUNTIF(GE40:GE54, \"=0\")","v":0},null,null,null,{"$f":"COUNTIF(GI40:GI54, \"=0\")","v":1},null,null,null,{"$f":"COUNTIF(GM40:GM54, \"=0\")","v":0},null,null,null,{"$f":"COUNTIF(GQ40:GQ54, \"=0\")","v":1},null,null,null,{"$f":"COUNTIF(GU40:GU54, \"=0\")","v":0},null,null,null,{"$f":"COUNTIF(GY40:GY54, \"=0\")","v":1},null,null,null,{"$f":"COUNTIF(HC40:HC54, \"=0\")","v":1},null,null,null,{"$f":"COUNTIF(HG40:HG54, \"=0\")","v":2},null,null,null,{"$f":"COUNTIF(HK40:HK54, \"=0\")","v":0},null,null,null,{"$f":"COUNTIF(HO40:HO54, \"=0\")","v":0},null,null,null,{"$f":"COUNTIF(HS40:HS54, \"=0\")","v":1},null,null,null,{"$f":"COUNTIF(HW40:HW54, \"=0\")","v":0},null,null,null,{"$f":"COUNTIF(IA40:IA54, \"=0\")","v":1},null,null,null,{"$f":"COUNTIF(IE40:IE54, \"=0\")","v":0},null,null,null,{"$f":"COUNTIF(II40:II54, \"=0\")","v":0},null,null,null,{"$f":"COUNTIF(IM40:IM54, \"=0\")","v":2},null,null,null,{"$f":"COUNTIF(IQ40:IQ54, \"=0\")","v":1},null,null,null,{"$f":"COUNTIF(IU40:IU54, \"=0\")","v":2},null,null,null,{"$f":"COUNTIF(IY40:IY54, \"=0\")","v":0},null,null,null,{"$f":"COUNTIF(JC40:JC54, \"=0\")","v":0},null,null,null,{"$f":"COUNTIF(JG40:JG54, \"=0\")","v":0},null,null,null,{"$f":"COUNTIF(JK40:JK54, \"=0\")","v":1},null,null,null,{"$f":"COUNTIF(JO40:JO54, \"=0\")","v":0},null,null,null,{"$f":"COUNTIF(JS40:JS54, \"=0\")","v":0},null,null,null,{"$f":"COUNTIF(JW40:JW54, \"=0\")","v":1},null,null,null,{"$f":"COUNTIF(KA40:KA54, \"=0\")","v":0},null,null,null,{"$f":"COUNTIF(KE40:KE54, \"=0\")","v":1},null,null,null,{"$f":"COUNTIF(KI40:KI54, \"=0\")","v":0},null,null,null,{"$f":"COUNTIF(KM40:KM54, \"=0\")","v":1},null,null,null,{"$f":"COUNTIF(KQ40:KQ54, \"=0\")","v":1},null,null,null,{"$f":"COUNTIF(KU40:KU54, \"=0\")","v":0},null,null,null,{"$f":"COUNTIF(KY40:KY54, \"=0\")","v":0},null,null,null,{"$f":"COUNTIF(LC40:LC54, \"=0\")","v":0},null,null,null,{"$f":"COUNTIF(LG40:LG54, \"=0\")","v":1},null,null,null,{"$f":"COUNTIF(LK40:LK54, \"=0\")","v":1},null,null,null,{"$f":"COUNTIF(LO40:LO54, \"=0\")","v":1},null,null,null,{"$f":"COUNTIF(LS40:LS54, \"=0\")","v":0},null,null,null,{"$f":"COUNTIF(LW40:LW54, \"=0\")","v":1},null,null,null,{"$f":"COUNTIF(MA40:MA54, \"=0\")","v":0},null,null,null,{"$f":"COUNTIF(ME40:ME54, \"=0\")","v":1},null,null,null,{"$f":"COUNTIF(MI40:MI54, \"=0\")","v":1},null,null,null,{"$f":"COUNTIF(MM40:MM54, \"=0\")","v":1},null,null,null,{"$f":"COUNTIF(MQ40:MQ54, \"=0\")","v":1},null,null,null,{"$f":"COUNTIF(MU40:MU54, \"=0\")","v":0},null,null,null,{"$f":"COUNTIF(MY40:MY54, \"=0\")","v":1},null,null,null,{"$f":"COUNTIF(NC40:NC54, \"=0\")","v":1},null,null,null,{"$f":"COUNTIF(NG40:NG54, \"=0\")","v":1},null,null,null,{"$f":"COUNTIF(NK40:NK54, \"=0\")","v":1},null,null,null,{"$f":"COUNTIF(NO40:NO54, \"=0\")","v":0},null,null,null,{"$f":"COUNTIF(NS40:NS54, \"=0\")","v":1},null,null,null,{"$f":"COUNTIF(NW40:NW54, \"=0\")","v":1},null,null,null,{"$f":"COUNTIF(OA40:OA54, \"=0\")","v":1},null,null,null,{"$f":"COUNTIF(OE40:OE54, \"=0\")","v":1},null,null,null,{"$f":"COUNTIF(OI40:OI54, \"=0\")","v":1},null,null,null,{"$f":"COUNTIF(OM40:OM54, \"=0\")","v":1},null,null,null,{"$f":"COUNTIF(OQ40:OQ54, \"=0\")","v":1},null,null,null,{"$f":"COUNTIF(OU40:OU54, \"=0\")","v":1},null,null,null,{"$f":"COUNTIF(OY40:OY54, \"=0\")","v":0},null,null,null,{"$f":"COUNTIF(PC40:PC54, \"=0\")","v":1},null,null,null,{"$f":"COUNTIF(PG40:PG54, \"=0\")","v":1},null,null,null,{"$f":"COUNTIF(PK40:PK54, \"=0\")","v":1},null,null,null,{"$f":"COUNTIF(PO40:PO54, \"=0\")","v":0},null,null,null,{"$f":"COUNTIF(PS40:PS54, \"=0\")","v":2},null,null,null,{"$f":"COUNTIF(PW40:PW54, \"=0\")","v":0},null,null,null,{"$f":"COUNTIF(QA40:QA54, \"=0\")","v":1},null,null,null,{"$f":"COUNTIF(QE40:QE54, \"=0\")","v":2},null,null,null,{"$f":"COUNTIF(QI40:QI54, \"=0\")","v":1},null,null,null,{"$f":"COUNTIF(QM40:QM54, \"=0\")","v":1}]
[null,null,null,"Zeros Total:",null,null,null,null,null,null,{"$f":"K67+K68","v":12},null,null,null,{"$f":"O67+O68","v":9},null,null,null,{"$f":"S67+S68","v":12},null,null,null,{"$f":"W67+W68","v":8},null,null,null,{"$f":"AA67+AA68","v":10},null,null,null,{"$f":"AE67+AE68","v":11},null,null,null,{"$f":"AI67+AI68","v":9},null,null,null,{"$f":"AM67+AM68","v":9},null,null,null,{"$f":"AQ67+AQ68","v":11},null,null,null,{"$f":"AU67+AU68","v":10},null,null,null,{"$f":"AY67+AY68","v":11},null,null,null,{"$f":"BC67+BC68","v":10},null,null,null,{"$f":"BG67+BG68","v":8},null,null,null,{"$f":"BK67+BK68","v":7},null,null,null,{"$f":"BO67+BO68","v":14},null,null,null,{"$f":"BS67+BS68","v":9},null,null,null,{"$f":"BW67+BW68","v":11},null,null,null,{"$f":"CA67+CA68","v":11},null,null,null,{"$f":"CE67+CE68","v":11},null,null,null,{"$f":"CI67+CI68","v":11},null,null,null,{"$f":"CM67+CM68","v":9},null,null,null,{"$f":"CQ67+CQ68","v":10},null,null,null,{"$f":"CU67+CU68","v":12},null,null,null,{"$f":"CY67+CY68","v":12},null,null,null,{"$f":"DC67+DC68","v":7},null,null,null,{"$f":"DG67+DG68","v":8},null,null,null,{"$f":"DK67+DK68","v":8},null,null,null,{"$f":"DO67+DO68","v":7},null,null,null,{"$f":"DS67+DS68","v":7},null,null,null,{"$f":"DW67+DW68","v":5},null,null,null,{"$f":"EA67+EA68","v":7},null,null,null,{"$f":"EE67+EE68","v":10},null,null,null,{"$f":"EI67+EI68","v":9},null,null,null,{"$f":"EM67+EM68","v":4},null,null,null,{"$f":"EQ67+EQ68","v":10},null,null,null,{"$f":"EU67+EU68","v":10},null,null,null,{"$f":"EY67+EY68","v":7},null,null,null,{"$f":"FC67+FC68","v":12},null,null,null,{"$f":"FG67+FG68","v":11},null,null,null,{"$f":"FK67+FK68","v":14},null,null,null,{"$f":"FO67+FO68","v":5},null,null,null,{"$f":"FS67+FS68","v":19},null,null,null,{"$f":"FW67+FW68","v":12},null,null,null,{"$f":"GA67+GA68","v":12},null,null,null,{"$f":"GE67+GE68","v":5},null,null,null,{"$f":"GI67+GI68","v":5},null,null,null,{"$f":"GM67+GM68","v":10},null,null,null,{"$f":"GQ67+GQ68","v":13},null,null,null,{"$f":"GU67+GU68","v":11},null,null,null,{"$f":"GY67+GY68","v":10},null,null,null,{"$f":"HC67+HC68","v":9},null,null,null,{"$f":"HG67+HG68","v":12},null,null,null,{"$f":"HK67+HK68","v":10},null,null,null,{"$f":"HO67+HO68","v":6},null,null,null,{"$f":"HS67+HS68","v":13},null,null,null,{"$f":"HW67+HW68","v":6},null,null,null,{"$f":"IA67+IA68","v":10},null,null,null,{"$f":"IE67+IE68","v":6},null,null,null,{"$f":"II67+II68","v":7},null,null,null,{"$f":"IM67+IM68","v":14},null,null,null,{"$f":"IQ67+IQ68","v":13},null,null,null,{"$f":"IU67+IU68","v":10},null,null,null,{"$f":"IY67+IY68","v":7},null,null,null,{"$f":"JC67+JC68","v":5},null,null,null,{"$f":"JG67+JG68","v":7},null,null,null,{"$f":"JK67+JK68","v":12},null,null,null,{"$f":"JO67+JO68","v":4},null,null,null,{"$f":"JS67+JS68","v":7},null,null,null,{"$f":"JW67+JW68","v":8},null,null,null,{"$f":"KA67+KA68","v":3},null,null,null,{"$f":"KE67+KE68","v":9},null,null,null,{"$f":"KI67+KI68","v":5},null,null,null,{"$f":"KM67+KM68","v":8},null,null,null,{"$f":"KQ67+KQ68","v":9},null,null,null,{"$f":"KU67+KU68","v":8},null,null,null,{"$f":"KY67+KY68","v":8},null,null,null,{"$f":"LC67+LC68","v":9},null,null,null,{"$f":"LG67+LG68","v":9},null,null,null,{"$f":"LK67+LK68","v":9},null,null,null,{"$f":"LO67+LO68","v":8},null,null,null,{"$f":"LS67+LS68","v":6},null,null,null,{"$f":"LW67+LW68","v":5},null,null,null,{"$f":"MA67+MA68","v":10},null,null,null,{"$f":"ME67+ME68","v":13},null,null,null,{"$f":"MI67+MI68","v":9},null,null,null,{"$f":"MM67+MM68","v":9},null,null,null,{"$f":"MQ67+MQ68","v":8},null,null,null,{"$f":"MU67+MU68","v":6},null,null,null,{"$f":"MY67+MY68","v":7},null,null,null,{"$f":"NC67+NC68","v":10},null,null,null,{"$f":"NG67+NG68","v":10},null,null,null,{"$f":"NK67+NK68","v":5},null,null,null,{"$f":"NO67+NO68","v":13},null,null,null,{"$f":"NS67+NS68","v":10},null,null,null,{"$f":"NW67+NW68","v":9},null,null,null,{"$f":"OA67+OA68","v":10},null,null,null,{"$f":"OE67+OE68","v":11},null,null,null,{"$f":"OI67+OI68","v":8},null,null,null,{"$f":"OM67+OM68","v":9},null,null,null,{"$f":"OQ67+OQ68","v":7},null,null,null,{"$f":"OU67+OU68","v":9},null,null,null,{"$f":"OY67+OY68","v":6},null,null,null,{"$f":"PC67+PC68","v":10},null,null,null,{"$f":"PG67+PG68","v":9},null,null,null,{"$f":"PK67+PK68","v":9},null,null,null,{"$f":"PO67+PO68","v":17},null,null,null,{"$f":"PS67+PS68","v":8},null,null,null,{"$f":"PW67+PW68","v":10},null,null,null,{"$f":"QA67+QA68","v":20},null,null,null,{"$f":"QE67+QE68","v":9},null,null,null,{"$f":"QI67+QI68","v":10},null,null,null,{"$f":"QM67+QM68","v":4}]